BEGIN:VCALENDAR
VERSION:2.0
PRODID:-//Yi Champions Taekwondo Academy - ECPv6.15.13//NONSGML v1.0//EN
CALSCALE:GREGORIAN
METHOD:PUBLISH
X-ORIGINAL-URL:https://www.yctaekwondo.com
X-WR-CALDESC:Events for Yi Champions Taekwondo Academy
REFRESH-INTERVAL;VALUE=DURATION:PT1H
X-Robots-Tag:noindex
X-PUBLISHED-TTL:PT1H
BEGIN:VTIMEZONE
TZID:America/New_York
BEGIN:DAYLIGHT
TZOFFSETFROM:-0500
TZOFFSETTO:-0400
TZNAME:EDT
DTSTART:20220313T070000
END:DAYLIGHT
BEGIN:STANDARD
TZOFFSETFROM:-0400
TZOFFSETTO:-0500
TZNAME:EST
DTSTART:20221106T060000
END:STANDARD
BEGIN:DAYLIGHT
TZOFFSETFROM:-0500
TZOFFSETTO:-0400
TZNAME:EDT
DTSTART:20230312T070000
END:DAYLIGHT
BEGIN:STANDARD
TZOFFSETFROM:-0400
TZOFFSETTO:-0500
TZNAME:EST
DTSTART:20231105T060000
END:STANDARD
BEGIN:DAYLIGHT
TZOFFSETFROM:-0500
TZOFFSETTO:-0400
TZNAME:EDT
DTSTART:20240310T070000
END:DAYLIGHT
BEGIN:STANDARD
TZOFFSETFROM:-0400
TZOFFSETTO:-0500
TZNAME:EST
DTSTART:20241103T060000
END:STANDARD
END:VTIMEZONE
BEGIN:VEVENT
DTSTART;TZID=America/New_York:20230130T080000
DTEND;TZID=America/New_York:20230130T183000
DTSTAMP:20260424T120512
CREATED:20230102T211713Z
LAST-MODIFIED:20231014T225011Z
UID:4272-1675065600-1675103400@www.yctaekwondo.com
SUMMARY:Fun Day Daily Camp -No School Day
DESCRIPTION:Due to Teacher professional Development/workday – No School \nYCTA offer a fun day daily camp  \nIncluding TKD morning training\, Team work activates or field trip out side    \nDrop off hours :  7:45am-10am \nPick up hours :4 pm – 6:30pm \nRegistration via email \,calling or stop by the office
URL:https://www.yctaekwondo.com/event/fun-day-daily-camp-no-school-day/
CATEGORIES:Mapledale Plaza
END:VEVENT
END:VCALENDAR