BEGIN:VCALENDAR
VERSION:2.0
PRODID:-//Yi Champions Taekwondo Academy - ECPv6.15.13//NONSGML v1.0//EN
CALSCALE:GREGORIAN
METHOD:PUBLISH
X-WR-CALNAME:Yi Champions Taekwondo Academy
X-ORIGINAL-URL:https://www.yctaekwondo.com
X-WR-CALDESC:Events for Yi Champions Taekwondo Academy
REFRESH-INTERVAL;VALUE=DURATION:PT1H
X-Robots-Tag:noindex
X-PUBLISHED-TTL:PT1H
BEGIN:VTIMEZONE
TZID:America/New_York
BEGIN:DAYLIGHT
TZOFFSETFROM:-0500
TZOFFSETTO:-0400
TZNAME:EDT
DTSTART:20220313T070000
END:DAYLIGHT
BEGIN:STANDARD
TZOFFSETFROM:-0400
TZOFFSETTO:-0500
TZNAME:EST
DTSTART:20221106T060000
END:STANDARD
BEGIN:DAYLIGHT
TZOFFSETFROM:-0500
TZOFFSETTO:-0400
TZNAME:EDT
DTSTART:20230312T070000
END:DAYLIGHT
BEGIN:STANDARD
TZOFFSETFROM:-0400
TZOFFSETTO:-0500
TZNAME:EST
DTSTART:20231105T060000
END:STANDARD
BEGIN:DAYLIGHT
TZOFFSETFROM:-0500
TZOFFSETTO:-0400
TZNAME:EDT
DTSTART:20240310T070000
END:DAYLIGHT
BEGIN:STANDARD
TZOFFSETFROM:-0400
TZOFFSETTO:-0500
TZNAME:EST
DTSTART:20241103T060000
END:STANDARD
END:VTIMEZONE
BEGIN:VEVENT
DTSTART;TZID=America/New_York:20230318T160000
DTEND;TZID=America/New_York:20230318T193000
DTSTAMP:20260424T101817
CREATED:20200116T213707Z
LAST-MODIFIED:20231014T225010Z
UID:3686-1679155200-1679167800@www.yctaekwondo.com
SUMMARY:Spring Season Nerf War& Parents Night Out
DESCRIPTION:Drop off : from3:50pm \nPick up :from 7:20pm (No later than 7:30pm) \nEvent Hours: from 4pm to 7:30pm \nBring- your own nerf gun\, protective glasses and positive attitude \nTo wear-any of YCTA T-Shirt top\, and PJ pants. \nYCTA provide pizza\, drinks and snacks \n  \n*Schedule may be subject to change* 
URL:https://www.yctaekwondo.com/event/spring-season-nerf-gun-movie-night/
CATEGORIES:Mapledale Plaza
END:VEVENT
END:VCALENDAR