BEGIN:VCALENDAR
VERSION:2.0
PRODID:-//Yi Champions Taekwondo Academy - ECPv6.15.13//NONSGML v1.0//EN
CALSCALE:GREGORIAN
METHOD:PUBLISH
X-WR-CALNAME:Yi Champions Taekwondo Academy
X-ORIGINAL-URL:https://www.yctaekwondo.com
X-WR-CALDESC:Events for Yi Champions Taekwondo Academy
REFRESH-INTERVAL;VALUE=DURATION:PT1H
X-Robots-Tag:noindex
X-PUBLISHED-TTL:PT1H
BEGIN:VTIMEZONE
TZID:America/New_York
BEGIN:DAYLIGHT
TZOFFSETFROM:-0500
TZOFFSETTO:-0400
TZNAME:EDT
DTSTART:20220313T070000
END:DAYLIGHT
BEGIN:STANDARD
TZOFFSETFROM:-0400
TZOFFSETTO:-0500
TZNAME:EST
DTSTART:20221106T060000
END:STANDARD
BEGIN:DAYLIGHT
TZOFFSETFROM:-0500
TZOFFSETTO:-0400
TZNAME:EDT
DTSTART:20230312T070000
END:DAYLIGHT
BEGIN:STANDARD
TZOFFSETFROM:-0400
TZOFFSETTO:-0500
TZNAME:EST
DTSTART:20231105T060000
END:STANDARD
BEGIN:DAYLIGHT
TZOFFSETFROM:-0500
TZOFFSETTO:-0400
TZNAME:EDT
DTSTART:20240310T070000
END:DAYLIGHT
BEGIN:STANDARD
TZOFFSETFROM:-0400
TZOFFSETTO:-0500
TZNAME:EST
DTSTART:20241103T060000
END:STANDARD
END:VTIMEZONE
BEGIN:VEVENT
DTSTART;TZID=America/New_York:20230422T093000
DTEND;TZID=America/New_York:20230422T120000
DTSTAMP:20260424T084537
CREATED:20210116T213329Z
LAST-MODIFIED:20231014T224953Z
UID:3911-1682155800-1682164800@www.yctaekwondo.com
SUMMARY:All Ranks Belt Ceremony\, Potluck Lunch & TKD Demonstration by2023 Demo Team
DESCRIPTION:To start Belt ceremony from @9:45am to 12:00pm \nWe will do belt ceremony by the rank and International Potluck Lunch together right after belt ceremony. \nTaekwondo Demonstration by 2023 Demo Team \nPlease look for the sign up sheet at the front door side what other people will bring foods (main dishes\, dessert or beverages) \n 
URL:https://www.yctaekwondo.com/event/all-ranks-belt-ceremony-tkd-demonstration-by-demo-team/
CATEGORIES:Mapledale Plaza
END:VEVENT
END:VCALENDAR