BEGIN:VCALENDAR
VERSION:2.0
PRODID:-//Yi Champions Taekwondo Academy - ECPv6.15.13//NONSGML v1.0//EN
CALSCALE:GREGORIAN
METHOD:PUBLISH
X-ORIGINAL-URL:https://www.yctaekwondo.com
X-WR-CALDESC:Events for Yi Champions Taekwondo Academy
REFRESH-INTERVAL;VALUE=DURATION:PT1H
X-Robots-Tag:noindex
X-PUBLISHED-TTL:PT1H
BEGIN:VTIMEZONE
TZID:America/New_York
BEGIN:DAYLIGHT
TZOFFSETFROM:-0500
TZOFFSETTO:-0400
TZNAME:EDT
DTSTART:20250309T070000
END:DAYLIGHT
BEGIN:STANDARD
TZOFFSETFROM:-0400
TZOFFSETTO:-0500
TZNAME:EST
DTSTART:20251102T060000
END:STANDARD
BEGIN:DAYLIGHT
TZOFFSETFROM:-0500
TZOFFSETTO:-0400
TZNAME:EDT
DTSTART:20260308T070000
END:DAYLIGHT
BEGIN:STANDARD
TZOFFSETFROM:-0400
TZOFFSETTO:-0500
TZNAME:EST
DTSTART:20261101T060000
END:STANDARD
BEGIN:DAYLIGHT
TZOFFSETFROM:-0500
TZOFFSETTO:-0400
TZNAME:EDT
DTSTART:20270314T070000
END:DAYLIGHT
BEGIN:STANDARD
TZOFFSETFROM:-0400
TZOFFSETTO:-0500
TZNAME:EST
DTSTART:20271107T060000
END:STANDARD
END:VTIMEZONE
BEGIN:VEVENT
DTSTART;TZID=America/New_York:20260307T090000
DTEND;TZID=America/New_York:20260307T090000
DTSTAMP:20260420T041911
CREATED:20260130T212844Z
LAST-MODIFIED:20260131T023818Z
UID:5996-1772874000-1772874000@www.yctaekwondo.com
SUMMARY:Next Black Belt Exam -Running Test (47th B.B Group)
DESCRIPTION:Running Test is requirement for next Black Belt Exam in March \n@9:20am
URL:https://www.yctaekwondo.com/event/next-black-belt-exam-running-test-47th-b-b-group/
CATEGORIES:Mapledale Plaza
END:VEVENT
END:VCALENDAR