BEGIN:VCALENDAR
VERSION:2.0
PRODID:-//Yi Champions Taekwondo Academy - ECPv6.15.13//NONSGML v1.0//EN
CALSCALE:GREGORIAN
METHOD:PUBLISH
X-WR-CALNAME:Yi Champions Taekwondo Academy
X-ORIGINAL-URL:https://www.yctaekwondo.com
X-WR-CALDESC:Events for Yi Champions Taekwondo Academy
REFRESH-INTERVAL;VALUE=DURATION:PT1H
X-Robots-Tag:noindex
X-PUBLISHED-TTL:PT1H
BEGIN:VTIMEZONE
TZID:America/New_York
BEGIN:DAYLIGHT
TZOFFSETFROM:-0500
TZOFFSETTO:-0400
TZNAME:EDT
DTSTART:20250309T070000
END:DAYLIGHT
BEGIN:STANDARD
TZOFFSETFROM:-0400
TZOFFSETTO:-0500
TZNAME:EST
DTSTART:20251102T060000
END:STANDARD
BEGIN:DAYLIGHT
TZOFFSETFROM:-0500
TZOFFSETTO:-0400
TZNAME:EDT
DTSTART:20260308T070000
END:DAYLIGHT
BEGIN:STANDARD
TZOFFSETFROM:-0400
TZOFFSETTO:-0500
TZNAME:EST
DTSTART:20261101T060000
END:STANDARD
BEGIN:DAYLIGHT
TZOFFSETFROM:-0500
TZOFFSETTO:-0400
TZNAME:EDT
DTSTART:20270314T070000
END:DAYLIGHT
BEGIN:STANDARD
TZOFFSETFROM:-0400
TZOFFSETTO:-0500
TZNAME:EST
DTSTART:20271107T060000
END:STANDARD
END:VTIMEZONE
BEGIN:VEVENT
DTSTART;VALUE=DATE:20260101
DTEND;VALUE=DATE:20260104
DTSTAMP:20260422T082308
CREATED:20251108T172517Z
LAST-MODIFIED:20251108T172517Z
UID:5926-1767225600-1767484799@www.yctaekwondo.com
SUMMARY:Dojang will be closed (New Years - Happy 2026)
DESCRIPTION:
URL:https://www.yctaekwondo.com/event/dojang-will-be-closed-new-years-happy-2026/
CATEGORIES:Manassas Park,Mapledale Plaza
END:VEVENT
BEGIN:VEVENT
DTSTART;VALUE=DATE:20260124
DTEND;VALUE=DATE:20260125
DTSTAMP:20260422T082308
CREATED:20250115T034631Z
LAST-MODIFIED:20251215T182319Z
UID:5329-1769212800-1769299199@www.yctaekwondo.com
SUMMARY:2026 YCTA Inner School Championships at YCTA
DESCRIPTION:Starts at 9am \n*** All Competitors Report Time – 8:50am**
URL:https://www.yctaekwondo.com/event/2025-ycta-inner-school-championships-at-ycta/
CATEGORIES:Manassas Park,Mapledale Plaza
END:VEVENT
END:VCALENDAR