BEGIN:VCALENDAR
VERSION:2.0
PRODID:-//Yi Champions Taekwondo Academy - ECPv6.15.13//NONSGML v1.0//EN
CALSCALE:GREGORIAN
METHOD:PUBLISH
X-WR-CALNAME:Yi Champions Taekwondo Academy
X-ORIGINAL-URL:https://www.yctaekwondo.com
X-WR-CALDESC:Events for Yi Champions Taekwondo Academy
REFRESH-INTERVAL;VALUE=DURATION:PT1H
X-Robots-Tag:noindex
X-PUBLISHED-TTL:PT1H
BEGIN:VTIMEZONE
TZID:America/New_York
BEGIN:DAYLIGHT
TZOFFSETFROM:-0500
TZOFFSETTO:-0400
TZNAME:EDT
DTSTART:20250309T070000
END:DAYLIGHT
BEGIN:STANDARD
TZOFFSETFROM:-0400
TZOFFSETTO:-0500
TZNAME:EST
DTSTART:20251102T060000
END:STANDARD
BEGIN:DAYLIGHT
TZOFFSETFROM:-0500
TZOFFSETTO:-0400
TZNAME:EDT
DTSTART:20260308T070000
END:DAYLIGHT
BEGIN:STANDARD
TZOFFSETFROM:-0400
TZOFFSETTO:-0500
TZNAME:EST
DTSTART:20261101T060000
END:STANDARD
BEGIN:DAYLIGHT
TZOFFSETFROM:-0500
TZOFFSETTO:-0400
TZNAME:EDT
DTSTART:20270314T070000
END:DAYLIGHT
BEGIN:STANDARD
TZOFFSETFROM:-0400
TZOFFSETTO:-0500
TZNAME:EST
DTSTART:20271107T060000
END:STANDARD
END:VTIMEZONE
BEGIN:VEVENT
DTSTART;VALUE=DATE:20260309
DTEND;VALUE=DATE:20260310
DTSTAMP:20260422T050205
CREATED:20260131T024111Z
LAST-MODIFIED:20260131T024111Z
UID:6005-1773014400-1773100799@www.yctaekwondo.com
SUMMARY:Early Bird Registration OPEN 2026 Summer Camp
DESCRIPTION:
URL:https://www.yctaekwondo.com/event/early-bird-registration-open-2026-summer-camp/
CATEGORIES:Manassas Park,Mapledale Plaza
END:VEVENT
BEGIN:VEVENT
DTSTART;TZID=America/New_York:20260313T182000
DTEND;TZID=America/New_York:20260313T203000
DTSTAMP:20260422T050205
CREATED:20260130T213901Z
LAST-MODIFIED:20260221T192840Z
UID:5998-1773426000-1773433800@www.yctaekwondo.com
SUMMARY:7th Black Belt Group Exam
DESCRIPTION:Black Belt Group Exam (Bo Dan to High Dan) \nat 6:20pm \nBring own your sparring set and Nun-chucks
URL:https://www.yctaekwondo.com/event/7th-black-belt-group-exam-2/
CATEGORIES:Manassas Park
END:VEVENT
BEGIN:VEVENT
DTSTART;VALUE=DATE:20260330
DTEND;VALUE=DATE:20260407
DTSTAMP:20260422T050205
CREATED:20260131T024451Z
LAST-MODIFIED:20260131T024451Z
UID:6011-1774828800-1775519999@www.yctaekwondo.com
SUMMARY:Spring Camp
DESCRIPTION:
URL:https://www.yctaekwondo.com/event/spring-camp-2/
CATEGORIES:Manassas Park,Mapledale Plaza
END:VEVENT
END:VCALENDAR