BEGIN:VCALENDAR
VERSION:2.0
PRODID:-//Yi Champions Taekwondo Academy - ECPv6.15.13//NONSGML v1.0//EN
CALSCALE:GREGORIAN
METHOD:PUBLISH
X-WR-CALNAME:Yi Champions Taekwondo Academy
X-ORIGINAL-URL:https://www.yctaekwondo.com
X-WR-CALDESC:Events for Yi Champions Taekwondo Academy
REFRESH-INTERVAL;VALUE=DURATION:PT1H
X-Robots-Tag:noindex
X-PUBLISHED-TTL:PT1H
BEGIN:VTIMEZONE
TZID:America/New_York
BEGIN:DAYLIGHT
TZOFFSETFROM:-0500
TZOFFSETTO:-0400
TZNAME:EDT
DTSTART:20240310T070000
END:DAYLIGHT
BEGIN:STANDARD
TZOFFSETFROM:-0400
TZOFFSETTO:-0500
TZNAME:EST
DTSTART:20241103T060000
END:STANDARD
BEGIN:DAYLIGHT
TZOFFSETFROM:-0500
TZOFFSETTO:-0400
TZNAME:EDT
DTSTART:20250309T070000
END:DAYLIGHT
BEGIN:STANDARD
TZOFFSETFROM:-0400
TZOFFSETTO:-0500
TZNAME:EST
DTSTART:20251102T060000
END:STANDARD
BEGIN:DAYLIGHT
TZOFFSETFROM:-0500
TZOFFSETTO:-0400
TZNAME:EDT
DTSTART:20260308T070000
END:DAYLIGHT
BEGIN:STANDARD
TZOFFSETFROM:-0400
TZOFFSETTO:-0500
TZNAME:EST
DTSTART:20261101T060000
END:STANDARD
END:VTIMEZONE
BEGIN:VEVENT
DTSTART;VALUE=DATE:20250131
DTEND;VALUE=DATE:20250201
DTSTAMP:20260423T055303
CREATED:20250115T134802Z
LAST-MODIFIED:20250115T134802Z
UID:5355-1738281600-1738367999@www.yctaekwondo.com
SUMMARY:4th Next 1st Dan Black Belt Group - Preliminary Exam (Bo Dan Group)
DESCRIPTION:
URL:https://www.yctaekwondo.com/event/4th-next-1st-dan-black-belt-group-preliminary-exam-bo-dan-group/
CATEGORIES:Manassas Park
END:VEVENT
BEGIN:VEVENT
DTSTART;VALUE=DATE:20250212
DTEND;VALUE=DATE:20250214
DTSTAMP:20260423T055303
CREATED:20250115T134918Z
LAST-MODIFIED:20250115T134918Z
UID:5357-1739318400-1739491199@www.yctaekwondo.com
SUMMARY:All Color Belts Exam
DESCRIPTION:
URL:https://www.yctaekwondo.com/event/all-color-belts-exam-10/
CATEGORIES:Manassas Park
END:VEVENT
BEGIN:VEVENT
DTSTART;VALUE=DATE:20250301
DTEND;VALUE=DATE:20250302
DTSTAMP:20260423T055303
CREATED:20250115T135232Z
LAST-MODIFIED:20250220T060510Z
UID:5361-1740787200-1740873599@www.yctaekwondo.com
SUMMARY:Black Belt Group Running Test
DESCRIPTION:
URL:https://www.yctaekwondo.com/event/black-belt-group-running-test-4/
CATEGORIES:Manassas Park
END:VEVENT
BEGIN:VEVENT
DTSTART;VALUE=DATE:20250303
DTEND;VALUE=DATE:20250304
DTSTAMP:20260423T055303
CREATED:20250115T134057Z
LAST-MODIFIED:20250115T134057Z
UID:5343-1740960000-1741046399@www.yctaekwondo.com
SUMMARY:Early Bird Registration for 2025 Summer Camp Program
DESCRIPTION:
URL:https://www.yctaekwondo.com/event/early-bird-registration-for-2025-summer-camp-program/
CATEGORIES:Manassas Park,Mapledale Plaza
END:VEVENT
BEGIN:VEVENT
DTSTART;VALUE=DATE:20250405
DTEND;VALUE=DATE:20250406
DTSTAMP:20260423T055303
CREATED:20250315T041046Z
LAST-MODIFIED:20250315T041046Z
UID:5490-1743811200-1743897599@www.yctaekwondo.com
SUMMARY:2025 Spring Season Nerf War
DESCRIPTION:
URL:https://www.yctaekwondo.com/event/2025-spring-season-nerf-war-2/
CATEGORIES:Manassas Park
END:VEVENT
BEGIN:VEVENT
DTSTART;VALUE=DATE:20250408
DTEND;VALUE=DATE:20250410
DTSTAMP:20260423T055303
CREATED:20250220T061037Z
LAST-MODIFIED:20250312T014718Z
UID:5399-1744070400-1744243199@www.yctaekwondo.com
SUMMARY:All Color Belts Exam
DESCRIPTION:**Belt Ceremony will be held right after the exam**
URL:https://www.yctaekwondo.com/event/all-color-belts-exam-11/
CATEGORIES:Manassas Park
END:VEVENT
BEGIN:VEVENT
DTSTART;VALUE=DATE:20250414
DTEND;VALUE=DATE:20250419
DTSTAMP:20260423T055303
CREATED:20250124T014739Z
LAST-MODIFIED:20250124T014739Z
UID:5387-1744588800-1745020799@www.yctaekwondo.com
SUMMARY:Spring Break
DESCRIPTION:
URL:https://www.yctaekwondo.com/event/spring-break/
CATEGORIES:Manassas Park,Mapledale Plaza
END:VEVENT
BEGIN:VEVENT
DTSTART;VALUE=DATE:20250419
DTEND;VALUE=DATE:20250420
DTSTAMP:20260423T055303
CREATED:20250220T061301Z
LAST-MODIFIED:20250220T061301Z
UID:5406-1745020800-1745107199@www.yctaekwondo.com
SUMMARY:DoJang (YCTA)will be closed (Happy Easter!)
DESCRIPTION:YCTA will be closed – No make up class  \n  \nHappy Easter!
URL:https://www.yctaekwondo.com/event/dojang-yctawill-be-closed-happy-easter/
CATEGORIES:Manassas Park,Mapledale Plaza
END:VEVENT
BEGIN:VEVENT
DTSTART;VALUE=DATE:20250426
DTEND;VALUE=DATE:20250427
DTSTAMP:20260423T055303
CREATED:20250220T061417Z
LAST-MODIFIED:20250220T061417Z
UID:5408-1745625600-1745711999@www.yctaekwondo.com
SUMMARY:2025 Hanmadang Championship @ Winchester
DESCRIPTION:YCTA Members will be participating in Breaking and Forms
URL:https://www.yctaekwondo.com/event/2025-hanmadang-championship-winchester/
CATEGORIES:Manassas Park,Mapledale Plaza
END:VEVENT
BEGIN:VEVENT
DTSTART;VALUE=DATE:20250428
DTEND;VALUE=DATE:20250511
DTSTAMP:20260423T055303
CREATED:20250315T044038Z
LAST-MODIFIED:20250604T014655Z
UID:5523-1745798400-1746921599@www.yctaekwondo.com
SUMMARY:Mother's Day Special Classes for 2 weeks
DESCRIPTION:Free Classes available for ALL parents for Mother’s Day Special! 
URL:https://www.yctaekwondo.com/event/mothers-day-special-classes-for-2-weeks-2/
CATEGORIES:Manassas Park,Mapledale Plaza
END:VEVENT
BEGIN:VEVENT
DTSTART;VALUE=DATE:20250503
DTEND;VALUE=DATE:20250504
DTSTAMP:20260423T055303
CREATED:20250312T015431Z
LAST-MODIFIED:20250312T015431Z
UID:5419-1746230400-1746316799@www.yctaekwondo.com
SUMMARY:KTA Tournament
DESCRIPTION:YCTA will be participating in KTA Tournament! \n**No Make up classes **
URL:https://www.yctaekwondo.com/event/kta-tournament/
CATEGORIES:Manassas Park,Mapledale Plaza
END:VEVENT
BEGIN:VEVENT
DTSTART;VALUE=DATE:20250505
DTEND;VALUE=DATE:20250510
DTSTAMP:20260423T055303
CREATED:20250604T014451Z
LAST-MODIFIED:20250604T014451Z
UID:5553-1746403200-1746835199@www.yctaekwondo.com
SUMMARY:Buddy Week
DESCRIPTION:
URL:https://www.yctaekwondo.com/event/buddy-week-5/
CATEGORIES:Manassas Park,Mapledale Plaza
END:VEVENT
BEGIN:VEVENT
DTSTART;VALUE=DATE:20250518
DTEND;VALUE=DATE:20250519
DTSTAMP:20260423T055303
CREATED:20250312T015955Z
LAST-MODIFIED:20250312T015955Z
UID:5424-1747526400-1747612799@www.yctaekwondo.com
SUMMARY:Taekwondo Event at Washington DC
DESCRIPTION:
URL:https://www.yctaekwondo.com/event/taekwondo-event-at-washington-dc/
CATEGORIES:Manassas Park,Mapledale Plaza
END:VEVENT
BEGIN:VEVENT
DTSTART;VALUE=DATE:20250524
DTEND;VALUE=DATE:20250527
DTSTAMP:20260423T055304
CREATED:20250312T015540Z
LAST-MODIFIED:20250312T015540Z
UID:5422-1748044800-1748303999@www.yctaekwondo.com
SUMMARY:DoJang will be closed (Memorial Day weekend)
DESCRIPTION:
URL:https://www.yctaekwondo.com/event/dojang-will-be-closed-memorial-day-weekend-3/
CATEGORIES:Manassas Park,Mapledale Plaza
END:VEVENT
BEGIN:VEVENT
DTSTART;VALUE=DATE:20250530
DTEND;VALUE=DATE:20250531
DTSTAMP:20260423T055304
CREATED:20250604T012040Z
LAST-MODIFIED:20250604T012403Z
UID:5540-1748563200-1748649599@www.yctaekwondo.com
SUMMARY:Early Bird Registration OPEN 2025-26 After School Program
DESCRIPTION:Early Bird Registration for 2025-26 After School Program is now OPEN!  \nThe special is available until July 5\, 2025 \n 
URL:https://www.yctaekwondo.com/event/early-bird-registration-open-2025-26-after-school-program-2/
CATEGORIES:Manassas Park
END:VEVENT
BEGIN:VEVENT
DTSTART;TZID=America/New_York:20250606T181500
DTEND;TZID=America/New_York:20250606T203000
DTSTAMP:20260423T055304
CREATED:20250315T034424Z
LAST-MODIFIED:20250315T034424Z
UID:5436-1749233700-1749241800@www.yctaekwondo.com
SUMMARY:5th Next 1st Dan Black Belt Group - Preliminary Exam (Bo Dan Group)
DESCRIPTION:
URL:https://www.yctaekwondo.com/event/5th-next-1st-dan-black-belt-group-preliminary-exam-bo-dan-group/
CATEGORIES:Manassas Park
END:VEVENT
BEGIN:VEVENT
DTSTART;VALUE=DATE:20250609
DTEND;VALUE=DATE:20250610
DTSTAMP:20260423T055304
CREATED:20250315T034752Z
LAST-MODIFIED:20250315T034752Z
UID:5443-1749427200-1749513599@www.yctaekwondo.com
SUMMARY:Week 1 of Summer Camp
DESCRIPTION:
URL:https://www.yctaekwondo.com/event/week-1-of-summer-camp/
CATEGORIES:Manassas Park
END:VEVENT
BEGIN:VEVENT
DTSTART;VALUE=DATE:20250611
DTEND;VALUE=DATE:20250613
DTSTAMP:20260423T055304
CREATED:20250315T035450Z
LAST-MODIFIED:20250315T035621Z
UID:5463-1749600000-1749772799@www.yctaekwondo.com
SUMMARY:All Color Belts Exam
DESCRIPTION:** Belt Ceremony will be right after each exam
URL:https://www.yctaekwondo.com/event/all-color-belts-exam-14/
CATEGORIES:Manassas Park
END:VEVENT
BEGIN:VEVENT
DTSTART;VALUE=DATE:20250616
DTEND;VALUE=DATE:20250617
DTSTAMP:20260423T055304
CREATED:20250315T034821Z
LAST-MODIFIED:20250315T034821Z
UID:5445-1750032000-1750118399@www.yctaekwondo.com
SUMMARY:Week 2
DESCRIPTION:
URL:https://www.yctaekwondo.com/event/week-2/
CATEGORIES:Manassas Park
END:VEVENT
BEGIN:VEVENT
DTSTART;VALUE=DATE:20250621
DTEND;VALUE=DATE:20250622
DTSTAMP:20260423T055304
CREATED:20250315T034249Z
LAST-MODIFIED:20250315T034249Z
UID:5434-1750464000-1750550399@www.yctaekwondo.com
SUMMARY:Korean American National Sports Festival
DESCRIPTION:
URL:https://www.yctaekwondo.com/event/korean-american-national-sports-festival/
CATEGORIES:Manassas Park,Mapledale Plaza
END:VEVENT
BEGIN:VEVENT
DTSTART;VALUE=DATE:20250623
DTEND;VALUE=DATE:20250624
DTSTAMP:20260423T055304
CREATED:20250315T034849Z
LAST-MODIFIED:20250315T034849Z
UID:5447-1750636800-1750723199@www.yctaekwondo.com
SUMMARY:Week 3
DESCRIPTION:
URL:https://www.yctaekwondo.com/event/week-3/
CATEGORIES:Manassas Park
END:VEVENT
BEGIN:VEVENT
DTSTART;TZID=America/New_York:20250628T100000
DTEND;TZID=America/New_York:20250628T110000
DTSTAMP:20260423T055304
CREATED:20250315T034657Z
LAST-MODIFIED:20250315T034657Z
UID:5441-1751104800-1751108400@www.yctaekwondo.com
SUMMARY:Black Belt Group Running Test
DESCRIPTION:
URL:https://www.yctaekwondo.com/event/black-belt-group-running-test-6/
CATEGORIES:Manassas Park
END:VEVENT
BEGIN:VEVENT
DTSTART;VALUE=DATE:20250630
DTEND;VALUE=DATE:20250701
DTSTAMP:20260423T055304
CREATED:20250315T034912Z
LAST-MODIFIED:20250315T034912Z
UID:5449-1751241600-1751327999@www.yctaekwondo.com
SUMMARY:Week 4
DESCRIPTION:
URL:https://www.yctaekwondo.com/event/week-4/
CATEGORIES:Manassas Park
END:VEVENT
BEGIN:VEVENT
DTSTART;VALUE=DATE:20250704
DTEND;VALUE=DATE:20250706
DTSTAMP:20260423T055304
CREATED:20250315T035840Z
LAST-MODIFIED:20250315T035902Z
UID:5465-1751587200-1751759999@www.yctaekwondo.com
SUMMARY:DoJang will be closed (Independence Day Weekend)
DESCRIPTION:YCTA will participate in the Dale City Parade
URL:https://www.yctaekwondo.com/event/dojang-will-be-closed-independence-day-weekend/
CATEGORIES:Manassas Park,Mapledale Plaza
END:VEVENT
BEGIN:VEVENT
DTSTART;VALUE=DATE:20250705
DTEND;VALUE=DATE:20250706
DTSTAMP:20260423T055304
CREATED:20250604T012523Z
LAST-MODIFIED:20250604T012523Z
UID:5546-1751673600-1751759999@www.yctaekwondo.com
SUMMARY:Early Bird Registration CLOSED 2025-26 After School Program
DESCRIPTION:LAST DAY of Early Bird Registration for 2025-26 After School Program \n 
URL:https://www.yctaekwondo.com/event/early-bird-registration-closed-2025-26-after-school-program/
CATEGORIES:Manassas Park
END:VEVENT
BEGIN:VEVENT
DTSTART;VALUE=DATE:20250707
DTEND;VALUE=DATE:20250708
DTSTAMP:20260423T055304
CREATED:20250315T034934Z
LAST-MODIFIED:20250315T034934Z
UID:5451-1751846400-1751932799@www.yctaekwondo.com
SUMMARY:Week 5
DESCRIPTION:
URL:https://www.yctaekwondo.com/event/week-5-2/
CATEGORIES:Manassas Park
END:VEVENT
BEGIN:VEVENT
DTSTART;VALUE=DATE:20250711
DTEND;VALUE=DATE:20250712
DTSTAMP:20260423T055304
CREATED:20250315T040041Z
LAST-MODIFIED:20250315T040041Z
UID:5474-1752192000-1752278399@www.yctaekwondo.com
SUMMARY:5th Black Belt Group Exam
DESCRIPTION:
URL:https://www.yctaekwondo.com/event/5th-black-belt-group-exam/
CATEGORIES:Manassas Park
END:VEVENT
BEGIN:VEVENT
DTSTART;VALUE=DATE:20250714
DTEND;VALUE=DATE:20250715
DTSTAMP:20260423T055304
CREATED:20250315T035012Z
LAST-MODIFIED:20250315T035012Z
UID:5453-1752451200-1752537599@www.yctaekwondo.com
SUMMARY:Week 6
DESCRIPTION:
URL:https://www.yctaekwondo.com/event/week-6-2/
CATEGORIES:Manassas Park
END:VEVENT
BEGIN:VEVENT
DTSTART;VALUE=DATE:20250721
DTEND;VALUE=DATE:20250722
DTSTAMP:20260423T055304
CREATED:20250315T035029Z
LAST-MODIFIED:20250315T035029Z
UID:5455-1753056000-1753142399@www.yctaekwondo.com
SUMMARY:Week 7
DESCRIPTION:
URL:https://www.yctaekwondo.com/event/week-7-2/
CATEGORIES:Manassas Park
END:VEVENT
BEGIN:VEVENT
DTSTART;VALUE=DATE:20250728
DTEND;VALUE=DATE:20250729
DTSTAMP:20260423T055304
CREATED:20250315T035116Z
LAST-MODIFIED:20250315T035116Z
UID:5457-1753660800-1753747199@www.yctaekwondo.com
SUMMARY:Week 8
DESCRIPTION:
URL:https://www.yctaekwondo.com/event/week-8-2/
CATEGORIES:Manassas Park
END:VEVENT
END:VCALENDAR