BEGIN:VCALENDAR
VERSION:2.0
PRODID:-//Yi Champions Taekwondo Academy - ECPv6.15.13//NONSGML v1.0//EN
CALSCALE:GREGORIAN
METHOD:PUBLISH
X-ORIGINAL-URL:https://www.yctaekwondo.com
X-WR-CALDESC:Events for Yi Champions Taekwondo Academy
REFRESH-INTERVAL;VALUE=DURATION:PT1H
X-Robots-Tag:noindex
X-PUBLISHED-TTL:PT1H
BEGIN:VTIMEZONE
TZID:America/New_York
BEGIN:DAYLIGHT
TZOFFSETFROM:-0500
TZOFFSETTO:-0400
TZNAME:EDT
DTSTART:20200308T070000
END:DAYLIGHT
BEGIN:STANDARD
TZOFFSETFROM:-0400
TZOFFSETTO:-0500
TZNAME:EST
DTSTART:20201101T060000
END:STANDARD
BEGIN:DAYLIGHT
TZOFFSETFROM:-0500
TZOFFSETTO:-0400
TZNAME:EDT
DTSTART:20210314T070000
END:DAYLIGHT
BEGIN:STANDARD
TZOFFSETFROM:-0400
TZOFFSETTO:-0500
TZNAME:EST
DTSTART:20211107T060000
END:STANDARD
BEGIN:DAYLIGHT
TZOFFSETFROM:-0500
TZOFFSETTO:-0400
TZNAME:EDT
DTSTART:20220313T070000
END:DAYLIGHT
BEGIN:STANDARD
TZOFFSETFROM:-0400
TZOFFSETTO:-0500
TZNAME:EST
DTSTART:20221106T060000
END:STANDARD
END:VTIMEZONE
BEGIN:VEVENT
DTSTART;TZID=America/New_York:20211008T180000
DTEND;TZID=America/New_York:20211008T193000
DTSTAMP:20260425T114200
CREATED:20210123T214034Z
LAST-MODIFIED:20231014T225031Z
UID:3969-1633716000-1633721400@www.yctaekwondo.com
SUMMARY:Champions Team Training(Demo Team) at 6:00pm
DESCRIPTION:Team will have a training right after peewee group exam .
URL:https://www.yctaekwondo.com/event/champions-team-trainingdemo-team-at-600pm/
CATEGORIES:Mapledale Plaza
END:VEVENT
BEGIN:VEVENT
DTSTART;TZID=America/New_York:20211016T100000
DTEND;TZID=America/New_York:20211016T130000
DTSTAMP:20260425T114200
CREATED:20210123T230608Z
LAST-MODIFIED:20231014T225031Z
UID:3990-1634378400-1634389200@www.yctaekwondo.com
SUMMARY:Buddy Days-1
DESCRIPTION:Bring YCTA member’s friends\, co-worker\, and families (@10am\,11:10am or 12:10pm) \nSpecial Discount Registration Fee and free virtual class to join the  first 2 month.
URL:https://www.yctaekwondo.com/event/buddy-day-1/
CATEGORIES:Mapledale Plaza
END:VEVENT
BEGIN:VEVENT
DTSTART;TZID=America/New_York:20211023T100000
DTEND;TZID=America/New_York:20211023T130000
DTSTAMP:20260425T114200
CREATED:20210123T230738Z
LAST-MODIFIED:20231014T225031Z
UID:3994-1634983200-1634994000@www.yctaekwondo.com
SUMMARY:Buddy Days-2
DESCRIPTION:Bring YCTA member’s friends\, co-worker\, and families (@10am\,11:10am or 12:10pm) \nSpecial Discount Registration Fee and free virtual class to join the  first 2 month.
URL:https://www.yctaekwondo.com/event/buddy-days-2/
CATEGORIES:Mapledale Plaza
END:VEVENT
BEGIN:VEVENT
DTSTART;TZID=America/New_York:20211030T100000
DTEND;TZID=America/New_York:20211030T130000
DTSTAMP:20260425T114200
CREATED:20210123T230842Z
LAST-MODIFIED:20231014T225031Z
UID:3996-1635588000-1635598800@www.yctaekwondo.com
SUMMARY:Buddy Days-3
DESCRIPTION:Bring YCTA member’s friends\, co-worker\, and families (@10am\,11:10am or 12:10pm) \nSpecial Discount Registration Fee and free virtual class to join the  first 2 month.
URL:https://www.yctaekwondo.com/event/buddy-days-3-2/
CATEGORIES:Mapledale Plaza
END:VEVENT
END:VCALENDAR