BEGIN:VCALENDAR
VERSION:2.0
PRODID:-//Yi Champions Taekwondo Academy - ECPv6.15.13//NONSGML v1.0//EN
CALSCALE:GREGORIAN
METHOD:PUBLISH
X-ORIGINAL-URL:https://www.yctaekwondo.com
X-WR-CALDESC:Events for Yi Champions Taekwondo Academy
REFRESH-INTERVAL;VALUE=DURATION:PT1H
X-Robots-Tag:noindex
X-PUBLISHED-TTL:PT1H
BEGIN:VTIMEZONE
TZID:America/New_York
BEGIN:DAYLIGHT
TZOFFSETFROM:-0500
TZOFFSETTO:-0400
TZNAME:EDT
DTSTART:20210314T070000
END:DAYLIGHT
BEGIN:STANDARD
TZOFFSETFROM:-0400
TZOFFSETTO:-0500
TZNAME:EST
DTSTART:20211107T060000
END:STANDARD
BEGIN:DAYLIGHT
TZOFFSETFROM:-0500
TZOFFSETTO:-0400
TZNAME:EDT
DTSTART:20220313T070000
END:DAYLIGHT
BEGIN:STANDARD
TZOFFSETFROM:-0400
TZOFFSETTO:-0500
TZNAME:EST
DTSTART:20221106T060000
END:STANDARD
BEGIN:DAYLIGHT
TZOFFSETFROM:-0500
TZOFFSETTO:-0400
TZNAME:EDT
DTSTART:20230312T070000
END:DAYLIGHT
BEGIN:STANDARD
TZOFFSETFROM:-0400
TZOFFSETTO:-0500
TZNAME:EST
DTSTART:20231105T060000
END:STANDARD
END:VTIMEZONE
BEGIN:VEVENT
DTSTART;TZID=America/New_York:20220502T080000
DTEND;TZID=America/New_York:20220502T170000
DTSTAMP:20260425T001701
CREATED:20211231T230814Z
LAST-MODIFIED:20231014T225021Z
UID:4098-1651478400-1651510800@www.yctaekwondo.com
SUMMARY:Open Registration for 2022 Sparring& Poomsae Camp (total 8 weeks training sessions)
DESCRIPTION:Sparring and Poomsae Camp \n-Learn sparring techniques and strategies- \n-Improve speed- \n-Learn forms with accuracy- \n-Strengthen physically and mentally- \nWho: 10years old and up( Red belt and up) \nWhat: Sparring training for 2 hours or more/ Poomsae training for 1 hour \nWhen:  Sat. June -4th\,11th\, and 18th from 3pm to 6pm \n              Fri. July -8th\,15th\,22nd\,29th and Aug.5th from 5:40pm to 8:40pm \n 
URL:https://www.yctaekwondo.com/event/open-registration-for-2022-sparring-poomsae-camp-total-8-weeks-training-sessions/
CATEGORIES:Mapledale Plaza
END:VEVENT
END:VCALENDAR