BEGIN:VCALENDAR
VERSION:2.0
PRODID:-//Yi Champions Taekwondo Academy - ECPv6.15.13//NONSGML v1.0//EN
CALSCALE:GREGORIAN
METHOD:PUBLISH
X-WR-CALNAME:Yi Champions Taekwondo Academy
X-ORIGINAL-URL:https://www.yctaekwondo.com
X-WR-CALDESC:Events for Yi Champions Taekwondo Academy
REFRESH-INTERVAL;VALUE=DURATION:PT1H
X-Robots-Tag:noindex
X-PUBLISHED-TTL:PT1H
BEGIN:VTIMEZONE
TZID:America/New_York
BEGIN:DAYLIGHT
TZOFFSETFROM:-0500
TZOFFSETTO:-0400
TZNAME:EDT
DTSTART:20220313T070000
END:DAYLIGHT
BEGIN:STANDARD
TZOFFSETFROM:-0400
TZOFFSETTO:-0500
TZNAME:EST
DTSTART:20221106T060000
END:STANDARD
BEGIN:DAYLIGHT
TZOFFSETFROM:-0500
TZOFFSETTO:-0400
TZNAME:EDT
DTSTART:20230312T070000
END:DAYLIGHT
BEGIN:STANDARD
TZOFFSETFROM:-0400
TZOFFSETTO:-0500
TZNAME:EST
DTSTART:20231105T060000
END:STANDARD
BEGIN:DAYLIGHT
TZOFFSETFROM:-0500
TZOFFSETTO:-0400
TZNAME:EDT
DTSTART:20240310T070000
END:DAYLIGHT
BEGIN:STANDARD
TZOFFSETFROM:-0400
TZOFFSETTO:-0500
TZNAME:EST
DTSTART:20241103T060000
END:STANDARD
END:VTIMEZONE
BEGIN:VEVENT
DTSTART;TZID=America/New_York:20230201T080000
DTEND;TZID=America/New_York:20230201T170000
DTSTAMP:20260424T101855
CREATED:20230121T230644Z
LAST-MODIFIED:20231014T225010Z
UID:4347-1675238400-1675270800@www.yctaekwondo.com
SUMMARY:Home Training - Strength& Agility  for the 38th Black Belt Exam
DESCRIPTION: to start strength and agility home training  for next black belt group exam in March (30-40 days training) \n 
URL:https://www.yctaekwondo.com/event/home-training-strength-agility-for-the-38th-black-belt-exam/
CATEGORIES:Mapledale Plaza
END:VEVENT
BEGIN:VEVENT
DTSTART;TZID=America/New_York:20230211T093000
DTEND;TZID=America/New_York:20230211T140000
DTSTAMP:20260424T101855
CREATED:20210123T222438Z
LAST-MODIFIED:20231014T225010Z
UID:3982-1676107800-1676124000@www.yctaekwondo.com
SUMMARY:All Color Belt  Group Exam-Main Exam
DESCRIPTION:The Belt ceremony is right after each exam.(same day) \n\nBlue- Red Belts @10am-12:10pm\nWhite-  Belts  @12:30-2:00pm\nPeewee Group @ 2:30pm\n\nThe Belt Ceremony is right after each exam. \n   ** Schedule may change** \n 
URL:https://www.yctaekwondo.com/event/all-color-belt-group-exam/
CATEGORIES:Mapledale Plaza
END:VEVENT
BEGIN:VEVENT
DTSTART;TZID=America/New_York:20230218T113000
DTEND;TZID=America/New_York:20230218T130000
DTSTAMP:20260424T101855
CREATED:20230109T022144Z
LAST-MODIFIED:20231014T225010Z
UID:4308-1676719800-1676725200@www.yctaekwondo.com
SUMMARY:Color Belt Make up Exam
DESCRIPTION:Make up exam @ 11:45am-12:45pm \nA $10 extra charge will be added for make up exam
URL:https://www.yctaekwondo.com/event/color-belt-make-up-exam/
CATEGORIES:Mapledale Plaza
END:VEVENT
BEGIN:VEVENT
DTSTART;TZID=America/New_York:20230220T100000
DTEND;TZID=America/New_York:20230220T160000
DTSTAMP:20260424T101855
CREATED:20210116T204957Z
LAST-MODIFIED:20231014T225010Z
UID:3882-1676887200-1676908800@www.yctaekwondo.com
SUMMARY:Early Classes (President's Day)
DESCRIPTION:@10:00-10:50am -Family Class \n@11:00-11:50am-White to Red Belts \n@12:00-1:00pm – All Bo Dan & All Black Belt Group (1st Dan to 4th Dan) \nNo Evening class \nBusiness will be closed 4pm
URL:https://www.yctaekwondo.com/event/early-classes-presidents-day/
CATEGORIES:Mapledale Plaza
END:VEVENT
BEGIN:VEVENT
DTSTART;TZID=America/New_York:20230225T093000
DTEND;TZID=America/New_York:20230225T160000
DTSTAMP:20260424T101855
CREATED:20210116T215111Z
LAST-MODIFIED:20231014T225010Z
UID:3915-1677317400-1677340800@www.yctaekwondo.com
SUMMARY:2023 YCTA Inner School Championship-1
DESCRIPTION:How the YCTA Inner School Champion is Organized \nEach belt category will be divided into groups of four. Each separate group of four will compete within itself. The four members of each group will be judged in four performance categories:  1st Place (1) 2nd Place (1) and 3rd Place (2). Each member of the group will receive a trophy and a certificate. For example\, if we have 16 White Belt students registered\, then we will make four groups of four. We have a goal of at least four or more groups of four (minimum of 3 & maximum of 5) in each rank category. As much as possible\, the groups will be further divided by age\, height\, sex and ability.   \nTo do \n\nForm\nBreaking\nSparring or kicking target in a  limited time.\n\nGroup \n\nBlack Belt\nColor Belt\ndivided by ages\, Gender and Ranks\nThe other TKD Students may join us.( All color belts and black blets)\nIt may students join in from  other TKD Dojang
URL:https://www.yctaekwondo.com/event/2021-ycta-inner-school-championship-1/
CATEGORIES:Mapledale Plaza
END:VEVENT
END:VCALENDAR