BEGIN:VCALENDAR
VERSION:2.0
PRODID:-//Yi Champions Taekwondo Academy - ECPv6.15.13//NONSGML v1.0//EN
CALSCALE:GREGORIAN
METHOD:PUBLISH
X-WR-CALNAME:Yi Champions Taekwondo Academy
X-ORIGINAL-URL:https://www.yctaekwondo.com
X-WR-CALDESC:Events for Yi Champions Taekwondo Academy
REFRESH-INTERVAL;VALUE=DURATION:PT1H
X-Robots-Tag:noindex
X-PUBLISHED-TTL:PT1H
BEGIN:VTIMEZONE
TZID:America/New_York
BEGIN:DAYLIGHT
TZOFFSETFROM:-0500
TZOFFSETTO:-0400
TZNAME:EDT
DTSTART:20220313T070000
END:DAYLIGHT
BEGIN:STANDARD
TZOFFSETFROM:-0400
TZOFFSETTO:-0500
TZNAME:EST
DTSTART:20221106T060000
END:STANDARD
BEGIN:DAYLIGHT
TZOFFSETFROM:-0500
TZOFFSETTO:-0400
TZNAME:EDT
DTSTART:20230312T070000
END:DAYLIGHT
BEGIN:STANDARD
TZOFFSETFROM:-0400
TZOFFSETTO:-0500
TZNAME:EST
DTSTART:20231105T060000
END:STANDARD
BEGIN:DAYLIGHT
TZOFFSETFROM:-0500
TZOFFSETTO:-0400
TZNAME:EDT
DTSTART:20240310T070000
END:DAYLIGHT
BEGIN:STANDARD
TZOFFSETFROM:-0400
TZOFFSETTO:-0500
TZNAME:EST
DTSTART:20241103T060000
END:STANDARD
END:VTIMEZONE
BEGIN:VEVENT
DTSTART;TZID=America/New_York:20230703T073000
DTEND;TZID=America/New_York:20230703T183000
DTSTAMP:20260424T025907
CREATED:20230121T235749Z
LAST-MODIFIED:20231014T224953Z
UID:4359-1688369400-1688409000@www.yctaekwondo.com
SUMMARY:2023 Children's Summer Camp Program week 3
DESCRIPTION:
URL:https://www.yctaekwondo.com/event/2023-childrens-summer-camp-program-week-3/
CATEGORIES:Mapledale Plaza
END:VEVENT
BEGIN:VEVENT
DTSTART;VALUE=DATE:20230705
DTEND;VALUE=DATE:20230708
DTSTAMP:20260424T025907
CREATED:20200120T150600Z
LAST-MODIFIED:20231014T224953Z
UID:3734-1688515200-1688774399@www.yctaekwondo.com
SUMMARY:2023 Children's Summer Camp Program week 3
DESCRIPTION:The hours will be from 7:30 am – 6:30 pm. \nWeek 3 \n We will have summer camp program on Monday July 3 & July 5 to July 7.
URL:https://www.yctaekwondo.com/event/2020-childrens-summer-camp-week-3/
CATEGORIES:Mapledale Plaza
END:VEVENT
BEGIN:VEVENT
DTSTART;TZID=America/New_York:20230710T073000
DTEND;TZID=America/New_York:20230710T183000
DTSTAMP:20260424T025907
CREATED:20210116T222133Z
LAST-MODIFIED:20231014T224953Z
UID:3937-1688974200-1689013800@www.yctaekwondo.com
SUMMARY:2023 Children's Summer Camp Program week 4
DESCRIPTION:4th week Summer Camp Program (7/10-7/14) \n 
URL:https://www.yctaekwondo.com/event/4th-week-of-summer-camp-program-begin/
CATEGORIES:Mapledale Plaza
END:VEVENT
BEGIN:VEVENT
DTSTART;TZID=America/New_York:20230715T093000
DTEND;TZID=America/New_York:20230715T123000
DTSTAMP:20260424T025907
CREATED:20210122T220548Z
LAST-MODIFIED:20231014T224953Z
UID:3952-1689413400-1689424200@www.yctaekwondo.com
SUMMARY:The 39th Black Belt Level& Final Exam
DESCRIPTION:Exam for all Black belt Group  \nWe may have exam together or divide by group.
URL:https://www.yctaekwondo.com/event/the-33rd-black-belt-level-exam/
CATEGORIES:Mapledale Plaza
END:VEVENT
BEGIN:VEVENT
DTSTART;VALUE=DATE:20230717
DTEND;VALUE=DATE:20230718
DTSTAMP:20260424T025907
CREATED:20200120T150728Z
LAST-MODIFIED:20231014T224953Z
UID:3738-1689552000-1689638399@www.yctaekwondo.com
SUMMARY:2023 Children's Summer Camp week 5
DESCRIPTION:The hours will be from 7:30 am – 6:30 pm.(7/17-7/21)
URL:https://www.yctaekwondo.com/event/2020-childrens-summer-camp-week-5/
CATEGORIES:Mapledale Plaza
END:VEVENT
BEGIN:VEVENT
DTSTART;TZID=America/New_York:20230722T113000
DTEND;TZID=America/New_York:20230722T130000
DTSTAMP:20260424T025907
CREATED:20200120T151304Z
LAST-MODIFIED:20231014T224933Z
UID:3752-1690025400-1690030800@www.yctaekwondo.com
SUMMARY:4th Dan Preliminary Exam
DESCRIPTION:Higher Dan preliminary Exam  \nSchedule is subject to changes 
URL:https://www.yctaekwondo.com/event/4th-dan-preliminary-exam/
CATEGORIES:Mapledale Plaza
END:VEVENT
BEGIN:VEVENT
DTSTART;VALUE=DATE:20230724
DTEND;VALUE=DATE:20230725
DTSTAMP:20260424T025907
CREATED:20200120T150801Z
LAST-MODIFIED:20231014T224933Z
UID:3740-1690156800-1690243199@www.yctaekwondo.com
SUMMARY:2023 Children's Summer Program week 6
DESCRIPTION:The hours will be from 7:30 am – 6:30 pm.(7/24-7/28)
URL:https://www.yctaekwondo.com/event/2020-childrens-summer-camp-week-6/
CATEGORIES:Mapledale Plaza
END:VEVENT
BEGIN:VEVENT
DTSTART;VALUE=DATE:20230731
DTEND;VALUE=DATE:20230801
DTSTAMP:20260424T025907
CREATED:20200120T150836Z
LAST-MODIFIED:20231014T224933Z
UID:3742-1690761600-1690847999@www.yctaekwondo.com
SUMMARY:2023 Children's Summer Program week 7
DESCRIPTION:The hours will be from 7:30 am – 6:30 pm.(7/31-8/04)
URL:https://www.yctaekwondo.com/event/2020-childrens-summer-camp-week-7/
CATEGORIES:Mapledale Plaza
END:VEVENT
END:VCALENDAR