BEGIN:VCALENDAR
VERSION:2.0
PRODID:-//Yi Champions Taekwondo Academy - ECPv6.15.13//NONSGML v1.0//EN
CALSCALE:GREGORIAN
METHOD:PUBLISH
X-ORIGINAL-URL:https://www.yctaekwondo.com
X-WR-CALDESC:Events for Yi Champions Taekwondo Academy
REFRESH-INTERVAL;VALUE=DURATION:PT1H
X-Robots-Tag:noindex
X-PUBLISHED-TTL:PT1H
BEGIN:VTIMEZONE
TZID:America/New_York
BEGIN:DAYLIGHT
TZOFFSETFROM:-0500
TZOFFSETTO:-0400
TZNAME:EDT
DTSTART:20220313T070000
END:DAYLIGHT
BEGIN:STANDARD
TZOFFSETFROM:-0400
TZOFFSETTO:-0500
TZNAME:EST
DTSTART:20221106T060000
END:STANDARD
BEGIN:DAYLIGHT
TZOFFSETFROM:-0500
TZOFFSETTO:-0400
TZNAME:EDT
DTSTART:20230312T070000
END:DAYLIGHT
BEGIN:STANDARD
TZOFFSETFROM:-0400
TZOFFSETTO:-0500
TZNAME:EST
DTSTART:20231105T060000
END:STANDARD
BEGIN:DAYLIGHT
TZOFFSETFROM:-0500
TZOFFSETTO:-0400
TZNAME:EDT
DTSTART:20240310T070000
END:DAYLIGHT
BEGIN:STANDARD
TZOFFSETFROM:-0400
TZOFFSETTO:-0500
TZNAME:EST
DTSTART:20241103T060000
END:STANDARD
END:VTIMEZONE
BEGIN:VEVENT
DTSTART;VALUE=DATE:20230807
DTEND;VALUE=DATE:20230808
DTSTAMP:20260424T013613
CREATED:20200120T151016Z
LAST-MODIFIED:20231014T224933Z
UID:3748-1691366400-1691452799@www.yctaekwondo.com
SUMMARY:2023 Children's Summer Program week 8
DESCRIPTION:The hours will be from 7:30 am – 6:30 pm.(8/07-8/11)
URL:https://www.yctaekwondo.com/event/2020-childrens-summer-camp-week-10/
CATEGORIES:Mapledale Plaza
END:VEVENT
BEGIN:VEVENT
DTSTART;TZID=America/New_York:20230810T163000
DTEND;TZID=America/New_York:20230811T200000
DTSTAMP:20260424T013613
CREATED:20210116T221733Z
LAST-MODIFIED:20231014T224933Z
UID:3929-1691685000-1691784000@www.yctaekwondo.com
SUMMARY:Color Belts  Exam
DESCRIPTION:Colo Belt Exam Schedule (TBA) 
URL:https://www.yctaekwondo.com/event/color-belts-exam/
CATEGORIES:Mapledale Plaza
END:VEVENT
BEGIN:VEVENT
DTSTART;TZID=America/New_York:20230812T100000
DTEND;TZID=America/New_York:20230812T130000
DTSTAMP:20260424T013613
CREATED:20210122T222708Z
LAST-MODIFIED:20231014T224933Z
UID:3958-1691834400-1691845200@www.yctaekwondo.com
SUMMARY:All Ranks Belt Ceremony
DESCRIPTION:To start Belt ceremony from @10:00am to 12:00pm\n\nwith Pizza \,drinks\, chick wings and snack  for potluck lunch right after ceremony.
URL:https://www.yctaekwondo.com/event/all-ranks-belt-ceremony/
CATEGORIES:Mapledale Plaza
END:VEVENT
BEGIN:VEVENT
DTSTART;VALUE=DATE:20230814
DTEND;VALUE=DATE:20230815
DTSTAMP:20260424T013613
CREATED:20200120T150939Z
LAST-MODIFIED:20231014T224933Z
UID:3746-1691971200-1692057599@www.yctaekwondo.com
SUMMARY:2023 Children's Summer Program week 9
DESCRIPTION:The hours will be from 7:30 am – 6:30 pm.(8/14-8/18) \nThe last week of 2023 Summer camp program
URL:https://www.yctaekwondo.com/event/2020-childrens-summer-camp-week-9/
CATEGORIES:Mapledale Plaza
END:VEVENT
BEGIN:VEVENT
DTSTART;TZID=America/New_York:20230821T153000
DTEND;TZID=America/New_York:20230821T180000
DTSTAMP:20260424T013613
CREATED:20200120T152053Z
LAST-MODIFIED:20231014T224933Z
UID:3766-1692631800-1692640800@www.yctaekwondo.com
SUMMARY:First Day of After School Program for Fall Semester 2023-2024
DESCRIPTION:After School Martial Arts Program \nWe will pick up your child(ren) from school. \nPick up your child between 5pm-6:30pm at the YCTA. \nOn Teacher’s work days\, we  offer a fun day camp from 7:30am-6:30pm. \n** Pick up time is no later than 6:30pm otherwise a late fee will be charged. \nAfter-School Program  \n4-5days(Mon- Fri) \n5-10% off for each additional family member. \nDaily Taekwondo lesson. \nHomework time before pick up your child(ren)
URL:https://www.yctaekwondo.com/event/first-day-of-after-school-program-for-fall-semester-2020/
CATEGORIES:Mapledale Plaza
END:VEVENT
END:VCALENDAR