BEGIN:VCALENDAR
VERSION:2.0
PRODID:-//Yi Champions Taekwondo Academy - ECPv6.15.13//NONSGML v1.0//EN
CALSCALE:GREGORIAN
METHOD:PUBLISH
X-ORIGINAL-URL:https://www.yctaekwondo.com
X-WR-CALDESC:Events for Yi Champions Taekwondo Academy
REFRESH-INTERVAL;VALUE=DURATION:PT1H
X-Robots-Tag:noindex
X-PUBLISHED-TTL:PT1H
BEGIN:VTIMEZONE
TZID:America/New_York
BEGIN:DAYLIGHT
TZOFFSETFROM:-0500
TZOFFSETTO:-0400
TZNAME:EDT
DTSTART:20230312T070000
END:DAYLIGHT
BEGIN:STANDARD
TZOFFSETFROM:-0400
TZOFFSETTO:-0500
TZNAME:EST
DTSTART:20231105T060000
END:STANDARD
BEGIN:DAYLIGHT
TZOFFSETFROM:-0500
TZOFFSETTO:-0400
TZNAME:EDT
DTSTART:20240310T070000
END:DAYLIGHT
BEGIN:STANDARD
TZOFFSETFROM:-0400
TZOFFSETTO:-0500
TZNAME:EST
DTSTART:20241103T060000
END:STANDARD
BEGIN:DAYLIGHT
TZOFFSETFROM:-0500
TZOFFSETTO:-0400
TZNAME:EDT
DTSTART:20250309T070000
END:DAYLIGHT
BEGIN:STANDARD
TZOFFSETFROM:-0400
TZOFFSETTO:-0500
TZNAME:EST
DTSTART:20251102T060000
END:STANDARD
END:VTIMEZONE
BEGIN:VEVENT
DTSTART;VALUE=DATE:20240805
DTEND;VALUE=DATE:20240806
DTSTAMP:20260423T070725
CREATED:20240214T023456Z
LAST-MODIFIED:20240214T023456Z
UID:5053-1722816000-1722902399@www.yctaekwondo.com
SUMMARY:9th week of Summer Camp
DESCRIPTION:
URL:https://www.yctaekwondo.com/event/9th-week-of-summer-camp/
CATEGORIES:Manassas Park,Mapledale Plaza
END:VEVENT
BEGIN:VEVENT
DTSTART;VALUE=DATE:20240812
DTEND;VALUE=DATE:20240813
DTSTAMP:20260423T070725
CREATED:20240214T023518Z
LAST-MODIFIED:20240214T023518Z
UID:5055-1723420800-1723507199@www.yctaekwondo.com
SUMMARY:10th week of Summer Camp
DESCRIPTION:
URL:https://www.yctaekwondo.com/event/10th-week-of-summer-camp/
CATEGORIES:Manassas Park,Mapledale Plaza
END:VEVENT
BEGIN:VEVENT
DTSTART;VALUE=DATE:20240814
DTEND;VALUE=DATE:20240816
DTSTAMP:20260423T070725
CREATED:20240108T195641Z
LAST-MODIFIED:20240320T013833Z
UID:4987-1723593600-1723766399@www.yctaekwondo.com
SUMMARY:All Color Belts Exams
DESCRIPTION:Belt Ceremony will be on Sat @ 09:30 am
URL:https://www.yctaekwondo.com/event/all-color-belts-exams-graduation-will-be-on-sat-0930-am/
CATEGORIES:Mapledale Plaza
END:VEVENT
BEGIN:VEVENT
DTSTART;TZID=America/New_York:20240817T093000
DTEND;TZID=America/New_York:20240817T093000
DTSTAMP:20260423T070725
CREATED:20240108T195727Z
LAST-MODIFIED:20240320T013940Z
UID:4989-1723887000-1723887000@www.yctaekwondo.com
SUMMARY:Belt Ceremony for all belts and Potluck Lunch
DESCRIPTION:
URL:https://www.yctaekwondo.com/event/belt-ceremony-for-all-belts-and-potluck-lunch/
CATEGORIES:Mapledale Plaza
END:VEVENT
BEGIN:VEVENT
DTSTART;VALUE=DATE:20240819
DTEND;VALUE=DATE:20240820
DTSTAMP:20260423T070725
CREATED:20240108T195759Z
LAST-MODIFIED:20240320T014051Z
UID:4991-1724025600-1724111999@www.yctaekwondo.com
SUMMARY:Back to School 2024-2025/After School Program Starts for Fall Semester 2024 Back to Normal Regular class schedule
DESCRIPTION:
URL:https://www.yctaekwondo.com/event/back-to-school-2024-2025-after-school-program-starts-for-fall-semester-2024-back-to-normal-regular-class-schedule/
CATEGORIES:Manassas Park,Mapledale Plaza
END:VEVENT
BEGIN:VEVENT
DTSTART;VALUE=DATE:20240830
DTEND;VALUE=DATE:20240831
DTSTAMP:20260423T070725
CREATED:20240511T193631Z
LAST-MODIFIED:20240511T193631Z
UID:5164-1724976000-1725062399@www.yctaekwondo.com
SUMMARY:Demo Team Trial Day
DESCRIPTION:
URL:https://www.yctaekwondo.com/event/demo-team-trial-day/
CATEGORIES:Mapledale Plaza
END:VEVENT
BEGIN:VEVENT
DTSTART;VALUE=DATE:20240831
DTEND;VALUE=DATE:20240903
DTSTAMP:20260423T070725
CREATED:20240320T014731Z
LAST-MODIFIED:20240320T014731Z
UID:5136-1725062400-1725321599@www.yctaekwondo.com
SUMMARY:DoJang will be closed (Labor Day)
DESCRIPTION:
URL:https://www.yctaekwondo.com/event/dojang-will-be-closed-labor-day/
CATEGORIES:Manassas Park,Mapledale Plaza
END:VEVENT
END:VCALENDAR