BEGIN:VCALENDAR
VERSION:2.0
PRODID:-//Yi Champions Taekwondo Academy - ECPv6.15.13//NONSGML v1.0//EN
CALSCALE:GREGORIAN
METHOD:PUBLISH
X-ORIGINAL-URL:https://www.yctaekwondo.com
X-WR-CALDESC:Events for Yi Champions Taekwondo Academy
REFRESH-INTERVAL;VALUE=DURATION:PT1H
X-Robots-Tag:noindex
X-PUBLISHED-TTL:PT1H
BEGIN:VTIMEZONE
TZID:America/New_York
BEGIN:DAYLIGHT
TZOFFSETFROM:-0500
TZOFFSETTO:-0400
TZNAME:EDT
DTSTART:20230312T070000
END:DAYLIGHT
BEGIN:STANDARD
TZOFFSETFROM:-0400
TZOFFSETTO:-0500
TZNAME:EST
DTSTART:20231105T060000
END:STANDARD
BEGIN:DAYLIGHT
TZOFFSETFROM:-0500
TZOFFSETTO:-0400
TZNAME:EDT
DTSTART:20240310T070000
END:DAYLIGHT
BEGIN:STANDARD
TZOFFSETFROM:-0400
TZOFFSETTO:-0500
TZNAME:EST
DTSTART:20241103T060000
END:STANDARD
BEGIN:DAYLIGHT
TZOFFSETFROM:-0500
TZOFFSETTO:-0400
TZNAME:EDT
DTSTART:20250309T070000
END:DAYLIGHT
BEGIN:STANDARD
TZOFFSETFROM:-0400
TZOFFSETTO:-0500
TZNAME:EST
DTSTART:20251102T060000
END:STANDARD
END:VTIMEZONE
BEGIN:VEVENT
DTSTART;VALUE=DATE:20241101
DTEND;VALUE=DATE:20241102
DTSTAMP:20260423T024941
CREATED:20241024T173556Z
LAST-MODIFIED:20241024T173556Z
UID:5297-1730419200-1730505599@www.yctaekwondo.com
SUMMARY:Fun Day Daily Camp -No School Day
DESCRIPTION:
URL:https://www.yctaekwondo.com/event/fun-day-daily-camp-no-school-day-3/
CATEGORIES:Manassas Park,Mapledale Plaza
END:VEVENT
BEGIN:VEVENT
DTSTART;VALUE=DATE:20241104
DTEND;VALUE=DATE:20241106
DTSTAMP:20260423T024941
CREATED:20240515T012245Z
LAST-MODIFIED:20241024T173543Z
UID:5193-1730678400-1730851199@www.yctaekwondo.com
SUMMARY:Fun Day Daily Camp -No School Day
DESCRIPTION:
URL:https://www.yctaekwondo.com/event/fun-day-daily-camp-no-school-day-2/
CATEGORIES:Manassas Park,Mapledale Plaza
END:VEVENT
BEGIN:VEVENT
DTSTART;VALUE=DATE:20241104
DTEND;VALUE=DATE:20241109
DTSTAMP:20260423T024941
CREATED:20240511T200034Z
LAST-MODIFIED:20241024T173120Z
UID:5172-1730678400-1731110399@www.yctaekwondo.com
SUMMARY:Buddy Week
DESCRIPTION:
URL:https://www.yctaekwondo.com/event/buddy-week-3/
CATEGORIES:Manassas Park,Mapledale Plaza
END:VEVENT
BEGIN:VEVENT
DTSTART;TZID=America/New_York:20241111T100000
DTEND;TZID=America/New_York:20241111T130000
DTSTAMP:20260423T024941
CREATED:20240515T012435Z
LAST-MODIFIED:20241024T173917Z
UID:5195-1731319200-1731330000@www.yctaekwondo.com
SUMMARY:Early Classes (Veteran's Day)
DESCRIPTION:Early Class Schedule \n** No evening classes** \n10:00 am – All Black Belts and Bodan \n11:00 am – Orange Belt to Red Belt \n12:00 pm – White Belt and Yellow Belt \n 
URL:https://www.yctaekwondo.com/event/early-classes-veterans-day/
CATEGORIES:Mapledale Plaza
END:VEVENT
BEGIN:VEVENT
DTSTART;VALUE=DATE:20241123
DTEND;VALUE=DATE:20241124
DTSTAMP:20260423T024941
CREATED:20240515T012548Z
LAST-MODIFIED:20241024T173819Z
UID:5197-1732320000-1732406399@www.yctaekwondo.com
SUMMARY:The 43rd Black Belt Level & Final Black Belt Exam
DESCRIPTION:
URL:https://www.yctaekwondo.com/event/the-43rd-black-belt-level-final-black-belt-exam/
CATEGORIES:Mapledale Plaza
END:VEVENT
BEGIN:VEVENT
DTSTART;VALUE=DATE:20241127
DTEND;VALUE=DATE:20241201
DTSTAMP:20260423T024941
CREATED:20240515T012054Z
LAST-MODIFIED:20240515T012054Z
UID:5191-1732665600-1733011199@www.yctaekwondo.com
SUMMARY:DoJang will be closed (Thanksgiving Day)
DESCRIPTION:
URL:https://www.yctaekwondo.com/event/dojang-will-be-closed-thanksgiving-day/
CATEGORIES:Manassas Park,Mapledale Plaza
END:VEVENT
END:VCALENDAR