BEGIN:VCALENDAR
VERSION:2.0
PRODID:-//Yi Champions Taekwondo Academy - ECPv6.15.13//NONSGML v1.0//EN
CALSCALE:GREGORIAN
METHOD:PUBLISH
X-WR-CALNAME:Yi Champions Taekwondo Academy
X-ORIGINAL-URL:https://www.yctaekwondo.com
X-WR-CALDESC:Events for Yi Champions Taekwondo Academy
REFRESH-INTERVAL;VALUE=DURATION:PT1H
X-Robots-Tag:noindex
X-PUBLISHED-TTL:PT1H
BEGIN:VTIMEZONE
TZID:America/New_York
BEGIN:DAYLIGHT
TZOFFSETFROM:-0500
TZOFFSETTO:-0400
TZNAME:EDT
DTSTART:20220313T070000
END:DAYLIGHT
BEGIN:STANDARD
TZOFFSETFROM:-0400
TZOFFSETTO:-0500
TZNAME:EST
DTSTART:20221106T060000
END:STANDARD
BEGIN:DAYLIGHT
TZOFFSETFROM:-0500
TZOFFSETTO:-0400
TZNAME:EDT
DTSTART:20230312T070000
END:DAYLIGHT
BEGIN:STANDARD
TZOFFSETFROM:-0400
TZOFFSETTO:-0500
TZNAME:EST
DTSTART:20231105T060000
END:STANDARD
BEGIN:DAYLIGHT
TZOFFSETFROM:-0500
TZOFFSETTO:-0400
TZNAME:EDT
DTSTART:20240310T070000
END:DAYLIGHT
BEGIN:STANDARD
TZOFFSETFROM:-0400
TZOFFSETTO:-0500
TZNAME:EST
DTSTART:20241103T060000
END:STANDARD
END:VTIMEZONE
BEGIN:VEVENT
DTSTART;TZID=America/New_York:20230311T093000
DTEND;TZID=America/New_York:20230311T130000
DTSTAMP:20260424T102030
CREATED:20210116T211459Z
LAST-MODIFIED:20231014T225010Z
UID:3901-1678527000-1678539600@www.yctaekwondo.com
SUMMARY:The 38th All Black Belt Level & Final Group Exam(BoDan\,1st Dan\, 2nd Dan & 3rd Dan)
DESCRIPTION:@ 9:30am- 1:00 pm or more \nWe will held on the 38th black belt group exam by the level and final groups together this time. \nBrings: \n Bo Dan & 1st Dan- Nun chucks and Sparring equipment \n2nd Dan- Nun chucks\, Sparring equipment and plastic knife \n3rd Dan- Nun chucks\, Sparring equipment \,plastic knife and  Ken Do swords  \n 
URL:https://www.yctaekwondo.com/event/the-32nd-black-belt-final-group-3rd-dan-exam/
CATEGORIES:Mapledale Plaza
END:VEVENT
END:VCALENDAR