BEGIN:VCALENDAR
VERSION:2.0
PRODID:-//Yi Champions Taekwondo Academy - ECPv6.15.13//NONSGML v1.0//EN
CALSCALE:GREGORIAN
METHOD:PUBLISH
X-WR-CALNAME:Yi Champions Taekwondo Academy
X-ORIGINAL-URL:https://www.yctaekwondo.com
X-WR-CALDESC:Events for Yi Champions Taekwondo Academy
REFRESH-INTERVAL;VALUE=DURATION:PT1H
X-Robots-Tag:noindex
X-PUBLISHED-TTL:PT1H
BEGIN:VTIMEZONE
TZID:America/New_York
BEGIN:DAYLIGHT
TZOFFSETFROM:-0500
TZOFFSETTO:-0400
TZNAME:EDT
DTSTART:20220313T070000
END:DAYLIGHT
BEGIN:STANDARD
TZOFFSETFROM:-0400
TZOFFSETTO:-0500
TZNAME:EST
DTSTART:20221106T060000
END:STANDARD
BEGIN:DAYLIGHT
TZOFFSETFROM:-0500
TZOFFSETTO:-0400
TZNAME:EDT
DTSTART:20230312T070000
END:DAYLIGHT
BEGIN:STANDARD
TZOFFSETFROM:-0400
TZOFFSETTO:-0500
TZNAME:EST
DTSTART:20231105T060000
END:STANDARD
BEGIN:DAYLIGHT
TZOFFSETFROM:-0500
TZOFFSETTO:-0400
TZNAME:EDT
DTSTART:20240310T070000
END:DAYLIGHT
BEGIN:STANDARD
TZOFFSETFROM:-0400
TZOFFSETTO:-0500
TZNAME:EST
DTSTART:20241103T060000
END:STANDARD
END:VTIMEZONE
BEGIN:VEVENT
DTSTART;VALUE=DATE:20230427
DTEND;VALUE=DATE:20230428
DTSTAMP:20260424T084636
CREATED:20200116T214957Z
LAST-MODIFIED:20231014T224953Z
UID:3708-1682553600-1682639999@www.yctaekwondo.com
SUMMARY:Special class for  Mother's Day!
DESCRIPTION:YCTA will have a special class for mom & dad a month  free from April 27 to May 28 . \nMom & Dad will do basic exercise and TKD and will do wood breaking Board.  \nPlease come and join a class mom and dad or child. \nIf you are interested in TKD Class after special class you will get a Mother’s Day special $30 off (Registration fee) & $30 off /per month tuition fee after 4 weeks trial lesson. \n 
URL:https://www.yctaekwondo.com/event/happy-mothers-day/
CATEGORIES:Mapledale Plaza
END:VEVENT
BEGIN:VEVENT
DTSTART;TZID=America/New_York:20230427T173000
DTEND;TZID=America/New_York:20230427T183000
DTSTAMP:20260424T084636
CREATED:20230109T025324Z
LAST-MODIFIED:20231014T224953Z
UID:4320-1682616600-1682620200@www.yctaekwondo.com
SUMMARY:Free Class for Parents
DESCRIPTION:Class Schedules  \nEvery Thursdays \n from April 27 \, May 4th\,11th  to May 25 at 5:45pm \n(You can come to a different times and day) \nThis class is an introduction class for parents like you that are interested in a trial program. \nSuch as kicking\, form\, strength and agility\, release stress and flexibility  \nIf you continually do training with us\, then parents will get special discount from us.
URL:https://www.yctaekwondo.com/event/happy-mothers-day-3/
CATEGORIES:Mapledale Plaza
END:VEVENT
END:VCALENDAR