BEGIN:VCALENDAR
VERSION:2.0
PRODID:-//Yi Champions Taekwondo Academy - ECPv6.15.13//NONSGML v1.0//EN
CALSCALE:GREGORIAN
METHOD:PUBLISH
X-ORIGINAL-URL:https://www.yctaekwondo.com
X-WR-CALDESC:Events for Yi Champions Taekwondo Academy
REFRESH-INTERVAL;VALUE=DURATION:PT1H
X-Robots-Tag:noindex
X-PUBLISHED-TTL:PT1H
BEGIN:VTIMEZONE
TZID:America/New_York
BEGIN:DAYLIGHT
TZOFFSETFROM:-0500
TZOFFSETTO:-0400
TZNAME:EDT
DTSTART:20240310T070000
END:DAYLIGHT
BEGIN:STANDARD
TZOFFSETFROM:-0400
TZOFFSETTO:-0500
TZNAME:EST
DTSTART:20241103T060000
END:STANDARD
BEGIN:DAYLIGHT
TZOFFSETFROM:-0500
TZOFFSETTO:-0400
TZNAME:EDT
DTSTART:20250309T070000
END:DAYLIGHT
BEGIN:STANDARD
TZOFFSETFROM:-0400
TZOFFSETTO:-0500
TZNAME:EST
DTSTART:20251102T060000
END:STANDARD
BEGIN:DAYLIGHT
TZOFFSETFROM:-0500
TZOFFSETTO:-0400
TZNAME:EDT
DTSTART:20260308T070000
END:DAYLIGHT
BEGIN:STANDARD
TZOFFSETFROM:-0400
TZOFFSETTO:-0500
TZNAME:EST
DTSTART:20261101T060000
END:STANDARD
END:VTIMEZONE
BEGIN:VEVENT
DTSTART;VALUE=DATE:20250518
DTEND;VALUE=DATE:20250519
DTSTAMP:20260423T015229
CREATED:20250312T015955Z
LAST-MODIFIED:20250312T015955Z
UID:5424-1747526400-1747612799@www.yctaekwondo.com
SUMMARY:Taekwondo Event at Washington DC
DESCRIPTION:
URL:https://www.yctaekwondo.com/event/taekwondo-event-at-washington-dc/
CATEGORIES:Manassas Park,Mapledale Plaza
END:VEVENT
BEGIN:VEVENT
DTSTART;VALUE=DATE:20250524
DTEND;VALUE=DATE:20250527
DTSTAMP:20260423T015229
CREATED:20250312T015540Z
LAST-MODIFIED:20250312T015540Z
UID:5422-1748044800-1748303999@www.yctaekwondo.com
SUMMARY:DoJang will be closed (Memorial Day weekend)
DESCRIPTION:
URL:https://www.yctaekwondo.com/event/dojang-will-be-closed-memorial-day-weekend-3/
CATEGORIES:Manassas Park,Mapledale Plaza
END:VEVENT
BEGIN:VEVENT
DTSTART;VALUE=DATE:20250530
DTEND;VALUE=DATE:20250531
DTSTAMP:20260423T015229
CREATED:20250604T011915Z
LAST-MODIFIED:20250604T012358Z
UID:5536-1748563200-1748649599@www.yctaekwondo.com
SUMMARY:Early Bird Registration OPEN 2025-26 After School Program
DESCRIPTION:Early Bird Registration for 2025-26 After School Program is now OPEN!  \nThe special is available until July 5\, 2025 \n  \n 
URL:https://www.yctaekwondo.com/event/early-bird-registration-open-2025-26-after-school-program/
CATEGORIES:Mapledale Plaza
END:VEVENT
BEGIN:VEVENT
DTSTART;TZID=America/New_York:20250607T111500
DTEND;TZID=America/New_York:20250607T133000
DTSTAMP:20260423T015229
CREATED:20250315T033549Z
LAST-MODIFIED:20250315T034515Z
UID:5426-1749294900-1749303000@www.yctaekwondo.com
SUMMARY:45th Next 1st Dan Black Belt Group - Preliminary Exam (Bo Dan Group)
DESCRIPTION:
URL:https://www.yctaekwondo.com/event/45th-next-1st-dan-black-belt-group-preliminary-exam-bo-dan-group/
CATEGORIES:Mapledale Plaza
END:VEVENT
BEGIN:VEVENT
DTSTART;VALUE=DATE:20250613
DTEND;VALUE=DATE:20250615
DTSTAMP:20260423T015229
CREATED:20250315T033945Z
LAST-MODIFIED:20250315T033945Z
UID:5432-1749772800-1749945599@www.yctaekwondo.com
SUMMARY:All Color Belts Exam
DESCRIPTION:**Belt Ceremony will be right after each exam**
URL:https://www.yctaekwondo.com/event/all-color-belts-exam-13/
CATEGORIES:Mapledale Plaza
END:VEVENT
BEGIN:VEVENT
DTSTART;VALUE=DATE:20250616
DTEND;VALUE=DATE:20250617
DTSTAMP:20260423T015229
CREATED:20250124T013117Z
LAST-MODIFIED:20250315T034054Z
UID:5366-1750032000-1750118399@www.yctaekwondo.com
SUMMARY:1 Week Of Summer Camp
DESCRIPTION:
URL:https://www.yctaekwondo.com/event/1-week-of-summer-camp/
CATEGORIES:Mapledale Plaza
END:VEVENT
BEGIN:VEVENT
DTSTART;VALUE=DATE:20250621
DTEND;VALUE=DATE:20250622
DTSTAMP:20260423T015229
CREATED:20250315T034249Z
LAST-MODIFIED:20250315T034249Z
UID:5434-1750464000-1750550399@www.yctaekwondo.com
SUMMARY:Korean American National Sports Festival
DESCRIPTION:
URL:https://www.yctaekwondo.com/event/korean-american-national-sports-festival/
CATEGORIES:Manassas Park,Mapledale Plaza
END:VEVENT
BEGIN:VEVENT
DTSTART;VALUE=DATE:20250623
DTEND;VALUE=DATE:20250624
DTSTAMP:20260423T015230
CREATED:20250124T013545Z
LAST-MODIFIED:20250315T034059Z
UID:5368-1750636800-1750723199@www.yctaekwondo.com
SUMMARY:Week 2
DESCRIPTION:
URL:https://www.yctaekwondo.com/event/2-week/
CATEGORIES:Mapledale Plaza
END:VEVENT
BEGIN:VEVENT
DTSTART;TZID=America/New_York:20250628T092000
DTEND;TZID=America/New_York:20250628T110000
DTSTAMP:20260423T015230
CREATED:20250315T034620Z
LAST-MODIFIED:20250315T034620Z
UID:5439-1751102400-1751108400@www.yctaekwondo.com
SUMMARY:Black Belt Group Running Test
DESCRIPTION:
URL:https://www.yctaekwondo.com/event/black-belt-group-running-test-5/
CATEGORIES:Mapledale Plaza
END:VEVENT
BEGIN:VEVENT
DTSTART;VALUE=DATE:20250630
DTEND;VALUE=DATE:20250701
DTSTAMP:20260423T015230
CREATED:20250124T013703Z
LAST-MODIFIED:20250315T034107Z
UID:5370-1751241600-1751327999@www.yctaekwondo.com
SUMMARY:Week 3
DESCRIPTION:
URL:https://www.yctaekwondo.com/event/3-week/
CATEGORIES:Mapledale Plaza
END:VEVENT
BEGIN:VEVENT
DTSTART;VALUE=DATE:20250704
DTEND;VALUE=DATE:20250706
DTSTAMP:20260423T015230
CREATED:20250315T035840Z
LAST-MODIFIED:20250315T035902Z
UID:5465-1751587200-1751759999@www.yctaekwondo.com
SUMMARY:DoJang will be closed (Independence Day Weekend)
DESCRIPTION:YCTA will participate in the Dale City Parade
URL:https://www.yctaekwondo.com/event/dojang-will-be-closed-independence-day-weekend/
CATEGORIES:Manassas Park,Mapledale Plaza
END:VEVENT
BEGIN:VEVENT
DTSTART;VALUE=DATE:20250705
DTEND;VALUE=DATE:20250706
DTSTAMP:20260423T015230
CREATED:20250604T012532Z
LAST-MODIFIED:20250604T012532Z
UID:5547-1751673600-1751759999@www.yctaekwondo.com
SUMMARY:Early Bird Registration CLOSED 2025-26 After School Program
DESCRIPTION:LAST DAY of Early Bird Registration for 2025-26 After School Program \n 
URL:https://www.yctaekwondo.com/event/early-bird-registration-closed-2025-26-after-school-program-2/
CATEGORIES:Mapledale Plaza
END:VEVENT
BEGIN:VEVENT
DTSTART;VALUE=DATE:20250707
DTEND;VALUE=DATE:20250708
DTSTAMP:20260423T015230
CREATED:20250124T013757Z
LAST-MODIFIED:20250315T034114Z
UID:5372-1751846400-1751932799@www.yctaekwondo.com
SUMMARY:Week 4
DESCRIPTION:
URL:https://www.yctaekwondo.com/event/4-week/
CATEGORIES:Mapledale Plaza
END:VEVENT
BEGIN:VEVENT
DTSTART;VALUE=DATE:20250712
DTEND;VALUE=DATE:20250713
DTSTAMP:20260423T015230
CREATED:20250315T040004Z
LAST-MODIFIED:20250315T040004Z
UID:5472-1752278400-1752364799@www.yctaekwondo.com
SUMMARY:45th Black Belt Level & Final Black Belt Exam
DESCRIPTION:
URL:https://www.yctaekwondo.com/event/45th-black-belt-level-final-black-belt-exam/
CATEGORIES:Mapledale Plaza
END:VEVENT
BEGIN:VEVENT
DTSTART;VALUE=DATE:20250714
DTEND;VALUE=DATE:20250715
DTSTAMP:20260423T015230
CREATED:20250124T013949Z
LAST-MODIFIED:20250315T034119Z
UID:5377-1752451200-1752537599@www.yctaekwondo.com
SUMMARY:Week 5
DESCRIPTION:
URL:https://www.yctaekwondo.com/event/week-5/
CATEGORIES:Mapledale Plaza
END:VEVENT
BEGIN:VEVENT
DTSTART;VALUE=DATE:20250721
DTEND;VALUE=DATE:20250722
DTSTAMP:20260423T015230
CREATED:20250124T014022Z
LAST-MODIFIED:20250315T034126Z
UID:5379-1753056000-1753142399@www.yctaekwondo.com
SUMMARY:Week 6
DESCRIPTION:
URL:https://www.yctaekwondo.com/event/week-6/
CATEGORIES:Mapledale Plaza
END:VEVENT
BEGIN:VEVENT
DTSTART;VALUE=DATE:20250728
DTEND;VALUE=DATE:20250729
DTSTAMP:20260423T015230
CREATED:20250124T014051Z
LAST-MODIFIED:20250315T034132Z
UID:5381-1753660800-1753747199@www.yctaekwondo.com
SUMMARY:Week 7
DESCRIPTION:
URL:https://www.yctaekwondo.com/event/week-7/
CATEGORIES:Mapledale Plaza
END:VEVENT
BEGIN:VEVENT
DTSTART;VALUE=DATE:20250804
DTEND;VALUE=DATE:20250805
DTSTAMP:20260423T015230
CREATED:20250124T014130Z
LAST-MODIFIED:20250315T034135Z
UID:5383-1754265600-1754351999@www.yctaekwondo.com
SUMMARY:Week 8
DESCRIPTION:
URL:https://www.yctaekwondo.com/event/week-8/
CATEGORIES:Mapledale Plaza
END:VEVENT
BEGIN:VEVENT
DTSTART;VALUE=DATE:20250811
DTEND;VALUE=DATE:20250812
DTSTAMP:20260423T015230
CREATED:20250124T014148Z
LAST-MODIFIED:20250315T034144Z
UID:5385-1754870400-1754956799@www.yctaekwondo.com
SUMMARY:Week 9
DESCRIPTION:
URL:https://www.yctaekwondo.com/event/week-9/
CATEGORIES:Mapledale Plaza
END:VEVENT
BEGIN:VEVENT
DTSTART;VALUE=DATE:20250813
DTEND;VALUE=DATE:20250816
DTSTAMP:20260423T015230
CREATED:20250315T040203Z
LAST-MODIFIED:20250315T040203Z
UID:5476-1755043200-1755302399@www.yctaekwondo.com
SUMMARY:All Color Belts Exam
DESCRIPTION:
URL:https://www.yctaekwondo.com/event/all-color-belts-exam-15/
CATEGORIES:Mapledale Plaza
END:VEVENT
BEGIN:VEVENT
DTSTART;TZID=America/New_York:20250816T100000
DTEND;TZID=America/New_York:20250816T130000
DTSTAMP:20260423T015230
CREATED:20250315T040300Z
LAST-MODIFIED:20250315T040300Z
UID:5478-1755338400-1755349200@www.yctaekwondo.com
SUMMARY:All Ranks Belt & Ceremony Potluck Lunch
DESCRIPTION:
URL:https://www.yctaekwondo.com/event/all-ranks-belt-ceremony-potluck-lunch-3/
CATEGORIES:Mapledale Plaza
END:VEVENT
BEGIN:VEVENT
DTSTART;VALUE=DATE:20250829
DTEND;VALUE=DATE:20250902
DTSTAMP:20260423T015230
CREATED:20250315T040351Z
LAST-MODIFIED:20250315T040351Z
UID:5480-1756425600-1756771199@www.yctaekwondo.com
SUMMARY:DoJang will be closed (Labor Day Weekend)
DESCRIPTION:
URL:https://www.yctaekwondo.com/event/dojang-will-be-closed-labor-day-weekend/
CATEGORIES:Manassas Park,Mapledale Plaza
END:VEVENT
BEGIN:VEVENT
DTSTART;VALUE=DATE:20250913
DTEND;VALUE=DATE:20250914
DTSTAMP:20260423T015230
CREATED:20250315T040909Z
LAST-MODIFIED:20250315T040909Z
UID:5486-1757721600-1757807999@www.yctaekwondo.com
SUMMARY:2025 YCTA Open House
DESCRIPTION:
URL:https://www.yctaekwondo.com/event/2025-ycta-open-house/
CATEGORIES:Mapledale Plaza
END:VEVENT
BEGIN:VEVENT
DTSTART;VALUE=DATE:20250920
DTEND;VALUE=DATE:20250921
DTSTAMP:20260423T015230
CREATED:20250315T041023Z
LAST-MODIFIED:20250716T010150Z
UID:5488-1758326400-1758412799@www.yctaekwondo.com
SUMMARY:2025 Fall Season Nerf War
DESCRIPTION:
URL:https://www.yctaekwondo.com/event/2025-fall-season-nerf-war/
CATEGORIES:Mapledale Plaza
END:VEVENT
BEGIN:VEVENT
DTSTART;TZID=America/New_York:20250929T160000
DTEND;TZID=America/New_York:20250929T193000
DTSTAMP:20260423T015230
CREATED:20250917T181030Z
LAST-MODIFIED:20250917T181030Z
UID:5913-1759161600-1759174200@www.yctaekwondo.com
SUMMARY:2025 YCTA Picture Day
DESCRIPTION:
URL:https://www.yctaekwondo.com/event/2025-ycta-picture-day/
CATEGORIES:Mapledale Plaza
END:VEVENT
BEGIN:VEVENT
DTSTART;TZID=America/New_York:20251003T183000
DTEND;TZID=America/New_York:20251003T200000
DTSTAMP:20260423T015230
CREATED:20250315T041211Z
LAST-MODIFIED:20250917T180221Z
UID:5492-1759516200-1759521600@www.yctaekwondo.com
SUMMARY:46th Next 1st Dan Black Belt Group – Preliminary Exam (Bo Dan Group)
DESCRIPTION:@ Manassas Location
URL:https://www.yctaekwondo.com/event/46th-next-1st-dan-black-belt-group-preliminary-exam-bo-dan-group/
CATEGORIES:Mapledale Plaza
END:VEVENT
BEGIN:VEVENT
DTSTART;VALUE=DATE:20251024
DTEND;VALUE=DATE:20251026
DTSTAMP:20260423T015230
CREATED:20250315T041237Z
LAST-MODIFIED:20250716T011702Z
UID:5494-1761264000-1761436799@www.yctaekwondo.com
SUMMARY:All Color Belts Exam
DESCRIPTION:** Belt Ceremony will be right after each exam
URL:https://www.yctaekwondo.com/event/all-color-belts-exam-17/
CATEGORIES:Mapledale Plaza
END:VEVENT
BEGIN:VEVENT
DTSTART;TZID=America/New_York:20251108T092000
DTEND;TZID=America/New_York:20251108T222000
DTSTAMP:20260423T015230
CREATED:20251108T172758Z
LAST-MODIFIED:20251108T172818Z
UID:5932-1762593600-1762640400@www.yctaekwondo.com
SUMMARY:Black Belt Group Running Test
DESCRIPTION:
URL:https://www.yctaekwondo.com/event/black-belt-group-running-test-8/
CATEGORIES:Mapledale Plaza
END:VEVENT
BEGIN:VEVENT
DTSTART;VALUE=DATE:20251115
DTEND;VALUE=DATE:20251116
DTSTAMP:20260423T015230
CREATED:20250315T042213Z
LAST-MODIFIED:20250315T042213Z
UID:5507-1763164800-1763251199@www.yctaekwondo.com
SUMMARY:46th Black Belt Level & Final Black Belt Exam
DESCRIPTION:
URL:https://www.yctaekwondo.com/event/46th-black-belt-level-final-black-belt-exam/
CATEGORIES:Mapledale Plaza
END:VEVENT
BEGIN:VEVENT
DTSTART;VALUE=DATE:20251126
DTEND;VALUE=DATE:20251129
DTSTAMP:20260423T015230
CREATED:20250315T042318Z
LAST-MODIFIED:20250315T042318Z
UID:5509-1764115200-1764374399@www.yctaekwondo.com
SUMMARY:DoJang will be closed (Thanksgiving Break)
DESCRIPTION:
URL:https://www.yctaekwondo.com/event/dojang-will-be-closed-thanksgiving-break/
CATEGORIES:Manassas Park,Mapledale Plaza
END:VEVENT
END:VCALENDAR