BEGIN:VCALENDAR
VERSION:2.0
PRODID:-//Yi Champions Taekwondo Academy - ECPv6.15.13//NONSGML v1.0//EN
CALSCALE:GREGORIAN
METHOD:PUBLISH
X-ORIGINAL-URL:https://www.yctaekwondo.com
X-WR-CALDESC:Events for Yi Champions Taekwondo Academy
REFRESH-INTERVAL;VALUE=DURATION:PT1H
X-Robots-Tag:noindex
X-PUBLISHED-TTL:PT1H
BEGIN:VTIMEZONE
TZID:America/New_York
BEGIN:DAYLIGHT
TZOFFSETFROM:-0500
TZOFFSETTO:-0400
TZNAME:EDT
DTSTART:20240310T070000
END:DAYLIGHT
BEGIN:STANDARD
TZOFFSETFROM:-0400
TZOFFSETTO:-0500
TZNAME:EST
DTSTART:20241103T060000
END:STANDARD
BEGIN:DAYLIGHT
TZOFFSETFROM:-0500
TZOFFSETTO:-0400
TZNAME:EDT
DTSTART:20250309T070000
END:DAYLIGHT
BEGIN:STANDARD
TZOFFSETFROM:-0400
TZOFFSETTO:-0500
TZNAME:EST
DTSTART:20251102T060000
END:STANDARD
BEGIN:DAYLIGHT
TZOFFSETFROM:-0500
TZOFFSETTO:-0400
TZNAME:EDT
DTSTART:20260308T070000
END:DAYLIGHT
BEGIN:STANDARD
TZOFFSETFROM:-0400
TZOFFSETTO:-0500
TZNAME:EST
DTSTART:20261101T060000
END:STANDARD
BEGIN:DAYLIGHT
TZOFFSETFROM:-0500
TZOFFSETTO:-0400
TZNAME:EDT
DTSTART:20270314T070000
END:DAYLIGHT
BEGIN:STANDARD
TZOFFSETFROM:-0400
TZOFFSETTO:-0500
TZNAME:EST
DTSTART:20271107T060000
END:STANDARD
END:VTIMEZONE
BEGIN:VEVENT
DTSTART;VALUE=DATE:20260416
DTEND;VALUE=DATE:20260419
DTSTAMP:20260420T041912
CREATED:20260131T025134Z
LAST-MODIFIED:20260131T025134Z
UID:6019-1776297600-1776556799@www.yctaekwondo.com
SUMMARY:All Color Belts Exam & Belt Ceremony
DESCRIPTION:
URL:https://www.yctaekwondo.com/event/all-color-belts-exam-belt-ceremony/
CATEGORIES:Manassas Park
END:VEVENT
BEGIN:VEVENT
DTSTART;VALUE=DATE:20260411
DTEND;VALUE=DATE:20260412
DTSTAMP:20260420T041912
CREATED:20260131T025019Z
LAST-MODIFIED:20260131T025019Z
UID:6017-1775865600-1775951999@www.yctaekwondo.com
SUMMARY:KTA Tournament
DESCRIPTION:YCTA will be participating in KTA Tournament in Forms\, Breaking and Sparring!
URL:https://www.yctaekwondo.com/event/kta-tournament-2/
CATEGORIES:Manassas Park,Mapledale Plaza
END:VEVENT
BEGIN:VEVENT
DTSTART;VALUE=DATE:20260404
DTEND;VALUE=DATE:20260405
DTSTAMP:20260420T041912
CREATED:20260131T024800Z
LAST-MODIFIED:20260131T024800Z
UID:6015-1775260800-1775347199@www.yctaekwondo.com
SUMMARY:DoJang (YCTA)will be closed (Happy Easter!)
DESCRIPTION:
URL:https://www.yctaekwondo.com/event/dojang-yctawill-be-closed-happy-easter-2/
CATEGORIES:Manassas Park,Mapledale Plaza
END:VEVENT
BEGIN:VEVENT
DTSTART;VALUE=DATE:20260330
DTEND;VALUE=DATE:20260407
DTSTAMP:20260420T041912
CREATED:20260131T024451Z
LAST-MODIFIED:20260131T024451Z
UID:6011-1774828800-1775519999@www.yctaekwondo.com
SUMMARY:Spring Camp
DESCRIPTION:
URL:https://www.yctaekwondo.com/event/spring-camp-2/
CATEGORIES:Manassas Park,Mapledale Plaza
END:VEVENT
BEGIN:VEVENT
DTSTART;TZID=America/New_York:20260321T150000
DTEND;TZID=America/New_York:20260321T183000
DTSTAMP:20260420T041912
CREATED:20260131T024350Z
LAST-MODIFIED:20260131T024350Z
UID:6009-1774105200-1774117800@www.yctaekwondo.com
SUMMARY:2026 Spring Season Nerf War
DESCRIPTION:
URL:https://www.yctaekwondo.com/event/2026-spring-season-nerf-war/
CATEGORIES:Mapledale Plaza
END:VEVENT
BEGIN:VEVENT
DTSTART;TZID=America/New_York:20260314T093000
DTEND;TZID=America/New_York:20260314T170000
DTSTAMP:20260420T041912
CREATED:20260131T024226Z
LAST-MODIFIED:20260131T024226Z
UID:6007-1773480600-1773507600@www.yctaekwondo.com
SUMMARY:47th Black Belt Level & Final Black Belt Exam
DESCRIPTION:Starting at 9:30am
URL:https://www.yctaekwondo.com/event/47th-black-belt-level-final-black-belt-exam/
CATEGORIES:Mapledale Plaza
END:VEVENT
BEGIN:VEVENT
DTSTART;TZID=America/New_York:20260313T182000
DTEND;TZID=America/New_York:20260313T203000
DTSTAMP:20260420T041912
CREATED:20260130T213901Z
LAST-MODIFIED:20260221T192840Z
UID:5998-1773426000-1773433800@www.yctaekwondo.com
SUMMARY:7th Black Belt Group Exam
DESCRIPTION:Black Belt Group Exam (Bo Dan to High Dan) \nat 6:20pm \nBring own your sparring set and Nun-chucks
URL:https://www.yctaekwondo.com/event/7th-black-belt-group-exam-2/
CATEGORIES:Manassas Park
END:VEVENT
BEGIN:VEVENT
DTSTART;VALUE=DATE:20260309
DTEND;VALUE=DATE:20260310
DTSTAMP:20260420T041912
CREATED:20260131T024111Z
LAST-MODIFIED:20260131T024111Z
UID:6005-1773014400-1773100799@www.yctaekwondo.com
SUMMARY:Early Bird Registration OPEN 2026 Summer Camp
DESCRIPTION:
URL:https://www.yctaekwondo.com/event/early-bird-registration-open-2026-summer-camp/
CATEGORIES:Manassas Park,Mapledale Plaza
END:VEVENT
BEGIN:VEVENT
DTSTART;TZID=America/New_York:20260307T090000
DTEND;TZID=America/New_York:20260307T090000
DTSTAMP:20260420T041912
CREATED:20260130T212844Z
LAST-MODIFIED:20260131T023818Z
UID:5996-1772874000-1772874000@www.yctaekwondo.com
SUMMARY:Next Black Belt Exam -Running Test (47th B.B Group)
DESCRIPTION:Running Test is requirement for next Black Belt Exam in March \n@9:20am
URL:https://www.yctaekwondo.com/event/next-black-belt-exam-running-test-47th-b-b-group/
CATEGORIES:Mapledale Plaza
END:VEVENT
BEGIN:VEVENT
DTSTART;TZID=America/New_York:20260228T100000
DTEND;TZID=America/New_York:20260228T110000
DTSTAMP:20260420T041912
CREATED:20260130T211822Z
LAST-MODIFIED:20260130T214938Z
UID:5994-1772272800-1772276400@www.yctaekwondo.com
SUMMARY:Next Black Belt Exam -Running Test (7th B.B Group)
DESCRIPTION:Running Test is require to all black belt group for the next main black belt exam in March
URL:https://www.yctaekwondo.com/event/next-black-belt-exam-running-test-7th-b-b-group/
CATEGORIES:Manassas Park
END:VEVENT
BEGIN:VEVENT
DTSTART;VALUE=DATE:20260223
DTEND;VALUE=DATE:20260228
DTSTAMP:20260420T041912
CREATED:20250115T134336Z
LAST-MODIFIED:20251215T183452Z
UID:5349-1771804800-1772236799@www.yctaekwondo.com
SUMMARY:Buddy Week
DESCRIPTION:
URL:https://www.yctaekwondo.com/event/buddy-week-4/
CATEGORIES:Manassas Park,Mapledale Plaza
END:VEVENT
BEGIN:VEVENT
DTSTART;TZID=America/New_York:20260216T100000
DTEND;TZID=America/New_York:20260216T130000
DTSTAMP:20260420T041912
CREATED:20260130T205539Z
LAST-MODIFIED:20260130T205539Z
UID:5988-1771236000-1771246800@www.yctaekwondo.com
SUMMARY:Early Class (President Day)
DESCRIPTION:If there is inclement weather\, all classes will be canceled \nMonday February 16\,2026 \n@10am- BoDan & Black Belt (All Ages) \n@11:10am- Orange to Red Belts (All Ages) \n@12:10am- White & Yellow Belts (All Ages) \n**No Evening Classes**
URL:https://www.yctaekwondo.com/event/early-class-president-day/
CATEGORIES:Mapledale Plaza
END:VEVENT
BEGIN:VEVENT
DTSTART;VALUE=DATE:20260216
DTEND;VALUE=DATE:20260217
DTSTAMP:20260420T041912
CREATED:20250115T135034Z
LAST-MODIFIED:20260130T205117Z
UID:5359-1771200000-1771286399@www.yctaekwondo.com
SUMMARY:Early Classes (Presidents Day)
DESCRIPTION:If there is inclement weather\, all classes will be canceled \nMonday February 16\,2026 \n@10am- Blue Belt to Black Belt (All Ages) \n@11am- White Belt to Purple Belts (All Ages) \n**No Evening Classes**
URL:https://www.yctaekwondo.com/event/no-classes-presidents-day/
CATEGORIES:Manassas Park
END:VEVENT
BEGIN:VEVENT
DTSTART;TZID=America/New_York:20260212T183000
DTEND;TZID=America/New_York:20260212T183000
DTSTAMP:20260420T041912
CREATED:20260130T214808Z
LAST-MODIFIED:20260130T214842Z
UID:6002-1770921000-1770921000@www.yctaekwondo.com
SUMMARY:Color Belt Group Exam 2
DESCRIPTION:@5pm \nASP Group and Peewee Group Exam  \n@6:40pm \nAdult Group\, White belt and Yellow Belt \nBelt Ceremony is right after each exam. \nMust to be wear whole uniform top and pants with belt
URL:https://www.yctaekwondo.com/event/color-belt-group-exam-2/
CATEGORIES:Manassas Park
END:VEVENT
BEGIN:VEVENT
DTSTART;TZID=America/New_York:20260211T170000
DTEND;TZID=America/New_York:20260211T170000
DTSTAMP:20260420T041912
CREATED:20260130T214238Z
LAST-MODIFIED:20260131T023141Z
UID:6000-1770829200-1770829200@www.yctaekwondo.com
SUMMARY:Color Belt Group Exam 1
DESCRIPTION:Orange belt to Red Belts (All ages)  \nat 5:00pm  \nBring own your Sparring set. \nMust to be wear whole uniform top and pants with belt \nBelt Ceremony is right after exam.(Same day) \n 
URL:https://www.yctaekwondo.com/event/color-belt-group-exam-1/
CATEGORIES:Manassas Park
END:VEVENT
BEGIN:VEVENT
DTSTART;TZID=America/New_York:20260207T110000
DTEND;TZID=America/New_York:20260207T110000
DTSTAMP:20260420T041912
CREATED:20251215T183013Z
LAST-MODIFIED:20260130T210122Z
UID:5956-1770462000-1770462000@www.yctaekwondo.com
SUMMARY:Preliminary Exam for next Black Belt Exam
DESCRIPTION: Preliminary Exam (BoDan Group ) \nat 11:15am \nt0 wear whole uniform\, bring nun-chucks and it doesn’t need to bring Sparring set
URL:https://www.yctaekwondo.com/event/7th-black-belt-group-exam/
CATEGORIES:Mapledale Plaza
END:VEVENT
BEGIN:VEVENT
DTSTART;VALUE=DATE:20260206
DTEND;VALUE=DATE:20260207
DTSTAMP:20260420T041912
CREATED:20250115T135345Z
LAST-MODIFIED:20260130T210942Z
UID:5363-1770336000-1770422399@www.yctaekwondo.com
SUMMARY:Preliminary Exam
DESCRIPTION:Preliminary Exam for next Black Blet  Group  \nfrom Bo Dan to a new Black Belt \nat 6:20pm
URL:https://www.yctaekwondo.com/event/4th-black-belt-group-exam/
CATEGORIES:Manassas Park
END:VEVENT
BEGIN:VEVENT
DTSTART;VALUE=DATE:20260124
DTEND;VALUE=DATE:20260125
DTSTAMP:20260420T041912
CREATED:20250115T034631Z
LAST-MODIFIED:20251215T182319Z
UID:5329-1769212800-1769299199@www.yctaekwondo.com
SUMMARY:2026 YCTA Inner School Championships at YCTA
DESCRIPTION:Starts at 9am \n*** All Competitors Report Time – 8:50am**
URL:https://www.yctaekwondo.com/event/2025-ycta-inner-school-championships-at-ycta/
CATEGORIES:Manassas Park,Mapledale Plaza
END:VEVENT
BEGIN:VEVENT
DTSTART;TZID=America/New_York:20260119T100000
DTEND;TZID=America/New_York:20260119T140000
DTSTAMP:20260420T041912
CREATED:20240108T190901Z
LAST-MODIFIED:20251215T183350Z
UID:4908-1768816800-1768831200@www.yctaekwondo.com
SUMMARY:Early Classes (Martin Luther King Jr.'s Birthday)
DESCRIPTION:If there is inclement weather\, all classes will be canceled \nBusiness will be closed at 4:00pm
URL:https://www.yctaekwondo.com/event/early-classes-martin-luther-king-jr-s-birthday/
CATEGORIES:Mapledale Plaza
END:VEVENT
BEGIN:VEVENT
DTSTART;TZID=America/New_York:20260116T181000
DTEND;TZID=America/New_York:20260116T191000
DTSTAMP:20260420T041912
CREATED:20250115T034030Z
LAST-MODIFIED:20251215T182616Z
UID:5321-1768587000-1768590600@www.yctaekwondo.com
SUMMARY:Demo Team Trial Day
DESCRIPTION:FREE Demo Team Trial  \nTime – 6:10pm to 7:10pm \nWho – Blue Belt and Higher AND 8yr old and older 
URL:https://www.yctaekwondo.com/event/demo-team-trial-day-2/
CATEGORIES:Mapledale Plaza
END:VEVENT
BEGIN:VEVENT
DTSTART;VALUE=DATE:20260101
DTEND;VALUE=DATE:20260104
DTSTAMP:20260420T041912
CREATED:20251108T172517Z
LAST-MODIFIED:20251108T172517Z
UID:5926-1767225600-1767484799@www.yctaekwondo.com
SUMMARY:Dojang will be closed (New Years - Happy 2026)
DESCRIPTION:
URL:https://www.yctaekwondo.com/event/dojang-will-be-closed-new-years-happy-2026/
CATEGORIES:Manassas Park,Mapledale Plaza
END:VEVENT
BEGIN:VEVENT
DTSTART;VALUE=DATE:20251229
DTEND;VALUE=DATE:20260101
DTSTAMP:20260420T041912
CREATED:20251108T172311Z
LAST-MODIFIED:20251108T172311Z
UID:5921-1766966400-1767225599@www.yctaekwondo.com
SUMMARY:Winter Break Camp Week 2/ Modified Class Schedule
DESCRIPTION:
URL:https://www.yctaekwondo.com/event/winter-break-camp-week-2-modified-class-schedule/
CATEGORIES:Manassas Park,Mapledale Plaza
END:VEVENT
BEGIN:VEVENT
DTSTART;VALUE=DATE:20251225
DTEND;VALUE=DATE:20251228
DTSTAMP:20260420T041912
CREATED:20251108T172435Z
LAST-MODIFIED:20251108T172435Z
UID:5924-1766620800-1766879999@www.yctaekwondo.com
SUMMARY:Dojang will be closed (Christmas and Holidays)
DESCRIPTION:
URL:https://www.yctaekwondo.com/event/dojang-will-be-closed-christmas-and-holidays/
CATEGORIES:Manassas Park,Mapledale Plaza
END:VEVENT
BEGIN:VEVENT
DTSTART;VALUE=DATE:20251222
DTEND;VALUE=DATE:20251225
DTSTAMP:20260420T041912
CREATED:20250315T042835Z
LAST-MODIFIED:20251108T172246Z
UID:5521-1766361600-1766620799@www.yctaekwondo.com
SUMMARY:Winter Break Camp Week 1/ Modified Class Schedule
DESCRIPTION:
URL:https://www.yctaekwondo.com/event/winter-break-camp-modified-class-schedule/
CATEGORIES:Manassas Park,Mapledale Plaza
END:VEVENT
BEGIN:VEVENT
DTSTART;VALUE=DATE:20251213
DTEND;VALUE=DATE:20251214
DTSTAMP:20260420T041912
CREATED:20250315T042629Z
LAST-MODIFIED:20250315T042629Z
UID:5517-1765584000-1765670399@www.yctaekwondo.com
SUMMARY:Belt Ceremony for all belts and Potluck Lunch
DESCRIPTION:Belt Ceremony with Potluck Lunch along with Christmas Party/Talent Show and Annual Award Ceremony! 
URL:https://www.yctaekwondo.com/event/belt-ceremony-for-all-belts-and-potluck-lunch-5/
CATEGORIES:Mapledale Plaza
END:VEVENT
BEGIN:VEVENT
DTSTART;VALUE=DATE:20251210
DTEND;VALUE=DATE:20251213
DTSTAMP:20260420T041912
CREATED:20250315T042504Z
LAST-MODIFIED:20250315T042504Z
UID:5513-1765324800-1765583999@www.yctaekwondo.com
SUMMARY:All Color Belts Exam
DESCRIPTION:
URL:https://www.yctaekwondo.com/event/all-color-belts-exam-19/
CATEGORIES:Mapledale Plaza
END:VEVENT
BEGIN:VEVENT
DTSTART;VALUE=DATE:20251206
DTEND;VALUE=DATE:20251207
DTSTAMP:20260420T041912
CREATED:20251108T172625Z
LAST-MODIFIED:20251108T172625Z
UID:5928-1764979200-1765065599@www.yctaekwondo.com
SUMMARY:2025 Winter Season Nerf War
DESCRIPTION:
URL:https://www.yctaekwondo.com/event/2025-winter-season-nerf-war/
CATEGORIES:Mapledale Plaza
END:VEVENT
BEGIN:VEVENT
DTSTART;VALUE=DATE:20251206
DTEND;VALUE=DATE:20251207
DTSTAMP:20260420T041912
CREATED:20250315T042702Z
LAST-MODIFIED:20250315T042702Z
UID:5519-1764979200-1765065599@www.yctaekwondo.com
SUMMARY:Belt Ceremony for all belts and Potluck Lunch
DESCRIPTION:Belt Ceremony with Potluck Lunch along with Christmas Party/Talent Show and Annual Award Ceremony! 
URL:https://www.yctaekwondo.com/event/belt-ceremony-for-all-belts-and-potluck-lunch-6/
CATEGORIES:Manassas Park
END:VEVENT
BEGIN:VEVENT
DTSTART;VALUE=DATE:20251203
DTEND;VALUE=DATE:20251205
DTSTAMP:20260420T041912
CREATED:20250315T042529Z
LAST-MODIFIED:20250315T042529Z
UID:5515-1764720000-1764892799@www.yctaekwondo.com
SUMMARY:All Color Belts Exam
DESCRIPTION:
URL:https://www.yctaekwondo.com/event/all-color-belts-exam-20/
CATEGORIES:Manassas Park
END:VEVENT
BEGIN:VEVENT
DTSTART;VALUE=DATE:20251126
DTEND;VALUE=DATE:20251129
DTSTAMP:20260420T041912
CREATED:20250315T042318Z
LAST-MODIFIED:20250315T042318Z
UID:5509-1764115200-1764374399@www.yctaekwondo.com
SUMMARY:DoJang will be closed (Thanksgiving Break)
DESCRIPTION:
URL:https://www.yctaekwondo.com/event/dojang-will-be-closed-thanksgiving-break/
CATEGORIES:Manassas Park,Mapledale Plaza
END:VEVENT
END:VCALENDAR