BEGIN:VCALENDAR
VERSION:2.0
PRODID:-//Yi Champions Taekwondo Academy - ECPv6.15.13//NONSGML v1.0//EN
CALSCALE:GREGORIAN
METHOD:PUBLISH
X-ORIGINAL-URL:https://www.yctaekwondo.com
X-WR-CALDESC:Events for Yi Champions Taekwondo Academy
REFRESH-INTERVAL;VALUE=DURATION:PT1H
X-Robots-Tag:noindex
X-PUBLISHED-TTL:PT1H
BEGIN:VTIMEZONE
TZID:America/New_York
BEGIN:DAYLIGHT
TZOFFSETFROM:-0500
TZOFFSETTO:-0400
TZNAME:EDT
DTSTART:20250309T070000
END:DAYLIGHT
BEGIN:STANDARD
TZOFFSETFROM:-0400
TZOFFSETTO:-0500
TZNAME:EST
DTSTART:20251102T060000
END:STANDARD
BEGIN:DAYLIGHT
TZOFFSETFROM:-0500
TZOFFSETTO:-0400
TZNAME:EDT
DTSTART:20260308T070000
END:DAYLIGHT
BEGIN:STANDARD
TZOFFSETFROM:-0400
TZOFFSETTO:-0500
TZNAME:EST
DTSTART:20261101T060000
END:STANDARD
BEGIN:DAYLIGHT
TZOFFSETFROM:-0500
TZOFFSETTO:-0400
TZNAME:EDT
DTSTART:20270314T070000
END:DAYLIGHT
BEGIN:STANDARD
TZOFFSETFROM:-0400
TZOFFSETTO:-0500
TZNAME:EST
DTSTART:20271107T060000
END:STANDARD
END:VTIMEZONE
BEGIN:VEVENT
DTSTART;VALUE=DATE:20260422
DTEND;VALUE=DATE:20260426
DTSTAMP:20260420T040927
CREATED:20260131T025217Z
LAST-MODIFIED:20260131T025217Z
UID:6021-1776816000-1777161599@www.yctaekwondo.com
SUMMARY:All Color Belts Exam & Belt Ceremony
DESCRIPTION:
URL:https://www.yctaekwondo.com/event/all-color-belts-exam-belt-ceremony-2/
CATEGORIES:Mapledale Plaza
END:VEVENT
BEGIN:VEVENT
DTSTART;VALUE=DATE:20260504
DTEND;VALUE=DATE:20260505
DTSTAMP:20260420T040927
CREATED:20260131T025503Z
LAST-MODIFIED:20260131T025503Z
UID:6023-1777852800-1777939199@www.yctaekwondo.com
SUMMARY:Early Bird Registration OPEN 2026-27 After School Program
DESCRIPTION:
URL:https://www.yctaekwondo.com/event/early-bird-registration-open-2026-27-after-school-program/
CATEGORIES:Manassas Park,Mapledale Plaza
END:VEVENT
BEGIN:VEVENT
DTSTART;TZID=America/New_York:20260508T183000
DTEND;TZID=America/New_York:20260508T193000
DTSTAMP:20260420T040927
CREATED:20260131T025954Z
LAST-MODIFIED:20260131T030204Z
UID:6029-1778265000-1778268600@www.yctaekwondo.com
SUMMARY:Mother's Day Special Class
DESCRIPTION:
URL:https://www.yctaekwondo.com/event/mothers-day-special-class/
CATEGORIES:Manassas Park
END:VEVENT
BEGIN:VEVENT
DTSTART;TZID=America/New_York:20260516T150000
DTEND;TZID=America/New_York:20260516T183000
DTSTAMP:20260420T040927
CREATED:20260131T030045Z
LAST-MODIFIED:20260131T030045Z
UID:6031-1778943600-1778956200@www.yctaekwondo.com
SUMMARY:Nerf War
DESCRIPTION:
URL:https://www.yctaekwondo.com/event/nerf-war/
CATEGORIES:Manassas Park
END:VEVENT
BEGIN:VEVENT
DTSTART;VALUE=DATE:20260518
DTEND;VALUE=DATE:20260523
DTSTAMP:20260420T040927
CREATED:20260131T025608Z
LAST-MODIFIED:20260131T025608Z
UID:6025-1779062400-1779494399@www.yctaekwondo.com
SUMMARY:Buddy Week
DESCRIPTION:
URL:https://www.yctaekwondo.com/event/buddy-week-6/
CATEGORIES:Manassas Park,Mapledale Plaza
END:VEVENT
BEGIN:VEVENT
DTSTART;VALUE=DATE:20260523
DTEND;VALUE=DATE:20260526
DTSTAMP:20260420T040927
CREATED:20260131T025749Z
LAST-MODIFIED:20260131T025749Z
UID:6027-1779494400-1779753599@www.yctaekwondo.com
SUMMARY:DoJang will be closed (Memorial Day weekend)
DESCRIPTION:
URL:https://www.yctaekwondo.com/event/dojang-will-be-closed-memorial-day-weekend-4/
CATEGORIES:Manassas Park,Mapledale Plaza
END:VEVENT
BEGIN:VEVENT
DTSTART;VALUE=DATE:20260601
DTEND;VALUE=DATE:20260602
DTSTAMP:20260420T040927
CREATED:20260131T162945Z
LAST-MODIFIED:20260131T162945Z
UID:6076-1780272000-1780358399@www.yctaekwondo.com
SUMMARY:2026-27 After School Registration OPEN
DESCRIPTION:
URL:https://www.yctaekwondo.com/event/2026-27-after-school-registration-open/
CATEGORIES:Manassas Park,Mapledale Plaza
END:VEVENT
BEGIN:VEVENT
DTSTART;TZID=America/New_York:20260605T180000
DTEND;TZID=America/New_York:20260605T203000
DTSTAMP:20260420T040927
CREATED:20260131T155643Z
LAST-MODIFIED:20260131T155643Z
UID:6036-1780682400-1780691400@www.yctaekwondo.com
SUMMARY:8th Preliminary Exam for next Black Belt Exam
DESCRIPTION:
URL:https://www.yctaekwondo.com/event/8th-preliminary-exam-for-next-black-belt-exam/
CATEGORIES:Manassas Park
END:VEVENT
BEGIN:VEVENT
DTSTART;TZID=America/New_York:20260606T110000
DTEND;TZID=America/New_York:20260606T130000
DTSTAMP:20260420T040927
CREATED:20260131T155735Z
LAST-MODIFIED:20260131T155735Z
UID:6038-1780743600-1780750800@www.yctaekwondo.com
SUMMARY:48th Preliminary Exam for next Black Belt Exam
DESCRIPTION:
URL:https://www.yctaekwondo.com/event/48th-preliminary-exam-for-next-black-belt-exam/
CATEGORIES:Mapledale Plaza
END:VEVENT
BEGIN:VEVENT
DTSTART;VALUE=DATE:20260610
DTEND;VALUE=DATE:20260612
DTSTAMP:20260420T040927
CREATED:20260131T160014Z
LAST-MODIFIED:20260131T160014Z
UID:6040-1781049600-1781222399@www.yctaekwondo.com
SUMMARY:All Color Belts Exam
DESCRIPTION:** Belt Ceremony will be held right after each exam** 
URL:https://www.yctaekwondo.com/event/all-color-belts-exam-21/
CATEGORIES:Manassas Park
END:VEVENT
BEGIN:VEVENT
DTSTART;VALUE=DATE:20260612
DTEND;VALUE=DATE:20260614
DTSTAMP:20260420T040927
CREATED:20260131T160220Z
LAST-MODIFIED:20260131T160220Z
UID:6042-1781222400-1781395199@www.yctaekwondo.com
SUMMARY:All Color Belts Exam
DESCRIPTION:** Belt Ceremony will be held right after each exam** 
URL:https://www.yctaekwondo.com/event/all-color-belts-exam-22/
CATEGORIES:Mapledale Plaza
END:VEVENT
BEGIN:VEVENT
DTSTART;VALUE=DATE:20260615
DTEND;VALUE=DATE:20260616
DTSTAMP:20260420T040927
CREATED:20260131T160538Z
LAST-MODIFIED:20260131T160538Z
UID:6044-1781481600-1781567999@www.yctaekwondo.com
SUMMARY:Wk 1 - Summer Camp
DESCRIPTION:
URL:https://www.yctaekwondo.com/event/wk-1-summer-camp/
CATEGORIES:Manassas Park,Mapledale Plaza
END:VEVENT
BEGIN:VEVENT
DTSTART;VALUE=DATE:20260615
DTEND;VALUE=DATE:20260616
DTSTAMP:20260420T040927
CREATED:20260131T163029Z
LAST-MODIFIED:20260131T163029Z
UID:6078-1781481600-1781567999@www.yctaekwondo.com
SUMMARY:2026-27 After School Registration OPEN
DESCRIPTION:
URL:https://www.yctaekwondo.com/event/2026-27-after-school-registration-open-2/
CATEGORIES:Manassas Park,Mapledale Plaza
END:VEVENT
BEGIN:VEVENT
DTSTART;VALUE=DATE:20260622
DTEND;VALUE=DATE:20260623
DTSTAMP:20260420T040927
CREATED:20260131T160619Z
LAST-MODIFIED:20260131T160619Z
UID:6047-1782086400-1782172799@www.yctaekwondo.com
SUMMARY:Wk 2 - Summer Camp
DESCRIPTION:
URL:https://www.yctaekwondo.com/event/wk-2-summer-camp/
CATEGORIES:Manassas Park,Mapledale Plaza
END:VEVENT
BEGIN:VEVENT
DTSTART;TZID=America/New_York:20260627T090000
DTEND;TZID=America/New_York:20260627T100000
DTSTAMP:20260420T040927
CREATED:20260131T165353Z
LAST-MODIFIED:20260131T165353Z
UID:6090-1782550800-1782554400@www.yctaekwondo.com
SUMMARY:Next Black Belt Exam -Running Test @ Woodbridge
DESCRIPTION:Both Woodbridge and Manassas Location will run together at the Woodbridge Dojang.
URL:https://www.yctaekwondo.com/event/next-black-belt-exam-running-test-woodbridge/
CATEGORIES:Manassas Park,Mapledale Plaza
END:VEVENT
BEGIN:VEVENT
DTSTART;VALUE=DATE:20260629
DTEND;VALUE=DATE:20260630
DTSTAMP:20260420T040927
CREATED:20260131T160702Z
LAST-MODIFIED:20260131T160702Z
UID:6049-1782691200-1782777599@www.yctaekwondo.com
SUMMARY:Wk 3 - Summer Camp
DESCRIPTION:
URL:https://www.yctaekwondo.com/event/wk-3-summer-camp/
CATEGORIES:Manassas Park,Mapledale Plaza
END:VEVENT
BEGIN:VEVENT
DTSTART;VALUE=DATE:20260629
DTEND;VALUE=DATE:20260630
DTSTAMP:20260420T040927
CREATED:20260131T163119Z
LAST-MODIFIED:20260131T163119Z
UID:6080-1782691200-1782777599@www.yctaekwondo.com
SUMMARY:2026-27 After School Registration OPEN
DESCRIPTION:
URL:https://www.yctaekwondo.com/event/2026-27-after-school-registration-open-3/
CATEGORIES:Manassas Park,Mapledale Plaza
END:VEVENT
BEGIN:VEVENT
DTSTART;VALUE=DATE:20260704
DTEND;VALUE=DATE:20260705
DTSTAMP:20260420T040927
CREATED:20260131T161921Z
LAST-MODIFIED:20260131T161921Z
UID:6063-1783123200-1783209599@www.yctaekwondo.com
SUMMARY:DoJang will be closed (Independence Day Weekend)
DESCRIPTION:YCTA will participate in Dale City Parade
URL:https://www.yctaekwondo.com/event/dojang-will-be-closed-independence-day-weekend-2/
CATEGORIES:Manassas Park,Mapledale Plaza
END:VEVENT
BEGIN:VEVENT
DTSTART;VALUE=DATE:20260706
DTEND;VALUE=DATE:20260707
DTSTAMP:20260420T040927
CREATED:20260131T160759Z
LAST-MODIFIED:20260131T160759Z
UID:6051-1783296000-1783382399@www.yctaekwondo.com
SUMMARY:Wk 4 - Summer Camp
DESCRIPTION:
URL:https://www.yctaekwondo.com/event/wk-4-summer-camp/
CATEGORIES:Manassas Park,Mapledale Plaza
END:VEVENT
BEGIN:VEVENT
DTSTART;VALUE=DATE:20260710
DTEND;VALUE=DATE:20260711
DTSTAMP:20260420T040927
CREATED:20260131T162333Z
LAST-MODIFIED:20260131T162333Z
UID:6067-1783641600-1783727999@www.yctaekwondo.com
SUMMARY:8th Black Belt Level & Final Black Belt Exam
DESCRIPTION:
URL:https://www.yctaekwondo.com/event/8th-black-belt-level-final-black-belt-exam/
CATEGORIES:Manassas Park
END:VEVENT
BEGIN:VEVENT
DTSTART;VALUE=DATE:20260711
DTEND;VALUE=DATE:20260712
DTSTAMP:20260420T040927
CREATED:20260131T162211Z
LAST-MODIFIED:20260131T162211Z
UID:6065-1783728000-1783814399@www.yctaekwondo.com
SUMMARY:48th Black Belt Level & Final Black Belt Exam
DESCRIPTION:
URL:https://www.yctaekwondo.com/event/48th-black-belt-level-final-black-belt-exam/
CATEGORIES:Mapledale Plaza
END:VEVENT
BEGIN:VEVENT
DTSTART;VALUE=DATE:20260713
DTEND;VALUE=DATE:20260714
DTSTAMP:20260420T040927
CREATED:20260131T160950Z
LAST-MODIFIED:20260131T160950Z
UID:6053-1783900800-1783987199@www.yctaekwondo.com
SUMMARY:Wk 5 - Summer Camp
DESCRIPTION:
URL:https://www.yctaekwondo.com/event/wk-5-summer-camp/
CATEGORIES:Manassas Park,Mapledale Plaza
END:VEVENT
BEGIN:VEVENT
DTSTART;VALUE=DATE:20260713
DTEND;VALUE=DATE:20260714
DTSTAMP:20260420T040927
CREATED:20260131T163202Z
LAST-MODIFIED:20260131T163202Z
UID:6082-1783900800-1783987199@www.yctaekwondo.com
SUMMARY:2026-27 After School Registration OPEN
DESCRIPTION:
URL:https://www.yctaekwondo.com/event/2026-27-after-school-registration-open-4/
CATEGORIES:Manassas Park,Mapledale Plaza
END:VEVENT
BEGIN:VEVENT
DTSTART;VALUE=DATE:20260720
DTEND;VALUE=DATE:20260721
DTSTAMP:20260420T040927
CREATED:20260131T161102Z
LAST-MODIFIED:20260131T161102Z
UID:6055-1784505600-1784591999@www.yctaekwondo.com
SUMMARY:Wk 6 - Summer Camp
DESCRIPTION:
URL:https://www.yctaekwondo.com/event/wk-6-summer-camp/
CATEGORIES:Manassas Park,Mapledale Plaza
END:VEVENT
BEGIN:VEVENT
DTSTART;VALUE=DATE:20260727
DTEND;VALUE=DATE:20260728
DTSTAMP:20260420T040927
CREATED:20260131T161201Z
LAST-MODIFIED:20260131T161201Z
UID:6057-1785110400-1785196799@www.yctaekwondo.com
SUMMARY:Wk 7 - Summer Camp
DESCRIPTION:
URL:https://www.yctaekwondo.com/event/wk-7-summer-camp/
CATEGORIES:Manassas Park,Mapledale Plaza
END:VEVENT
BEGIN:VEVENT
DTSTART;VALUE=DATE:20260727
DTEND;VALUE=DATE:20260728
DTSTAMP:20260420T040927
CREATED:20260131T163240Z
LAST-MODIFIED:20260131T163240Z
UID:6084-1785110400-1785196799@www.yctaekwondo.com
SUMMARY:2026-27 After School Registration OPEN
DESCRIPTION:
URL:https://www.yctaekwondo.com/event/2026-27-after-school-registration-open-5/
CATEGORIES:Manassas Park,Mapledale Plaza
END:VEVENT
BEGIN:VEVENT
DTSTART;VALUE=DATE:20260803
DTEND;VALUE=DATE:20260804
DTSTAMP:20260420T040927
CREATED:20260131T161259Z
LAST-MODIFIED:20260131T161259Z
UID:6059-1785715200-1785801599@www.yctaekwondo.com
SUMMARY:Wk 8 - Summer Camp
DESCRIPTION:
URL:https://www.yctaekwondo.com/event/wk-8-summer-camp/
CATEGORIES:Manassas Park,Mapledale Plaza
END:VEVENT
BEGIN:VEVENT
DTSTART;VALUE=DATE:20260806
DTEND;VALUE=DATE:20260809
DTSTAMP:20260420T040927
CREATED:20260131T162526Z
LAST-MODIFIED:20260131T162526Z
UID:6069-1785974400-1786233599@www.yctaekwondo.com
SUMMARY:All Color Belt Exams &  Belt Ceremony
DESCRIPTION:
URL:https://www.yctaekwondo.com/event/all-color-belt-exams-belt-ceremony/
CATEGORIES:Manassas Park
END:VEVENT
BEGIN:VEVENT
DTSTART;VALUE=DATE:20260810
DTEND;VALUE=DATE:20260811
DTSTAMP:20260420T040927
CREATED:20260131T161352Z
LAST-MODIFIED:20260131T161352Z
UID:6061-1786320000-1786406399@www.yctaekwondo.com
SUMMARY:Wk 9 - Summer Camp
DESCRIPTION:
URL:https://www.yctaekwondo.com/event/wk-9-summer-camp/
CATEGORIES:Manassas Park,Mapledale Plaza
END:VEVENT
BEGIN:VEVENT
DTSTART;VALUE=DATE:20260810
DTEND;VALUE=DATE:20260811
DTSTAMP:20260420T040927
CREATED:20260131T163322Z
LAST-MODIFIED:20260131T163322Z
UID:6086-1786320000-1786406399@www.yctaekwondo.com
SUMMARY:2026-27 After School Registration OPEN
DESCRIPTION:
URL:https://www.yctaekwondo.com/event/2026-27-after-school-registration-open-6/
CATEGORIES:Manassas Park,Mapledale Plaza
END:VEVENT
END:VCALENDAR