BEGIN:VCALENDAR
VERSION:2.0
PRODID:-//Yi Champions Taekwondo Academy - ECPv6.15.13//NONSGML v1.0//EN
CALSCALE:GREGORIAN
METHOD:PUBLISH
X-WR-CALNAME:Yi Champions Taekwondo Academy
X-ORIGINAL-URL:https://www.yctaekwondo.com
X-WR-CALDESC:Events for Yi Champions Taekwondo Academy
REFRESH-INTERVAL;VALUE=DURATION:PT1H
X-Robots-Tag:noindex
X-PUBLISHED-TTL:PT1H
BEGIN:VTIMEZONE
TZID:America/New_York
BEGIN:DAYLIGHT
TZOFFSETFROM:-0500
TZOFFSETTO:-0400
TZNAME:EDT
DTSTART:20220313T070000
END:DAYLIGHT
BEGIN:STANDARD
TZOFFSETFROM:-0400
TZOFFSETTO:-0500
TZNAME:EST
DTSTART:20221106T060000
END:STANDARD
BEGIN:DAYLIGHT
TZOFFSETFROM:-0500
TZOFFSETTO:-0400
TZNAME:EDT
DTSTART:20230312T070000
END:DAYLIGHT
BEGIN:STANDARD
TZOFFSETFROM:-0400
TZOFFSETTO:-0500
TZNAME:EST
DTSTART:20231105T060000
END:STANDARD
BEGIN:DAYLIGHT
TZOFFSETFROM:-0500
TZOFFSETTO:-0400
TZNAME:EDT
DTSTART:20240310T070000
END:DAYLIGHT
BEGIN:STANDARD
TZOFFSETFROM:-0400
TZOFFSETTO:-0500
TZNAME:EST
DTSTART:20241103T060000
END:STANDARD
BEGIN:DAYLIGHT
TZOFFSETFROM:-0500
TZOFFSETTO:-0400
TZNAME:EDT
DTSTART:20250309T070000
END:DAYLIGHT
BEGIN:STANDARD
TZOFFSETFROM:-0400
TZOFFSETTO:-0500
TZNAME:EST
DTSTART:20251102T060000
END:STANDARD
END:VTIMEZONE
BEGIN:VEVENT
DTSTART;VALUE=DATE:20240411
DTEND;VALUE=DATE:20240413
DTSTAMP:20260423T180819
CREATED:20240320T004854Z
LAST-MODIFIED:20240320T004854Z
UID:5106-1712793600-1712966399@www.yctaekwondo.com
SUMMARY:All Color Belts Exam
DESCRIPTION:Belt Ceremony will be right after the exam
URL:https://www.yctaekwondo.com/event/all-color-belts-exam-2/
CATEGORIES:Manassas Park
END:VEVENT
BEGIN:VEVENT
DTSTART;TZID=America/New_York:20240409T080000
DTEND;TZID=America/New_York:20240410T183000
DTSTAMP:20260423T180819
CREATED:20240108T193447Z
LAST-MODIFIED:20240108T193447Z
UID:4947-1712649600-1712773800@www.yctaekwondo.com
SUMMARY:Fun Camp (Teacher workday)
DESCRIPTION:
URL:https://www.yctaekwondo.com/event/fun-camp-teacher-workday/
CATEGORIES:Mapledale Plaza
END:VEVENT
BEGIN:VEVENT
DTSTART;VALUE=DATE:20240330
DTEND;VALUE=DATE:20240331
DTSTAMP:20260423T180819
CREATED:20240108T193232Z
LAST-MODIFIED:20240108T193232Z
UID:4935-1711756800-1711843199@www.yctaekwondo.com
SUMMARY:Do Jang will be closed
DESCRIPTION:Happy Easter!
URL:https://www.yctaekwondo.com/event/do-jang-will-be-closed/
CATEGORIES:Mapledale Plaza
END:VEVENT
BEGIN:VEVENT
DTSTART;VALUE=DATE:20240325
DTEND;VALUE=DATE:20240330
DTSTAMP:20260423T180819
CREATED:20240108T193128Z
LAST-MODIFIED:20240214T021934Z
UID:4933-1711324800-1711756799@www.yctaekwondo.com
SUMMARY:Spring Camp
DESCRIPTION:
URL:https://www.yctaekwondo.com/event/spring-camp/
CATEGORIES:Manassas Park,Mapledale Plaza
END:VEVENT
BEGIN:VEVENT
DTSTART;TZID=America/New_York:20240316T153000
DTEND;TZID=America/New_York:20240316T190000
DTSTAMP:20260423T180819
CREATED:20240108T193044Z
LAST-MODIFIED:20240212T000702Z
UID:4931-1710603000-1710615600@www.yctaekwondo.com
SUMMARY:Spring Season Nerf War and Parents Night Out
DESCRIPTION:  \n  \nWho can come:\nYCTA members\, siblings\, and friends \nWhat to bring:\nNerf gun\, protective glasses\, and positive attitude \nDinner included:\nPizza\, snacks and juice \n(Drop off – 3:20pm)
URL:https://www.yctaekwondo.com/event/spring-season-nerf-war-and-parents-night-out/
CATEGORIES:Mapledale Plaza
END:VEVENT
BEGIN:VEVENT
DTSTART;TZID=America/New_York:20240309T093000
DTEND;TZID=America/New_York:20240309T123000
DTSTAMP:20260423T180819
CREATED:20240108T192930Z
LAST-MODIFIED:20240108T193322Z
UID:4929-1709976600-1709987400@www.yctaekwondo.com
SUMMARY:The 41st Black Belt Leve& Final Black Belt Exam
DESCRIPTION:@ 9:30am – 12:30pm or more
URL:https://www.yctaekwondo.com/event/the-41st-black-belt-leve-final-black-belt-exam/
CATEGORIES:Mapledale Plaza
END:VEVENT
BEGIN:VEVENT
DTSTART;TZID=America/New_York:20240302T092000
DTEND;TZID=America/New_York:20240302T092000
DTSTAMP:20260423T180819
CREATED:20240108T192759Z
LAST-MODIFIED:20240214T021424Z
UID:4927-1709371200-1709371200@www.yctaekwondo.com
SUMMARY:The 41st Black Belt Group Running Test
DESCRIPTION:(The 2nd Location will join)
URL:https://www.yctaekwondo.com/event/the-41st-black-belt-group-running-test/
CATEGORIES:Manassas Park,Mapledale Plaza
END:VEVENT
BEGIN:VEVENT
DTSTART;TZID=America/New_York:20240301T080000
DTEND;TZID=America/New_York:20240301T170000
DTSTAMP:20260423T180819
CREATED:20240219T210412Z
LAST-MODIFIED:20240219T210412Z
UID:5071-1709280000-1709312400@www.yctaekwondo.com
SUMMARY:Buddy Day Week - Bring YCTA member’s friends\, co-workers\, and families
DESCRIPTION:Sign up from Buddy week Program \nwill get $20 off \nwill come 3 x /per week class first month. \n(usually 2x /per week ) \n 
URL:https://www.yctaekwondo.com/event/buddy-day-week-bring-ycta-members-friends-co-workers-and-families-2/
CATEGORIES:Manassas Park,Mapledale Plaza
END:VEVENT
BEGIN:VEVENT
DTSTART;VALUE=DATE:20240226
DTEND;VALUE=DATE:20240301
DTSTAMP:20260423T180819
CREATED:20240108T192527Z
LAST-MODIFIED:20240219T210153Z
UID:4925-1708905600-1709251199@www.yctaekwondo.com
SUMMARY:Buddy Day Week - Bring YCTA member’s friends\, co-workers\, and families
DESCRIPTION:
URL:https://www.yctaekwondo.com/event/buddy-day-week-bring-ycta-members-friends-co-workers-and-families/
CATEGORIES:Manassas Park,Mapledale Plaza
END:VEVENT
BEGIN:VEVENT
DTSTART;VALUE=DATE:20240220
DTEND;VALUE=DATE:20240221
DTSTAMP:20260423T180819
CREATED:20240109T180251Z
LAST-MODIFIED:20240211T232529Z
UID:5002-1708387200-1708473599@www.yctaekwondo.com
SUMMARY:Make-up Class
DESCRIPTION:Family Class @ 05:15pm
URL:https://www.yctaekwondo.com/event/make-up-class/
CATEGORIES:Manassas Park
END:VEVENT
BEGIN:VEVENT
DTSTART;TZID=America/New_York:20240219T100000
DTEND;TZID=America/New_York:20240219T130000
DTSTAMP:20260423T180819
CREATED:20240108T192422Z
LAST-MODIFIED:20240108T192422Z
UID:4923-1708336800-1708347600@www.yctaekwondo.com
SUMMARY:Early classes (President’s Day)
DESCRIPTION:Business will be closed at 4:00pm
URL:https://www.yctaekwondo.com/event/early-classes-presidents-day-2/
CATEGORIES:Mapledale Plaza
END:VEVENT
BEGIN:VEVENT
DTSTART;VALUE=DATE:20240219
DTEND;VALUE=DATE:20240220
DTSTAMP:20260423T180819
CREATED:20240109T180108Z
LAST-MODIFIED:20240211T230838Z
UID:5000-1708300800-1708387199@www.yctaekwondo.com
SUMMARY:No Class(Due to Presidents' Day)
DESCRIPTION:
URL:https://www.yctaekwondo.com/event/no-classdue-to-martin-luther-king-jr-day/
CATEGORIES:Manassas Park
END:VEVENT
BEGIN:VEVENT
DTSTART;VALUE=DATE:20240217
DTEND;VALUE=DATE:20240218
DTSTAMP:20260423T180819
CREATED:20240108T192056Z
LAST-MODIFIED:20240108T192151Z
UID:4920-1708128000-1708214399@www.yctaekwondo.com
SUMMARY:2024 YCTA Inner School Championships at YCTA
DESCRIPTION:(The 2nd Location will join) \n\nAll Black Belt Group (9:30am)\nAll Color belt Group (stand by 11:30am)
URL:https://www.yctaekwondo.com/event/2024-ycta-inner-school-championships-at-ycta/
CATEGORIES:Mapledale Plaza
END:VEVENT
BEGIN:VEVENT
DTSTART;TZID=America/New_York:20240210T094500
DTEND;TZID=America/New_York:20240210T134000
DTSTAMP:20260423T180819
CREATED:20240108T191845Z
LAST-MODIFIED:20240108T191845Z
UID:4918-1707558300-1707572400@www.yctaekwondo.com
SUMMARY:Color Belts Exam II (Graduation will be on the same day right after each exam
DESCRIPTION:1. Children Orange Belt – Red Belt @ 09:45am-11:45pm \n2. Children White Belt – Yellow Belt @ 12:10pm-01:40pm
URL:https://www.yctaekwondo.com/event/color-belts-exam-ii-graduation-will-be-on-the-same-day-right-after-each-exam/
CATEGORIES:Mapledale Plaza
END:VEVENT
BEGIN:VEVENT
DTSTART;TZID=America/New_York:20240209T161000
DTEND;TZID=America/New_York:20240209T161000
DTSTAMP:20260423T180819
CREATED:20240108T191650Z
LAST-MODIFIED:20240108T191650Z
UID:4916-1707495000-1707495000@www.yctaekwondo.com
SUMMARY:Color Belts Exam I (Graduation will be on the same day right after each exam)
DESCRIPTION:1. ASP Group Exam- @ 4:10pm \n 2. Peewee-all Levels – Only @ 5:20pm / No Demo Team Practice
URL:https://www.yctaekwondo.com/event/color-belts-exam-i-graduation-will-be-on-the-same-day-right-after-each-exam/
CATEGORIES:Mapledale Plaza
END:VEVENT
BEGIN:VEVENT
DTSTART;TZID=America/New_York:20240203T111500
DTEND;TZID=America/New_York:20240203T111500
DTSTAMP:20260423T180819
CREATED:20240108T191319Z
LAST-MODIFIED:20240108T191319Z
UID:4912-1706958900-1706958900@www.yctaekwondo.com
SUMMARY:Next 1st Dan Black Belt Group(41th)- Preliminary Exam (Bo Dan Group)
DESCRIPTION:
URL:https://www.yctaekwondo.com/event/next-1st-dan-black-belt-group41th-preliminary-exam-bo-dan-group/
CATEGORIES:Mapledale Plaza
END:VEVENT
BEGIN:VEVENT
DTSTART;VALUE=DATE:20240201
DTEND;VALUE=DATE:20240202
DTSTAMP:20260423T180819
CREATED:20240214T025229Z
LAST-MODIFIED:20240214T025530Z
UID:5062-1706745600-1706831999@www.yctaekwondo.com
SUMMARY:Early Bird Registration for 2024 Summer Camp Program
DESCRIPTION: \n\n \n  \n– Early Bird registration starts Feb 1\, 2024 and ends on Mar 30\, 2024. \n– Price will go back to the regular price after Mar 30\, 2024 \n 
URL:https://www.yctaekwondo.com/event/early-bird-register-for-2024-summer-camp-program/
CATEGORIES:Manassas Park
END:VEVENT
BEGIN:VEVENT
DTSTART;VALUE=DATE:20240201
DTEND;VALUE=DATE:20240202
DTSTAMP:20260423T180819
CREATED:20230102T212223Z
LAST-MODIFIED:20240214T025601Z
UID:4274-1706745600-1706831999@www.yctaekwondo.com
SUMMARY:Early Bird Registration for 2024 Summer Camp Program
DESCRIPTION: \n– Early Bird registration starts Feb 1\, 2024 and ends on Mar 30\, 2024. \n– Price will go back to the regular price after Mar 30\, 2024 \n \n 
URL:https://www.yctaekwondo.com/event/1st-early-bird-register-for-2023-summer-camp-program/
CATEGORIES:Mapledale Plaza
END:VEVENT
BEGIN:VEVENT
DTSTART;TZID=America/New_York:20240130T171500
DTEND;TZID=America/New_York:20240130T171500
DTSTAMP:20260423T180819
CREATED:20240109T180558Z
LAST-MODIFIED:20240109T180558Z
UID:5008-1706634900-1706634900@www.yctaekwondo.com
SUMMARY:Make-up Class
DESCRIPTION:
URL:https://www.yctaekwondo.com/event/make-up-class-2/
CATEGORIES:Manassas Park
END:VEVENT
BEGIN:VEVENT
DTSTART;TZID=America/New_York:20240129T080000
DTEND;TZID=America/New_York:20240129T183000
DTSTAMP:20260423T180819
CREATED:20240108T191000Z
LAST-MODIFIED:20240108T191341Z
UID:4910-1706515200-1706553000@www.yctaekwondo.com
SUMMARY:Fun Camp (Teacher work day)
DESCRIPTION:
URL:https://www.yctaekwondo.com/event/fun-camp-teacher-work-day/
CATEGORIES:Mapledale Plaza
END:VEVENT
BEGIN:VEVENT
DTSTART;TZID=America/New_York:20240122T080000
DTEND;TZID=America/New_York:20240122T183000
DTSTAMP:20260423T180819
CREATED:20240109T180518Z
LAST-MODIFIED:20240109T180518Z
UID:5006-1705910400-1705948200@www.yctaekwondo.com
SUMMARY:No School (Fun Day Camp)
DESCRIPTION:
URL:https://www.yctaekwondo.com/event/no-school-fun-day-camp-2/
CATEGORIES:Manassas Park
END:VEVENT
BEGIN:VEVENT
DTSTART;TZID=America/New_York:20240119T080000
DTEND;TZID=America/New_York:20240119T183000
DTSTAMP:20260423T180819
CREATED:20240109T180445Z
LAST-MODIFIED:20240109T181045Z
UID:5004-1705651200-1705689000@www.yctaekwondo.com
SUMMARY:No School (Fun Day Camp)
DESCRIPTION:
URL:https://www.yctaekwondo.com/event/no-school-fun-day-camp/
CATEGORIES:Manassas Park
END:VEVENT
BEGIN:VEVENT
DTSTART;TZID=America/New_York:20240113T111500
DTEND;TZID=America/New_York:20240113T133000
DTSTAMP:20260423T180819
CREATED:20240108T185947Z
LAST-MODIFIED:20240108T190604Z
UID:4904-1705144500-1705152600@www.yctaekwondo.com
SUMMARY:4th Dan &Higher Ranks Preliminary Exam
DESCRIPTION:
URL:https://www.yctaekwondo.com/event/4th-dan-higher-ranks-preliminary-exam/
CATEGORIES:Mapledale Plaza
END:VEVENT
BEGIN:VEVENT
DTSTART;TZID=America/New_York:20240112T180000
DTEND;TZID=America/New_York:20240112T193000
DTSTAMP:20260423T180819
CREATED:20240108T184611Z
LAST-MODIFIED:20240109T175648Z
UID:4899-1705082400-1705087800@www.yctaekwondo.com
SUMMARY:2024 Free Trial Lesson for YCTA Champions Team (Demo/Sparring)
DESCRIPTION:Demo Team Poster 2024
URL:https://www.yctaekwondo.com/event/2024-free-trial-lesson-for-ycta-champions-team-demo-sparring-600pm/
CATEGORIES:Manassas Park,Mapledale Plaza
END:VEVENT
BEGIN:VEVENT
DTSTART;TZID=America/New_York:20231230T080000
DTEND;TZID=America/New_York:20240101T170000
DTSTAMP:20260423T180819
CREATED:20210123T223545Z
LAST-MODIFIED:20231014T224933Z
UID:3988-1703923200-1704128400@www.yctaekwondo.com
SUMMARY:DoJang will be closed for the Holiday Season
DESCRIPTION:Happy New Year
URL:https://www.yctaekwondo.com/event/dojang-will-be-closed-for-the-holiday-season-3/
CATEGORIES:Mapledale Plaza
END:VEVENT
BEGIN:VEVENT
DTSTART;TZID=America/New_York:20231215T180000
DTEND;TZID=America/New_York:20231215T200000
DTSTAMP:20260423T180819
CREATED:20230121T235019Z
LAST-MODIFIED:20231014T224933Z
UID:4356-1702663200-1702670400@www.yctaekwondo.com
SUMMARY:Holiday Party (Talent show\, TKD Demonstration & potluck party)
DESCRIPTION:Holiday party on Friday Dec.15\,2023 from 6pmt0 8:00pm \n Look for the sign up for potluck in front of the entrance door. \nalso\, sign  your child up for a spot in the show  \nWe would like to each child to receive a small gift at the party. please each family brings a small \,inexpensive gift( about $15-$25)  \nto be given to your child. Please wrap the gift and include a gift tag with your child’s name on it.
URL:https://www.yctaekwondo.com/event/holiday-party-talent-show-tkd-demonstration-potluck-party/
CATEGORIES:Mapledale Plaza
END:VEVENT
BEGIN:VEVENT
DTSTART;TZID=America/New_York:20231202T153000
DTEND;TZID=America/New_York:20231202T183000
DTSTAMP:20260423T180819
CREATED:20230221T185455Z
LAST-MODIFIED:20231120T183803Z
UID:4435-1701531000-1701541800@www.yctaekwondo.com
SUMMARY:Winter Season Nerf War & Parents Night Out
DESCRIPTION:Event Hours: from 3:30-6:30pm        \nWhat to Bring: \nYour own nerf gun\, protective glasses\, pillow and positive attitude! \nTo wear any YCTA T-shirt or YCTA hood Tshirt with pajama pants \nAdmission Price:(Spots are LIMITED!) \n$35 YCTA Member\, Sibling or friend! \n$30 YCTA After School Program Student \nDinner Included: \nPizza\, snacks and juice \n-Schedule may be subject to change-
URL:https://www.yctaekwondo.com/event/winter-season-nerf-war-parents-night-out/
CATEGORIES:Mapledale Plaza
END:VEVENT
BEGIN:VEVENT
DTSTART;TZID=America/New_York:20231111T093000
DTEND;TZID=America/New_York:20231111T130000
DTSTAMP:20260423T180819
CREATED:20210122T221045Z
LAST-MODIFIED:20231014T224933Z
UID:3954-1699695000-1699707600@www.yctaekwondo.com
SUMMARY:The 40th Black Belt all Black Belt Group & 3rd Dan Exam
DESCRIPTION:Nov. 12 @ 9:30 am – 1:00 pm\n\n@ 9:30am- 12:30pm or more \nGoing to 1st\,2nd and 3rd Dan
URL:https://www.yctaekwondo.com/event/the-33rd-black-belt-final-group-3rd-dan-exam/
CATEGORIES:Mapledale Plaza
END:VEVENT
BEGIN:VEVENT
DTSTART;TZID=America/New_York:20231104T093000
DTEND;TZID=America/New_York:20231104T110000
DTSTAMP:20260423T180819
CREATED:20220101T223211Z
LAST-MODIFIED:20231020T171457Z
UID:4149-1699090200-1699095600@www.yctaekwondo.com
SUMMARY:Running Test: All Black Belt Group & Bo Dan Group (for the 40th Black Belt Exam)
DESCRIPTION: All Black Belt and Bo Dan Belt running outside Exam @9:20am &11:15am
URL:https://www.yctaekwondo.com/event/running-test-all-black-belt-group-bo-dan-group-for-the-37th-black-belt-exam/
CATEGORIES:Mapledale Plaza
END:VEVENT
BEGIN:VEVENT
DTSTART;TZID=America/New_York:20231021T093000
DTEND;TZID=America/New_York:20231021T150000
DTSTAMP:20260423T180819
CREATED:20210116T215324Z
LAST-MODIFIED:20231014T224933Z
UID:3917-1697880600-1697900400@www.yctaekwondo.com
SUMMARY:2023 YCTA Inner School Championship-2
DESCRIPTION:How the YCTA Inner School Champion is Organized \nEach belt category will be divided into groups of four. Each separate group of four will compete within itself. The four members of each group will be judged in four performance categories:  1st Place (1) 2nd Place (1) and 3rd Place (2). Each member of the group will receive a trophy and a certificate. For example\, if we have 16 White Belt students registered\, then we will make four groups of four. We have a goal of at least four or more groups of four (minimum of 3 & maximum of 5) in each rank category. As much as possible\, the groups will be further divided by age\, height\, sex and ability.   \nTo do \n\nForm\nBreaking\nSparring or kicking target in a  limited time.\n\nGroup \n\nBlack Belt\nColor Belt\ndivided by ages\, Gender and Ranks
URL:https://www.yctaekwondo.com/event/2021-ycta-inner-school-championship-2/
CATEGORIES:Mapledale Plaza
END:VEVENT
END:VCALENDAR