BEGIN:VCALENDAR
VERSION:2.0
PRODID:-//Yi Champions Taekwondo Academy - ECPv6.15.13//NONSGML v1.0//EN
CALSCALE:GREGORIAN
METHOD:PUBLISH
X-ORIGINAL-URL:https://www.yctaekwondo.com
X-WR-CALDESC:Events for Yi Champions Taekwondo Academy
REFRESH-INTERVAL;VALUE=DURATION:PT1H
X-Robots-Tag:noindex
X-PUBLISHED-TTL:PT1H
BEGIN:VTIMEZONE
TZID:America/New_York
BEGIN:DAYLIGHT
TZOFFSETFROM:-0500
TZOFFSETTO:-0400
TZNAME:EDT
DTSTART:20230312T070000
END:DAYLIGHT
BEGIN:STANDARD
TZOFFSETFROM:-0400
TZOFFSETTO:-0500
TZNAME:EST
DTSTART:20231105T060000
END:STANDARD
BEGIN:DAYLIGHT
TZOFFSETFROM:-0500
TZOFFSETTO:-0400
TZNAME:EDT
DTSTART:20240310T070000
END:DAYLIGHT
BEGIN:STANDARD
TZOFFSETFROM:-0400
TZOFFSETTO:-0500
TZNAME:EST
DTSTART:20241103T060000
END:STANDARD
BEGIN:DAYLIGHT
TZOFFSETFROM:-0500
TZOFFSETTO:-0400
TZNAME:EDT
DTSTART:20250309T070000
END:DAYLIGHT
BEGIN:STANDARD
TZOFFSETFROM:-0400
TZOFFSETTO:-0500
TZNAME:EST
DTSTART:20251102T060000
END:STANDARD
END:VTIMEZONE
BEGIN:VEVENT
DTSTART;TZID=America/New_York:20240420T094500
DTEND;TZID=America/New_York:20240420T094500
DTSTAMP:20260423T165226
CREATED:20240108T193651Z
LAST-MODIFIED:20240108T193651Z
UID:4951-1713606300-1713606300@www.yctaekwondo.com
SUMMARY:All Ranks Belt & Ceremony Potluck Lunch
DESCRIPTION:
URL:https://www.yctaekwondo.com/event/all-ranks-belt-ceremony-potluck-lunch/
CATEGORIES:Mapledale Plaza
END:VEVENT
BEGIN:VEVENT
DTSTART;VALUE=DATE:20240422
DTEND;VALUE=DATE:20240512
DTSTAMP:20260423T165226
CREATED:20240108T193924Z
LAST-MODIFIED:20240320T005506Z
UID:4958-1713744000-1715471999@www.yctaekwondo.com
SUMMARY:Mother's Day Special Classes for 3 weeks
DESCRIPTION:
URL:https://www.yctaekwondo.com/event/mothers-day-special-classes-for-2-weeks/
CATEGORIES:Manassas Park,Mapledale Plaza
END:VEVENT
BEGIN:VEVENT
DTSTART;VALUE=DATE:20240427
DTEND;VALUE=DATE:20240428
DTSTAMP:20260423T165226
CREATED:20240320T010109Z
LAST-MODIFIED:20240320T010109Z
UID:5110-1714176000-1714262399@www.yctaekwondo.com
SUMMARY:2024 Hanmadang Championship @ Winchester
DESCRIPTION:YCTA Members will be participating for Breaking and Forms
URL:https://www.yctaekwondo.com/event/2024-hanmadang-championship-winchester/
CATEGORIES:Manassas Park,Mapledale Plaza
END:VEVENT
BEGIN:VEVENT
DTSTART;VALUE=DATE:20240504
DTEND;VALUE=DATE:20240505
DTSTAMP:20260423T165226
CREATED:20240320T011120Z
LAST-MODIFIED:20240320T011120Z
UID:5115-1714780800-1714867199@www.yctaekwondo.com
SUMMARY:2024 Spar War Championship
DESCRIPTION:YCTA members will participate in this event
URL:https://www.yctaekwondo.com/event/2024-spar-war-championship/
CATEGORIES:Manassas Park,Mapledale Plaza
END:VEVENT
BEGIN:VEVENT
DTSTART;TZID=America/New_York:20240511T100000
DTEND;TZID=America/New_York:20240511T110000
DTSTAMP:20260423T165226
CREATED:20240511T014927Z
LAST-MODIFIED:20240511T015005Z
UID:5156-1715421600-1715425200@www.yctaekwondo.com
SUMMARY:Make-up Class
DESCRIPTION:Family Class @ 10:00am
URL:https://www.yctaekwondo.com/event/make-up-class-5/
CATEGORIES:Mapledale Plaza
END:VEVENT
BEGIN:VEVENT
DTSTART;TZID=America/New_York:20240511T103000
DTEND;TZID=America/New_York:20240511T113000
DTSTAMP:20260423T165226
CREATED:20240511T014731Z
LAST-MODIFIED:20240511T014731Z
UID:5154-1715423400-1715427000@www.yctaekwondo.com
SUMMARY:Make-up Class
DESCRIPTION:Family Class – 10:30am
URL:https://www.yctaekwondo.com/event/make-up-class-4/
CATEGORIES:Manassas Park
END:VEVENT
BEGIN:VEVENT
DTSTART;VALUE=DATE:20240512
DTEND;VALUE=DATE:20240513
DTSTAMP:20260423T165226
CREATED:20240108T193959Z
LAST-MODIFIED:20240320T005148Z
UID:4961-1715472000-1715558399@www.yctaekwondo.com
SUMMARY:Happy Mother’s Day!
DESCRIPTION:
URL:https://www.yctaekwondo.com/event/happy-mothers-day-4/
CATEGORIES:Manassas Park,Mapledale Plaza
END:VEVENT
BEGIN:VEVENT
DTSTART;TZID=America/New_York:20240518T100000
DTEND;TZID=America/New_York:20240518T110000
DTSTAMP:20260423T165226
CREATED:20240511T015056Z
LAST-MODIFIED:20240511T015056Z
UID:5158-1716026400-1716030000@www.yctaekwondo.com
SUMMARY:Make-up Class
DESCRIPTION:Family Class @ 10:00am
URL:https://www.yctaekwondo.com/event/make-up-class-6/
CATEGORIES:Mapledale Plaza
END:VEVENT
BEGIN:VEVENT
DTSTART;VALUE=DATE:20240520
DTEND;VALUE=DATE:20240525
DTSTAMP:20260423T165226
CREATED:20210116T205904Z
LAST-MODIFIED:20240511T014328Z
UID:3890-1716163200-1716595199@www.yctaekwondo.com
SUMMARY:Buddy Week
DESCRIPTION:
URL:https://www.yctaekwondo.com/event/buddy-days2/
CATEGORIES:Mapledale Plaza
END:VEVENT
BEGIN:VEVENT
DTSTART;VALUE=DATE:20240520
DTEND;VALUE=DATE:20240525
DTSTAMP:20260423T165226
CREATED:20240511T014428Z
LAST-MODIFIED:20240511T014428Z
UID:5150-1716163200-1716595199@www.yctaekwondo.com
SUMMARY:Buddy Week
DESCRIPTION:
URL:https://www.yctaekwondo.com/event/buddy-week-2/
CATEGORIES:Manassas Park
END:VEVENT
BEGIN:VEVENT
DTSTART;VALUE=DATE:20240525
DTEND;VALUE=DATE:20240528
DTSTAMP:20260423T165226
CREATED:20240108T194202Z
LAST-MODIFIED:20240511T014524Z
UID:4963-1716595200-1716854399@www.yctaekwondo.com
SUMMARY:DoJang will be closed (Memorial Day weekend)
DESCRIPTION:
URL:https://www.yctaekwondo.com/event/dojang-will-be-closed-memorial-day-weekend-2/
CATEGORIES:Manassas Park,Mapledale Plaza
END:VEVENT
BEGIN:VEVENT
DTSTART;TZID=America/New_York:20240601T111500
DTEND;TZID=America/New_York:20240601T153000
DTSTAMP:20260423T165226
CREATED:20240320T011457Z
LAST-MODIFIED:20240320T011457Z
UID:5117-1717240500-1717255800@www.yctaekwondo.com
SUMMARY:Next 1st Dan Black Belt Group(42nd)- Preliminary Exam (Bo Dan Group)
DESCRIPTION:
URL:https://www.yctaekwondo.com/event/next-1st-dan-black-belt-group42nd-preliminary-exam-bo-dan-group/
CATEGORIES:Mapledale Plaza
END:VEVENT
BEGIN:VEVENT
DTSTART;VALUE=DATE:20240606
DTEND;VALUE=DATE:20240608
DTSTAMP:20260423T165226
CREATED:20240320T012736Z
LAST-MODIFIED:20240511T192740Z
UID:5123-1717632000-1717804799@www.yctaekwondo.com
SUMMARY:All Color Belts Exam
DESCRIPTION:Belt Ceremony will be on the same day right after each exam
URL:https://www.yctaekwondo.com/event/all-color-belts-exam-3/
CATEGORIES:Manassas Park
END:VEVENT
BEGIN:VEVENT
DTSTART;VALUE=DATE:20240608
DTEND;VALUE=DATE:20240609
DTSTAMP:20260423T165226
CREATED:20240511T191806Z
LAST-MODIFIED:20240511T191806Z
UID:5160-1717804800-1717891199@www.yctaekwondo.com
SUMMARY:Next 1st Dan Black Belt Group - Preliminary Exam (Bo Dan Group)
DESCRIPTION:
URL:https://www.yctaekwondo.com/event/next-1st-dan-black-belt-group-preliminary-exam-bo-dan-group/
CATEGORIES:Manassas Park
END:VEVENT
BEGIN:VEVENT
DTSTART;VALUE=DATE:20240610
DTEND;VALUE=DATE:20240611
DTSTAMP:20260423T165226
CREATED:20240108T194844Z
LAST-MODIFIED:20240511T015624Z
UID:4969-1717977600-1718063999@www.yctaekwondo.com
SUMMARY:Modified Regular class Schedule begins(Summer) (To the end Aug.16\,2024)
DESCRIPTION:
URL:https://www.yctaekwondo.com/event/modified-regular-class-schedule-beginssummer-to-the-end-aug-162024/
CATEGORIES:Manassas Park,Mapledale Plaza
END:VEVENT
BEGIN:VEVENT
DTSTART;VALUE=DATE:20240610
DTEND;VALUE=DATE:20240611
DTSTAMP:20260423T165226
CREATED:20240108T195107Z
LAST-MODIFIED:20240214T022447Z
UID:4973-1717977600-1718063999@www.yctaekwondo.com
SUMMARY:1st week of Summer Camp
DESCRIPTION:
URL:https://www.yctaekwondo.com/event/1st-to-3rd-weeks-of-childrens-summer-camp/
CATEGORIES:Manassas Park,Mapledale Plaza
END:VEVENT
BEGIN:VEVENT
DTSTART;VALUE=DATE:20240610
DTEND;VALUE=DATE:20240616
DTSTAMP:20260423T165226
CREATED:20240320T012103Z
LAST-MODIFIED:20240320T012103Z
UID:5120-1717977600-1718495999@www.yctaekwondo.com
SUMMARY:Father's Day Special Classes
DESCRIPTION:
URL:https://www.yctaekwondo.com/event/fathers-day-special-classes/
CATEGORIES:Manassas Park,Mapledale Plaza
END:VEVENT
BEGIN:VEVENT
DTSTART;VALUE=DATE:20240615
DTEND;VALUE=DATE:20240616
DTSTAMP:20260423T165226
CREATED:20240108T194327Z
LAST-MODIFIED:20240511T192817Z
UID:4965-1718409600-1718495999@www.yctaekwondo.com
SUMMARY:All Color Belts Exam
DESCRIPTION:Belt Ceremony will be on the same day right after the exam
URL:https://www.yctaekwondo.com/event/color-belts-exam-graduation-will-be-on-the-same-day-right-after-each-exam/
CATEGORIES:Mapledale Plaza
END:VEVENT
BEGIN:VEVENT
DTSTART;VALUE=DATE:20240616
DTEND;VALUE=DATE:20240617
DTSTAMP:20260423T165226
CREATED:20240108T194909Z
LAST-MODIFIED:20240320T011900Z
UID:4971-1718496000-1718582399@www.yctaekwondo.com
SUMMARY:Happy Father’s Day
DESCRIPTION:
URL:https://www.yctaekwondo.com/event/happy-fathers-day-2/
CATEGORIES:Manassas Park,Mapledale Plaza
END:VEVENT
BEGIN:VEVENT
DTSTART;VALUE=DATE:20240617
DTEND;VALUE=DATE:20240618
DTSTAMP:20260423T165226
CREATED:20240214T022909Z
LAST-MODIFIED:20240214T022909Z
UID:5041-1718582400-1718668799@www.yctaekwondo.com
SUMMARY:2nd week of Summer Camp
DESCRIPTION:
URL:https://www.yctaekwondo.com/event/2nd-week-of-summer-camp/
CATEGORIES:Manassas Park,Mapledale Plaza
END:VEVENT
BEGIN:VEVENT
DTSTART;VALUE=DATE:20240624
DTEND;VALUE=DATE:20240625
DTSTAMP:20260423T165226
CREATED:20240214T022953Z
LAST-MODIFIED:20240214T022953Z
UID:5043-1719187200-1719273599@www.yctaekwondo.com
SUMMARY:3rd week of Summer Camp
DESCRIPTION:
URL:https://www.yctaekwondo.com/event/3rd-week-of-summer-camp/
CATEGORIES:Manassas Park,Mapledale Plaza
END:VEVENT
BEGIN:VEVENT
DTSTART;VALUE=DATE:20240629
DTEND;VALUE=DATE:20240630
DTSTAMP:20260423T165226
CREATED:20240108T195409Z
LAST-MODIFIED:20240511T191927Z
UID:4981-1719619200-1719705599@www.yctaekwondo.com
SUMMARY:The 42nd Black Belt Group Running Test
DESCRIPTION:
URL:https://www.yctaekwondo.com/event/the-42nd-black-belt-group-running-test/
CATEGORIES:Manassas Park,Mapledale Plaza
END:VEVENT
BEGIN:VEVENT
DTSTART;VALUE=DATE:20240701
DTEND;VALUE=DATE:20240702
DTSTAMP:20260423T165226
CREATED:20240108T195149Z
LAST-MODIFIED:20240214T023101Z
UID:4975-1719792000-1719878399@www.yctaekwondo.com
SUMMARY:4th week of Summer Camp
DESCRIPTION:
URL:https://www.yctaekwondo.com/event/4th-to-7th-weeks-of-childrens-summer-camp/
CATEGORIES:Manassas Park,Mapledale Plaza
END:VEVENT
BEGIN:VEVENT
DTSTART;VALUE=DATE:20240704
DTEND;VALUE=DATE:20240705
DTSTAMP:20260423T165226
CREATED:20240108T195237Z
LAST-MODIFIED:20240320T012919Z
UID:4977-1720051200-1720137599@www.yctaekwondo.com
SUMMARY:DoJang will be closed (Independence Day)
DESCRIPTION:YCTA will participate in the Dale City Parade
URL:https://www.yctaekwondo.com/event/dojang-will-be-closed-independence-day/
CATEGORIES:Manassas Park,Mapledale Plaza
END:VEVENT
BEGIN:VEVENT
DTSTART;TZID=America/New_York:20240706T111500
DTEND;TZID=America/New_York:20240706T111500
DTSTAMP:20260423T165226
CREATED:20240108T195310Z
LAST-MODIFIED:20240108T195310Z
UID:4979-1720264500-1720264500@www.yctaekwondo.com
SUMMARY:4th Dan &Higher ranks Preliminary Exam
DESCRIPTION:
URL:https://www.yctaekwondo.com/event/4th-dan-higher-ranks-preliminary-exam-2/
CATEGORIES:Mapledale Plaza
END:VEVENT
BEGIN:VEVENT
DTSTART;VALUE=DATE:20240708
DTEND;VALUE=DATE:20240709
DTSTAMP:20260423T165226
CREATED:20240214T023150Z
LAST-MODIFIED:20240214T023150Z
UID:5046-1720396800-1720483199@www.yctaekwondo.com
SUMMARY:5th week of Summer Camp
DESCRIPTION:
URL:https://www.yctaekwondo.com/event/5th-week-of-summer-camp/
CATEGORIES:Manassas Park,Mapledale Plaza
END:VEVENT
BEGIN:VEVENT
DTSTART;TZID=America/New_York:20240713T093000
DTEND;TZID=America/New_York:20240713T123000
DTSTAMP:20260423T165226
CREATED:20240108T195532Z
LAST-MODIFIED:20240511T192227Z
UID:4983-1720863000-1720873800@www.yctaekwondo.com
SUMMARY:The 42nd Black Belt Level & Final Black Belt Exam
DESCRIPTION:
URL:https://www.yctaekwondo.com/event/the-42nd-black-belt-leve-final-black-belt-exam/
CATEGORIES:Mapledale Plaza
END:VEVENT
BEGIN:VEVENT
DTSTART;VALUE=DATE:20240715
DTEND;VALUE=DATE:20240716
DTSTAMP:20260423T165226
CREATED:20240214T023219Z
LAST-MODIFIED:20240214T023219Z
UID:5048-1721001600-1721087999@www.yctaekwondo.com
SUMMARY:6th week of Summer Camp
DESCRIPTION:
URL:https://www.yctaekwondo.com/event/6th-week-of-summer-camp/
CATEGORIES:Manassas Park,Mapledale Plaza
END:VEVENT
BEGIN:VEVENT
DTSTART;TZID=America/New_York:20240720T093000
DTEND;TZID=America/New_York:20240720T123000
DTSTAMP:20260423T165226
CREATED:20240320T013343Z
LAST-MODIFIED:20240515T011316Z
UID:5127-1721467800-1721478600@www.yctaekwondo.com
SUMMARY:2nd Black Belt Group Exam
DESCRIPTION:
URL:https://www.yctaekwondo.com/event/black-belt-group-exam/
CATEGORIES:Manassas Park
END:VEVENT
BEGIN:VEVENT
DTSTART;VALUE=DATE:20240722
DTEND;VALUE=DATE:20240723
DTSTAMP:20260423T165226
CREATED:20240214T023242Z
LAST-MODIFIED:20240214T023251Z
UID:5050-1721606400-1721692799@www.yctaekwondo.com
SUMMARY:7th week of Summer Camp
DESCRIPTION:
URL:https://www.yctaekwondo.com/event/7th-week-of-summer-camp/
CATEGORIES:Manassas Park,Mapledale Plaza
END:VEVENT
END:VCALENDAR