BEGIN:VCALENDAR
VERSION:2.0
PRODID:-//Yi Champions Taekwondo Academy - ECPv6.15.13//NONSGML v1.0//EN
CALSCALE:GREGORIAN
METHOD:PUBLISH
X-WR-CALNAME:Yi Champions Taekwondo Academy
X-ORIGINAL-URL:https://www.yctaekwondo.com
X-WR-CALDESC:Events for Yi Champions Taekwondo Academy
REFRESH-INTERVAL;VALUE=DURATION:PT1H
X-Robots-Tag:noindex
X-PUBLISHED-TTL:PT1H
BEGIN:VTIMEZONE
TZID:America/New_York
BEGIN:DAYLIGHT
TZOFFSETFROM:-0500
TZOFFSETTO:-0400
TZNAME:EDT
DTSTART:20180311T070000
END:DAYLIGHT
BEGIN:STANDARD
TZOFFSETFROM:-0400
TZOFFSETTO:-0500
TZNAME:EST
DTSTART:20181104T060000
END:STANDARD
BEGIN:DAYLIGHT
TZOFFSETFROM:-0500
TZOFFSETTO:-0400
TZNAME:EDT
DTSTART:20190310T070000
END:DAYLIGHT
BEGIN:STANDARD
TZOFFSETFROM:-0400
TZOFFSETTO:-0500
TZNAME:EST
DTSTART:20191103T060000
END:STANDARD
BEGIN:DAYLIGHT
TZOFFSETFROM:-0500
TZOFFSETTO:-0400
TZNAME:EDT
DTSTART:20200308T070000
END:DAYLIGHT
BEGIN:STANDARD
TZOFFSETFROM:-0400
TZOFFSETTO:-0500
TZNAME:EST
DTSTART:20201101T060000
END:STANDARD
BEGIN:DAYLIGHT
TZOFFSETFROM:-0500
TZOFFSETTO:-0400
TZNAME:EDT
DTSTART:20210314T070000
END:DAYLIGHT
BEGIN:STANDARD
TZOFFSETFROM:-0400
TZOFFSETTO:-0500
TZNAME:EST
DTSTART:20211107T060000
END:STANDARD
END:VTIMEZONE
BEGIN:VEVENT
DTSTART;TZID=America/New_York:20200813T163000
DTEND;TZID=America/New_York:20200813T210000
DTSTAMP:20260425T114013
CREATED:20200120T151607Z
LAST-MODIFIED:20231014T225041Z
UID:3758-1597336200-1597352400@www.yctaekwondo.com
SUMMARY:Color Belt Exam II
DESCRIPTION:Children’s Blue – Red belt – 4:40 pm\nTeen + Adult group – 7:00 pm
URL:https://www.yctaekwondo.com/event/color-belt-exam-ii-5/
CATEGORIES:Mapledale Plaza
END:VEVENT
BEGIN:VEVENT
DTSTART;TZID=America/New_York:20200812T163000
DTEND;TZID=America/New_York:20200812T190000
DTSTAMP:20260425T114013
CREATED:20200120T151457Z
LAST-MODIFIED:20231014T225050Z
UID:3756-1597249800-1597258800@www.yctaekwondo.com
SUMMARY:Color Belt Exam I
DESCRIPTION:Peewee group – 4:40 pm \n 
URL:https://www.yctaekwondo.com/event/color-belt-exam-i-5/
CATEGORIES:Mapledale Plaza
END:VEVENT
BEGIN:VEVENT
DTSTART;VALUE=DATE:20200803
DTEND;VALUE=DATE:20200808
DTSTAMP:20260425T114013
CREATED:20200120T150908Z
LAST-MODIFIED:20231014T225050Z
UID:3744-1596412800-1596844799@www.yctaekwondo.com
SUMMARY:2020 Children's Summer Program week 8
DESCRIPTION:The hours will be from 7:30 am – 6:30 pm.
URL:https://www.yctaekwondo.com/event/2020-childrens-summer-camp-week-8/
CATEGORIES:Mapledale Plaza
END:VEVENT
BEGIN:VEVENT
DTSTART;TZID=America/New_York:20200718T093000
DTEND;TZID=America/New_York:20200718T123000
DTSTAMP:20260425T114013
CREATED:20200120T151334Z
LAST-MODIFIED:20231014T225050Z
UID:3754-1595064600-1595075400@www.yctaekwondo.com
SUMMARY:30th Black Belt Final Exam
DESCRIPTION:
URL:https://www.yctaekwondo.com/event/30th-black-belt-final-exam/
CATEGORIES:Mapledale Plaza
END:VEVENT
BEGIN:VEVENT
DTSTART;TZID=America/New_York:20200711T093000
DTEND;TZID=America/New_York:20200711T123000
DTSTAMP:20260425T114013
CREATED:20200120T151220Z
LAST-MODIFIED:20231014T225050Z
UID:3750-1594459800-1594470600@www.yctaekwondo.com
SUMMARY:30th Black Belt Level Exam
DESCRIPTION:
URL:https://www.yctaekwondo.com/event/30th-black-belt-level-exam/
CATEGORIES:Mapledale Plaza
END:VEVENT
BEGIN:VEVENT
DTSTART;VALUE=DATE:20200706
DTEND;VALUE=DATE:20200711
DTSTAMP:20260425T114013
CREATED:20200120T150643Z
LAST-MODIFIED:20231014T225050Z
UID:3736-1593993600-1594425599@www.yctaekwondo.com
SUMMARY:2020 Children's Summer Program week 4
DESCRIPTION:The hours will be from 7:30 am – 6:30 pm.
URL:https://www.yctaekwondo.com/event/2020-childrens-summer-camp-week-4/
CATEGORIES:Mapledale Plaza
END:VEVENT
BEGIN:VEVENT
DTSTART;TZID=America/New_York:20200613T093000
DTEND;TZID=America/New_York:20200613T160000
DTSTAMP:20260425T114013
CREATED:20200116T220938Z
LAST-MODIFIED:20231014T225050Z
UID:3718-1592040600-1592064000@www.yctaekwondo.com
SUMMARY:Color Belt Exam II
DESCRIPTION:Graduation will be on the same day right after each exam \n\nTeen + Adult group – 9:30 am \nChildren’s Blue – Red belt – 11:30 am\nChildren’s White – Purple belt – 2:00 pm
URL:https://www.yctaekwondo.com/event/color-belt-exam-ii-4/
CATEGORIES:Mapledale Plaza
END:VEVENT
BEGIN:VEVENT
DTSTART;VALUE=DATE:20200523
DTEND;VALUE=DATE:20200526
DTSTAMP:20260425T114013
CREATED:20200116T215115Z
LAST-MODIFIED:20231014T225050Z
UID:3712-1590192000-1590451199@www.yctaekwondo.com
SUMMARY:DoJang will be Closed due to Memorial Day weekend
DESCRIPTION:
URL:https://www.yctaekwondo.com/event/dojang-will-be-closed-due-to-memorial-day-weekend/
CATEGORIES:Mapledale Plaza
END:VEVENT
BEGIN:VEVENT
DTSTART;VALUE=DATE:20200516
DTEND;VALUE=DATE:20200517
DTSTAMP:20260425T114013
CREATED:20200116T215033Z
LAST-MODIFIED:20231014T225050Z
UID:3710-1589587200-1589673599@www.yctaekwondo.com
SUMMARY:YCTA Champions Team members (only)Taekwondo Championship in MD
DESCRIPTION:
URL:https://www.yctaekwondo.com/event/ycta-champions-team-members-onlytaekwondo-championship-in-md/
CATEGORIES:Mapledale Plaza
END:VEVENT
BEGIN:VEVENT
DTSTART;VALUE=DATE:20200509
DTEND;VALUE=DATE:20200510
DTSTAMP:20260425T114013
CREATED:20200116T214934Z
LAST-MODIFIED:20231014T225050Z
UID:3706-1588982400-1589068799@www.yctaekwondo.com
SUMMARY:Taekwondo Championship in Winchester\, VA
DESCRIPTION:
URL:https://www.yctaekwondo.com/event/taekwondo-championship-in-winchester-va/
CATEGORIES:Mapledale Plaza
END:VEVENT
BEGIN:VEVENT
DTSTART;TZID=America/New_York:20200502T140000
DTEND;TZID=America/New_York:20200502T170000
DTSTAMP:20260425T114013
CREATED:20200116T214902Z
LAST-MODIFIED:20231014T225050Z
UID:3704-1588428000-1588438800@www.yctaekwondo.com
SUMMARY:CPR Training @ YCTA
DESCRIPTION:
URL:https://www.yctaekwondo.com/event/cpr-training-ycta/
CATEGORIES:Mapledale Plaza
END:VEVENT
BEGIN:VEVENT
DTSTART;TZID=America/New_York:20200418T093000
DTEND;TZID=America/New_York:20200418T130000
DTSTAMP:20260425T114013
CREATED:20200116T214758Z
LAST-MODIFIED:20231014T225050Z
UID:3701-1587202200-1587214800@www.yctaekwondo.com
SUMMARY:All Belts Ceremony & Potluck Lunch
DESCRIPTION:
URL:https://www.yctaekwondo.com/event/all-belts-ceremony/
CATEGORIES:Mapledale Plaza
END:VEVENT
BEGIN:VEVENT
DTSTART;TZID=America/New_York:20200417T163000
DTEND;TZID=America/New_York:20200417T190000
DTSTAMP:20260425T114013
CREATED:20200116T214720Z
LAST-MODIFIED:20231014T225050Z
UID:3699-1587141000-1587150000@www.yctaekwondo.com
SUMMARY:Color Belt Exam III
DESCRIPTION:Children’s White – Purple – 4:40 pm\nYCTA Champions Team Training – 7:30 pm
URL:https://www.yctaekwondo.com/event/color-belt-exam-iii/
CATEGORIES:Mapledale Plaza
END:VEVENT
BEGIN:VEVENT
DTSTART;TZID=America/New_York:20200416T163000
DTEND;TZID=America/New_York:20200416T210000
DTSTAMP:20260425T114013
CREATED:20200116T214442Z
LAST-MODIFIED:20231014T225051Z
UID:3696-1587054600-1587070800@www.yctaekwondo.com
SUMMARY:Color Belt Exam II
DESCRIPTION:Children’s Blue – Red belt – 4:40 pm\nTeen + Adult group – 7:00 pm
URL:https://www.yctaekwondo.com/event/color-belt-exam-ii-3/
CATEGORIES:Mapledale Plaza
END:VEVENT
BEGIN:VEVENT
DTSTART;TZID=America/New_York:20200415T163000
DTEND;TZID=America/New_York:20200415T190000
DTSTAMP:20260425T114013
CREATED:20200116T214029Z
LAST-MODIFIED:20231014T225051Z
UID:3694-1586968200-1586977200@www.yctaekwondo.com
SUMMARY:Color Belt Exam I
DESCRIPTION:Peewee group – 4:40 pm
URL:https://www.yctaekwondo.com/event/color-belt-exam-i-3/
CATEGORIES:Mapledale Plaza
END:VEVENT
BEGIN:VEVENT
DTSTART;VALUE=DATE:20200413
DTEND;VALUE=DATE:20200418
DTSTAMP:20260425T114013
CREATED:20200116T213921Z
LAST-MODIFIED:20231014T225051Z
UID:3692-1586736000-1587167999@www.yctaekwondo.com
SUMMARY:2020 Children's Spring Camp II
DESCRIPTION:The hours will be from 7:30 am – 6:00 pm.
URL:https://www.yctaekwondo.com/event/2020-childrens-spring-camp-ii/
CATEGORIES:Mapledale Plaza
END:VEVENT
BEGIN:VEVENT
DTSTART;VALUE=DATE:20200411
DTEND;VALUE=DATE:20200412
DTSTAMP:20260425T114013
CREATED:20200116T213837Z
LAST-MODIFIED:20231014T225051Z
UID:3690-1586563200-1586649599@www.yctaekwondo.com
SUMMARY:DoJang will be Closed
DESCRIPTION:Happy Easter!
URL:https://www.yctaekwondo.com/event/dojang-will-be-closed-5/
CATEGORIES:Mapledale Plaza
END:VEVENT
BEGIN:VEVENT
DTSTART;VALUE=DATE:20200406
DTEND;VALUE=DATE:20200411
DTSTAMP:20260425T114013
CREATED:20200116T213801Z
LAST-MODIFIED:20231014T225051Z
UID:3688-1586131200-1586563199@www.yctaekwondo.com
SUMMARY:2020 Children's Spring Camp I
DESCRIPTION:The hours will be from 7:30 am – 6:00 pm.
URL:https://www.yctaekwondo.com/event/2020-childrens-spring-camp-i/
CATEGORIES:Mapledale Plaza
END:VEVENT
BEGIN:VEVENT
DTSTART;TZID=America/New_York:20200314T093000
DTEND;TZID=America/New_York:20200314T123000
DTSTAMP:20260425T114013
CREATED:20200116T213635Z
LAST-MODIFIED:20231014T225051Z
UID:3684-1584178200-1584189000@www.yctaekwondo.com
SUMMARY:29th Black Belt Final Exam
DESCRIPTION:
URL:https://www.yctaekwondo.com/event/29th-black-belt-final-exam/
CATEGORIES:Mapledale Plaza
END:VEVENT
BEGIN:VEVENT
DTSTART;TZID=America/New_York:20200307T093000
DTEND;TZID=America/New_York:20200307T123000
DTSTAMP:20260425T114013
CREATED:20200116T213603Z
LAST-MODIFIED:20231014T225051Z
UID:3682-1583573400-1583584200@www.yctaekwondo.com
SUMMARY:29th Black Belt Level Exam
DESCRIPTION:
URL:https://www.yctaekwondo.com/event/29th-black-belt-level-exam/
CATEGORIES:Mapledale Plaza
END:VEVENT
BEGIN:VEVENT
DTSTART;TZID=America/New_York:20200217T093000
DTEND;TZID=America/New_York:20200217T123000
DTSTAMP:20260425T114013
CREATED:20200116T213424Z
LAST-MODIFIED:20231014T225051Z
UID:3679-1581931800-1581942600@www.yctaekwondo.com
SUMMARY:Early Classes due to President's Day
DESCRIPTION:There will be no evening classes.
URL:https://www.yctaekwondo.com/event/early-classes-due-to-presidents-day/
CATEGORIES:Mapledale Plaza
END:VEVENT
BEGIN:VEVENT
DTSTART;VALUE=DATE:20200210
DTEND;VALUE=DATE:20200215
DTSTAMP:20260425T114013
CREATED:20200116T213332Z
LAST-MODIFIED:20231014T225101Z
UID:3677-1581292800-1581724799@www.yctaekwondo.com
SUMMARY:Buddy Day Week
DESCRIPTION:Invite your friends\, family members\, co-workers and neighbors to a free week of TKD lessons! A special discount will be offered for new members who sign up with us.
URL:https://www.yctaekwondo.com/event/buddy-day-week/
CATEGORIES:Mapledale Plaza
END:VEVENT
BEGIN:VEVENT
DTSTART;TZID=America/New_York:20200208T093000
DTEND;TZID=America/New_York:20200208T160000
DTSTAMP:20260425T114013
CREATED:20200116T213137Z
LAST-MODIFIED:20231014T225101Z
UID:3675-1581154200-1581177600@www.yctaekwondo.com
SUMMARY:Color Belt Exam II
DESCRIPTION:Graduation will be on the same day right after each exam \n\nTeen + Adult group – 9:30 am\nChildren’s Blue – Red belt – 11:30 am\nChildren’s White – Purple – 2:00 pm
URL:https://www.yctaekwondo.com/event/color-belt-exam-ii-2/
CATEGORIES:Mapledale Plaza
END:VEVENT
BEGIN:VEVENT
DTSTART;TZID=America/New_York:20200207T160000
DTEND;TZID=America/New_York:20200207T203000
DTSTAMP:20260425T114013
CREATED:20200116T213015Z
LAST-MODIFIED:20231014T225101Z
UID:3673-1581091200-1581107400@www.yctaekwondo.com
SUMMARY:Color Belt Exam I
DESCRIPTION:Graduation will be on the same day right after each exam \n\nASP Open Practice (no sparring) – 4:00 pm\nPeewee Group Exam – 4:40 pm\nYCTA Champions Team Training – 7:00 pm – 8:30 pm
URL:https://www.yctaekwondo.com/event/color-belt-exam-i-2/
CATEGORIES:Mapledale Plaza
END:VEVENT
BEGIN:VEVENT
DTSTART;TZID=America/New_York:20200201T140000
DTEND;TZID=America/New_York:20200201T160000
DTSTAMP:20260425T114013
CREATED:20200116T212754Z
LAST-MODIFIED:20231014T225101Z
UID:3671-1580565600-1580572800@www.yctaekwondo.com
SUMMARY:BoDan Preliminary Exam
DESCRIPTION:
URL:https://www.yctaekwondo.com/event/bodan-preliminary-exam/
CATEGORIES:Mapledale Plaza
END:VEVENT
BEGIN:VEVENT
DTSTART;TZID=America/New_York:20200127T080000
DTEND;TZID=America/New_York:20200127T183000
DTSTAMP:20260425T114013
CREATED:20191231T022117Z
LAST-MODIFIED:20231014T225101Z
UID:3651-1580112000-1580149800@www.yctaekwondo.com
SUMMARY:Fun Day Camp Program- Teacher work day
DESCRIPTION:Drop off : 8am to 10 am\nPick up :4:00pm – 6:30pm ( If parents need to drop child off from 7:30am\,let us know in advance)\nBring own – uniform \, lunch \, extra snacks and I pad
URL:https://www.yctaekwondo.com/event/early-class-martin-luther-king-jr-s-birthday-2/
CATEGORIES:Mapledale Plaza
END:VEVENT
BEGIN:VEVENT
DTSTART;TZID=America/New_York:20200125T093000
DTEND;TZID=America/New_York:20200125T140000
DTSTAMP:20260425T114013
CREATED:20191231T020126Z
LAST-MODIFIED:20231014T225101Z
UID:3647-1579944600-1579960800@www.yctaekwondo.com
SUMMARY:2020 YCTA Inner School Championship ( in the first half)
DESCRIPTION:9:15am Wight in – (Black Belt group only)\n9:30am to begin Black belt group ( Poomsae- Breaking – Sparring)\n11:30am Stand by Color Belt group \nParticipant Requirements\nYCTA members (or may be other join us)\nBurning desire to improve oneself\nYCTA White \,Black or any of color Uniform\nCheerful and positive attitude from beginning to end\nYour own safety equipment
URL:https://www.yctaekwondo.com/event/early-class-martin-luther-king-jr-s-birthday/
CATEGORIES:Mapledale Plaza
END:VEVENT
BEGIN:VEVENT
DTSTART;TZID=America/New_York:20200106T123000
DTEND;TZID=America/New_York:20200106T200000
DTSTAMP:20260425T114013
CREATED:20191231T023153Z
LAST-MODIFIED:20231014T225101Z
UID:3655-1578313800-1578340800@www.yctaekwondo.com
SUMMARY:Regular classes will resume  on Monday
DESCRIPTION:To start Spring Semester 2020 for After School Program\nRegular classes will resume form today.
URL:https://www.yctaekwondo.com/event/early-classes-due-to-martin-luther-king-jr-s-birthday/
CATEGORIES:Mapledale Plaza
END:VEVENT
BEGIN:VEVENT
DTSTART;VALUE=DATE:20191226
DTEND;VALUE=DATE:20191228
DTSTAMP:20260425T114013
CREATED:20191028T225639Z
LAST-MODIFIED:20231014T225101Z
UID:3609-1577318400-1577491199@www.yctaekwondo.com
SUMMARY:Winter Camp
DESCRIPTION:The hours will be from 7:30 am – 6:00 pm.
URL:https://www.yctaekwondo.com/event/winter-camp-2/
CATEGORIES:Mapledale Plaza
END:VEVENT
BEGIN:VEVENT
DTSTART;VALUE=DATE:20191225
DTEND;VALUE=DATE:20191226
DTSTAMP:20260425T114013
CREATED:20191028T225717Z
LAST-MODIFIED:20231014T225101Z
UID:3611-1577232000-1577318399@www.yctaekwondo.com
SUMMARY:Dojang Will Be Closed
DESCRIPTION:There will be no classes due to Christmas. Merry Christmas!
URL:https://www.yctaekwondo.com/event/dojang-will-be-closed-2/
CATEGORIES:Mapledale Plaza
END:VEVENT
END:VCALENDAR