BEGIN:VCALENDAR
VERSION:2.0
PRODID:-//Yi Champions Taekwondo Academy - ECPv6.15.13//NONSGML v1.0//EN
CALSCALE:GREGORIAN
METHOD:PUBLISH
X-WR-CALNAME:Yi Champions Taekwondo Academy
X-ORIGINAL-URL:https://www.yctaekwondo.com
X-WR-CALDESC:Events for Yi Champions Taekwondo Academy
REFRESH-INTERVAL;VALUE=DURATION:PT1H
X-Robots-Tag:noindex
X-PUBLISHED-TTL:PT1H
BEGIN:VTIMEZONE
TZID:America/New_York
BEGIN:DAYLIGHT
TZOFFSETFROM:-0500
TZOFFSETTO:-0400
TZNAME:EDT
DTSTART:20230312T070000
END:DAYLIGHT
BEGIN:STANDARD
TZOFFSETFROM:-0400
TZOFFSETTO:-0500
TZNAME:EST
DTSTART:20231105T060000
END:STANDARD
BEGIN:DAYLIGHT
TZOFFSETFROM:-0500
TZOFFSETTO:-0400
TZNAME:EDT
DTSTART:20240310T070000
END:DAYLIGHT
BEGIN:STANDARD
TZOFFSETFROM:-0400
TZOFFSETTO:-0500
TZNAME:EST
DTSTART:20241103T060000
END:STANDARD
BEGIN:DAYLIGHT
TZOFFSETFROM:-0500
TZOFFSETTO:-0400
TZNAME:EDT
DTSTART:20250309T070000
END:DAYLIGHT
BEGIN:STANDARD
TZOFFSETFROM:-0400
TZOFFSETTO:-0500
TZNAME:EST
DTSTART:20251102T060000
END:STANDARD
BEGIN:DAYLIGHT
TZOFFSETFROM:-0500
TZOFFSETTO:-0400
TZNAME:EDT
DTSTART:20260308T070000
END:DAYLIGHT
BEGIN:STANDARD
TZOFFSETFROM:-0400
TZOFFSETTO:-0500
TZNAME:EST
DTSTART:20261101T060000
END:STANDARD
END:VTIMEZONE
BEGIN:VEVENT
DTSTART;VALUE=DATE:20250121
DTEND;VALUE=DATE:20250122
DTSTAMP:20260423T053049
CREATED:20250115T134603Z
LAST-MODIFIED:20250115T134603Z
UID:5353-1737417600-1737503999@www.yctaekwondo.com
SUMMARY:Fun Day Daily Camp - No School Day
DESCRIPTION:
URL:https://www.yctaekwondo.com/event/fun-day-daily-camp-no-school-day-5/
CATEGORIES:Manassas Park
END:VEVENT
BEGIN:VEVENT
DTSTART;TZID=America/New_York:20250120T100000
DTEND;TZID=America/New_York:20250120T140000
DTSTAMP:20260423T053049
CREATED:20250115T034253Z
LAST-MODIFIED:20250115T034253Z
UID:5323-1737367200-1737381600@www.yctaekwondo.com
SUMMARY:Early Classes (MLK Day)
DESCRIPTION:Early Class Schedule \n** No evening classes** \n10:00 am – All Black Belts and Bodan \n11:00 am – Blue Belt to Red Belt \n12:00 pm – White Belt and Purple Belt \n** Business Hours – 10am to 2pm **
URL:https://www.yctaekwondo.com/event/early-classes-mlk-day/
CATEGORIES:Mapledale Plaza
END:VEVENT
BEGIN:VEVENT
DTSTART;VALUE=DATE:20250120
DTEND;VALUE=DATE:20250121
DTSTAMP:20260423T053049
CREATED:20250115T134522Z
LAST-MODIFIED:20250115T134522Z
UID:5351-1737331200-1737417599@www.yctaekwondo.com
SUMMARY:No Classes (MLK Day)
DESCRIPTION:Only Fitness Class @ 10am \n**No Evening Classes**
URL:https://www.yctaekwondo.com/event/no-classes-mlk-day/
CATEGORIES:Manassas Park
END:VEVENT
BEGIN:VEVENT
DTSTART;VALUE=DATE:20250102
DTEND;VALUE=DATE:20250104
DTSTAMP:20260423T053049
CREATED:20241028T142714Z
LAST-MODIFIED:20241028T142714Z
UID:5314-1735776000-1735948799@www.yctaekwondo.com
SUMMARY:2024 Winter Camp Week 2 ( 12/30 & 01/02-03)
DESCRIPTION:
URL:https://www.yctaekwondo.com/event/2024-winter-camp-week-2-12-30-01-02-03/
CATEGORIES:Manassas Park,Mapledale Plaza
END:VEVENT
BEGIN:VEVENT
DTSTART;VALUE=DATE:20241231
DTEND;VALUE=DATE:20250102
DTSTAMP:20260423T053049
CREATED:20240515T015043Z
LAST-MODIFIED:20241024T175147Z
UID:5207-1735603200-1735775999@www.yctaekwondo.com
SUMMARY:Dojang will be closed (New Year's Eve and New Year's Day)
DESCRIPTION:
URL:https://www.yctaekwondo.com/event/dojang-will-be-closed-new-years-eve-and-new-years-day/
CATEGORIES:Manassas Park,Mapledale Plaza
END:VEVENT
BEGIN:VEVENT
DTSTART;VALUE=DATE:20241230
DTEND;VALUE=DATE:20241231
DTSTAMP:20260423T053049
CREATED:20240515T015710Z
LAST-MODIFIED:20241028T142648Z
UID:5217-1735516800-1735603199@www.yctaekwondo.com
SUMMARY:2024 Winter Camp Week 2 ( 12/30 & 01/02-03)
DESCRIPTION:
URL:https://www.yctaekwondo.com/event/2024-winter-camp-week-2-12-30-31-01-02-03/
CATEGORIES:Manassas Park,Mapledale Plaza
END:VEVENT
BEGIN:VEVENT
DTSTART;VALUE=DATE:20241226
DTEND;VALUE=DATE:20241228
DTSTAMP:20260423T053049
CREATED:20241024T174804Z
LAST-MODIFIED:20241024T174804Z
UID:5307-1735171200-1735343999@www.yctaekwondo.com
SUMMARY:2024 Winter Camp Week 1 ( 12/23-24 & 12/26-27)
DESCRIPTION:
URL:https://www.yctaekwondo.com/event/2024-winter-camp-week-1-12-23-24-12-26-27-2/
CATEGORIES:Manassas Park,Mapledale Plaza
END:VEVENT
BEGIN:VEVENT
DTSTART;VALUE=DATE:20241225
DTEND;VALUE=DATE:20241226
DTSTAMP:20260423T053049
CREATED:20241024T175030Z
LAST-MODIFIED:20241024T175030Z
UID:5310-1735084800-1735171199@www.yctaekwondo.com
SUMMARY:Dojang will be closed (Christmas Day)
DESCRIPTION:
URL:https://www.yctaekwondo.com/event/dojang-will-be-closed-christmas-day/
CATEGORIES:Manassas Park,Mapledale Plaza
END:VEVENT
BEGIN:VEVENT
DTSTART;VALUE=DATE:20241224
DTEND;VALUE=DATE:20241225
DTSTAMP:20260423T053049
CREATED:20240515T014856Z
LAST-MODIFIED:20241024T175007Z
UID:5205-1734998400-1735084799@www.yctaekwondo.com
SUMMARY:No Classes (Christmas Eve)
DESCRIPTION:
URL:https://www.yctaekwondo.com/event/dojang-will-be-closed-christmas-eve-and-christmas-day/
CATEGORIES:Manassas Park,Mapledale Plaza
END:VEVENT
BEGIN:VEVENT
DTSTART;VALUE=DATE:20241223
DTEND;VALUE=DATE:20250105
DTSTAMP:20260423T053049
CREATED:20240515T014751Z
LAST-MODIFIED:20240515T014751Z
UID:5203-1734912000-1736035199@www.yctaekwondo.com
SUMMARY:Modified Class Schedule
DESCRIPTION:
URL:https://www.yctaekwondo.com/event/modified-class-schedule/
CATEGORIES:Manassas Park,Mapledale Plaza
END:VEVENT
BEGIN:VEVENT
DTSTART;VALUE=DATE:20241223
DTEND;VALUE=DATE:20241225
DTSTAMP:20260423T053049
CREATED:20240515T015624Z
LAST-MODIFIED:20241024T174743Z
UID:5215-1734912000-1735084799@www.yctaekwondo.com
SUMMARY:2024 Winter Camp Week 1 ( 12/23-24 & 12/26-27)
DESCRIPTION:
URL:https://www.yctaekwondo.com/event/2024-winter-camp-week-1-12-23-24-12-26-27/
CATEGORIES:Manassas Park,Mapledale Plaza
END:VEVENT
BEGIN:VEVENT
DTSTART;VALUE=DATE:20241221
DTEND;VALUE=DATE:20241222
DTSTAMP:20260423T053049
CREATED:20240515T015349Z
LAST-MODIFIED:20241024T174617Z
UID:5213-1734739200-1734825599@www.yctaekwondo.com
SUMMARY:Belt Ceremony for all belts and Potluck Lunch
DESCRIPTION:Belt Ceremony with Potluck Lunch along with Christmas Party/Talent Show and Annual Award Ceremony! 
URL:https://www.yctaekwondo.com/event/belt-ceremony-for-all-belts-and-potluck-lunch-3/
CATEGORIES:Mapledale Plaza
END:VEVENT
BEGIN:VEVENT
DTSTART;VALUE=DATE:20241219
DTEND;VALUE=DATE:20241221
DTSTAMP:20260423T053049
CREATED:20240515T015230Z
LAST-MODIFIED:20241024T174545Z
UID:5211-1734566400-1734739199@www.yctaekwondo.com
SUMMARY:All Color Belts Exam
DESCRIPTION:
URL:https://www.yctaekwondo.com/event/all-color-belts-exam-8/
CATEGORIES:Mapledale Plaza
END:VEVENT
BEGIN:VEVENT
DTSTART;VALUE=DATE:20241214
DTEND;VALUE=DATE:20241215
DTSTAMP:20260423T053049
CREATED:20240515T014636Z
LAST-MODIFIED:20241024T175438Z
UID:5201-1734134400-1734220799@www.yctaekwondo.com
SUMMARY:Belt Ceremony for all belts and Potluck Lunch
DESCRIPTION:Belt Ceremony with Potluck Lunch along with Christmas Party/Talent Show and Annual Award Ceremony! 
URL:https://www.yctaekwondo.com/event/belt-ceremony-for-all-belts-and-potluck/
CATEGORIES:Manassas Park
END:VEVENT
BEGIN:VEVENT
DTSTART;VALUE=DATE:20241211
DTEND;VALUE=DATE:20241213
DTSTAMP:20260423T053049
CREATED:20240515T014550Z
LAST-MODIFIED:20241024T175311Z
UID:5199-1733875200-1734047999@www.yctaekwondo.com
SUMMARY:All Color Belts Exam
DESCRIPTION:
URL:https://www.yctaekwondo.com/event/all-color-belts-exam-7/
CATEGORIES:Manassas Park
END:VEVENT
BEGIN:VEVENT
DTSTART;VALUE=DATE:20241207
DTEND;VALUE=DATE:20241208
DTSTAMP:20260423T053049
CREATED:20240515T015159Z
LAST-MODIFIED:20240515T015159Z
UID:5209-1733529600-1733615999@www.yctaekwondo.com
SUMMARY:2024 Winter Season Nerf War
DESCRIPTION:
URL:https://www.yctaekwondo.com/event/2024-winter-season-nerf-war-2/
CATEGORIES:Mapledale Plaza
END:VEVENT
BEGIN:VEVENT
DTSTART;VALUE=DATE:20241127
DTEND;VALUE=DATE:20241201
DTSTAMP:20260423T053049
CREATED:20240515T012054Z
LAST-MODIFIED:20240515T012054Z
UID:5191-1732665600-1733011199@www.yctaekwondo.com
SUMMARY:DoJang will be closed (Thanksgiving Day)
DESCRIPTION:
URL:https://www.yctaekwondo.com/event/dojang-will-be-closed-thanksgiving-day/
CATEGORIES:Manassas Park,Mapledale Plaza
END:VEVENT
BEGIN:VEVENT
DTSTART;VALUE=DATE:20241123
DTEND;VALUE=DATE:20241124
DTSTAMP:20260423T053049
CREATED:20240515T012548Z
LAST-MODIFIED:20241024T173819Z
UID:5197-1732320000-1732406399@www.yctaekwondo.com
SUMMARY:The 43rd Black Belt Level & Final Black Belt Exam
DESCRIPTION:
URL:https://www.yctaekwondo.com/event/the-43rd-black-belt-level-final-black-belt-exam/
CATEGORIES:Mapledale Plaza
END:VEVENT
BEGIN:VEVENT
DTSTART;TZID=America/New_York:20241122T183000
DTEND;TZID=America/New_York:20241122T200000
DTSTAMP:20260423T053049
CREATED:20240515T011446Z
LAST-MODIFIED:20241024T170837Z
UID:5185-1732300200-1732305600@www.yctaekwondo.com
SUMMARY:3rd Black Belt Group Exam
DESCRIPTION:
URL:https://www.yctaekwondo.com/event/3rd-black-belt-group-exam/
CATEGORIES:Manassas Park
END:VEVENT
BEGIN:VEVENT
DTSTART;TZID=America/New_York:20241111T100000
DTEND;TZID=America/New_York:20241111T130000
DTSTAMP:20260423T053049
CREATED:20240515T012435Z
LAST-MODIFIED:20241024T173917Z
UID:5195-1731319200-1731330000@www.yctaekwondo.com
SUMMARY:Early Classes (Veteran's Day)
DESCRIPTION:Early Class Schedule \n** No evening classes** \n10:00 am – All Black Belts and Bodan \n11:00 am – Orange Belt to Red Belt \n12:00 pm – White Belt and Yellow Belt \n 
URL:https://www.yctaekwondo.com/event/early-classes-veterans-day/
CATEGORIES:Mapledale Plaza
END:VEVENT
BEGIN:VEVENT
DTSTART;VALUE=DATE:20241111
DTEND;VALUE=DATE:20241112
DTSTAMP:20260423T053049
CREATED:20241024T174240Z
LAST-MODIFIED:20241024T174240Z
UID:5303-1731283200-1731369599@www.yctaekwondo.com
SUMMARY:Dojang will be closed (Veterans Day)
DESCRIPTION:
URL:https://www.yctaekwondo.com/event/dojang-will-be-closed-veterans-day/
CATEGORIES:Manassas Park
END:VEVENT
BEGIN:VEVENT
DTSTART;VALUE=DATE:20241104
DTEND;VALUE=DATE:20241109
DTSTAMP:20260423T053049
CREATED:20240511T200034Z
LAST-MODIFIED:20241024T173120Z
UID:5172-1730678400-1731110399@www.yctaekwondo.com
SUMMARY:Buddy Week
DESCRIPTION:
URL:https://www.yctaekwondo.com/event/buddy-week-3/
CATEGORIES:Manassas Park,Mapledale Plaza
END:VEVENT
BEGIN:VEVENT
DTSTART;VALUE=DATE:20241104
DTEND;VALUE=DATE:20241106
DTSTAMP:20260423T053049
CREATED:20240515T012245Z
LAST-MODIFIED:20241024T173543Z
UID:5193-1730678400-1730851199@www.yctaekwondo.com
SUMMARY:Fun Day Daily Camp -No School Day
DESCRIPTION:
URL:https://www.yctaekwondo.com/event/fun-day-daily-camp-no-school-day-2/
CATEGORIES:Manassas Park,Mapledale Plaza
END:VEVENT
BEGIN:VEVENT
DTSTART;VALUE=DATE:20241101
DTEND;VALUE=DATE:20241102
DTSTAMP:20260423T053049
CREATED:20241024T173556Z
LAST-MODIFIED:20241024T173556Z
UID:5297-1730419200-1730505599@www.yctaekwondo.com
SUMMARY:Fun Day Daily Camp -No School Day
DESCRIPTION:
URL:https://www.yctaekwondo.com/event/fun-day-daily-camp-no-school-day-3/
CATEGORIES:Manassas Park,Mapledale Plaza
END:VEVENT
BEGIN:VEVENT
DTSTART;VALUE=DATE:20241026
DTEND;VALUE=DATE:20241027
DTSTAMP:20260423T053049
CREATED:20240511T200138Z
LAST-MODIFIED:20241024T173419Z
UID:5174-1729900800-1729987199@www.yctaekwondo.com
SUMMARY:Black Belt Group Running Test
DESCRIPTION:
URL:https://www.yctaekwondo.com/event/black-belt-group-running-test/
CATEGORIES:Mapledale Plaza
END:VEVENT
BEGIN:VEVENT
DTSTART;VALUE=DATE:20241025
DTEND;VALUE=DATE:20241026
DTSTAMP:20260423T053049
CREATED:20240511T200656Z
LAST-MODIFIED:20241024T171108Z
UID:5176-1729814400-1729900799@www.yctaekwondo.com
SUMMARY:Next 1st Dan Black Belt Group - Preliminary Exam (Bo Dan Group)
DESCRIPTION:
URL:https://www.yctaekwondo.com/event/next-1st-dan-black-belt-group-preliminary-exam-bo-dan-group-2/
CATEGORIES:Manassas Park
END:VEVENT
BEGIN:VEVENT
DTSTART;VALUE=DATE:20241019
DTEND;VALUE=DATE:20241020
DTSTAMP:20260423T053049
CREATED:20241024T173439Z
LAST-MODIFIED:20241024T173439Z
UID:5295-1729296000-1729382399@www.yctaekwondo.com
SUMMARY:Black Belt Group Running Test
DESCRIPTION:
URL:https://www.yctaekwondo.com/event/black-belt-group-running-test-2/
CATEGORIES:Manassas Park
END:VEVENT
BEGIN:VEVENT
DTSTART;VALUE=DATE:20241019
DTEND;VALUE=DATE:20241020
DTSTAMP:20260423T053049
CREATED:20240515T011622Z
LAST-MODIFIED:20241024T174048Z
UID:5187-1729296000-1729382399@www.yctaekwondo.com
SUMMARY:2024 Fall Season Nerf War
DESCRIPTION:
URL:https://www.yctaekwondo.com/event/2024-winter-season-nerf-war/
CATEGORIES:Manassas Park
END:VEVENT
BEGIN:VEVENT
DTSTART;VALUE=DATE:20241019
DTEND;VALUE=DATE:20241020
DTSTAMP:20260423T053049
CREATED:20240511T200753Z
LAST-MODIFIED:20241024T172958Z
UID:5178-1729296000-1729382399@www.yctaekwondo.com
SUMMARY:43rd Next 1st Dan Black Belt Group - Preliminary Exam (Bo Dan Group)
DESCRIPTION:
URL:https://www.yctaekwondo.com/event/43rd-next-1st-dan-black-belt-group-preliminary-exam-bo-dan-group/
CATEGORIES:Mapledale Plaza
END:VEVENT
BEGIN:VEVENT
DTSTART;VALUE=DATE:20241014
DTEND;VALUE=DATE:20241015
DTSTAMP:20260423T053049
CREATED:20241024T174339Z
LAST-MODIFIED:20241024T174343Z
UID:5305-1728864000-1728950399@www.yctaekwondo.com
SUMMARY:Dojang will be closed (Columbus Day)
DESCRIPTION:
URL:https://www.yctaekwondo.com/event/dojang-will-be-closed-columbus-day/
CATEGORIES:Manassas Park
END:VEVENT
END:VCALENDAR