BEGIN:VCALENDAR
VERSION:2.0
PRODID:-//Yi Champions Taekwondo Academy - ECPv6.15.13//NONSGML v1.0//EN
CALSCALE:GREGORIAN
METHOD:PUBLISH
X-WR-CALNAME:Yi Champions Taekwondo Academy
X-ORIGINAL-URL:https://www.yctaekwondo.com
X-WR-CALDESC:Events for Yi Champions Taekwondo Academy
REFRESH-INTERVAL;VALUE=DURATION:PT1H
X-Robots-Tag:noindex
X-PUBLISHED-TTL:PT1H
BEGIN:VTIMEZONE
TZID:America/New_York
BEGIN:DAYLIGHT
TZOFFSETFROM:-0500
TZOFFSETTO:-0400
TZNAME:EDT
DTSTART:20180311T070000
END:DAYLIGHT
BEGIN:STANDARD
TZOFFSETFROM:-0400
TZOFFSETTO:-0500
TZNAME:EST
DTSTART:20181104T060000
END:STANDARD
BEGIN:DAYLIGHT
TZOFFSETFROM:-0500
TZOFFSETTO:-0400
TZNAME:EDT
DTSTART:20190310T070000
END:DAYLIGHT
BEGIN:STANDARD
TZOFFSETFROM:-0400
TZOFFSETTO:-0500
TZNAME:EST
DTSTART:20191103T060000
END:STANDARD
BEGIN:DAYLIGHT
TZOFFSETFROM:-0500
TZOFFSETTO:-0400
TZNAME:EDT
DTSTART:20200308T070000
END:DAYLIGHT
BEGIN:STANDARD
TZOFFSETFROM:-0400
TZOFFSETTO:-0500
TZNAME:EST
DTSTART:20201101T060000
END:STANDARD
END:VTIMEZONE
BEGIN:VEVENT
DTSTART;TZID=America/New_York:20191116T093000
DTEND;TZID=America/New_York:20191116T123000
DTSTAMP:20260425T223150
CREATED:20191023T194730Z
LAST-MODIFIED:20231014T225101Z
UID:3518-1573896600-1573907400@www.yctaekwondo.com
SUMMARY:28th Black Belt Final Exam
DESCRIPTION:
URL:https://www.yctaekwondo.com/event/28th-black-belt-final-exam/
CATEGORIES:Mapledale Plaza
END:VEVENT
BEGIN:VEVENT
DTSTART;TZID=America/New_York:20191111T093000
DTEND;TZID=America/New_York:20191111T123000
DTSTAMP:20260425T223150
CREATED:20191028T225046Z
LAST-MODIFIED:20231014T225101Z
UID:3599-1573464600-1573475400@www.yctaekwondo.com
SUMMARY:Early Classes due to Veteran's Day
DESCRIPTION:
URL:https://www.yctaekwondo.com/event/early-classes-due-to-veterans-day/
CATEGORIES:Mapledale Plaza
END:VEVENT
BEGIN:VEVENT
DTSTART;TZID=America/New_York:20191109T093000
DTEND;TZID=America/New_York:20191109T123000
DTSTAMP:20260425T223150
CREATED:20191028T230639Z
LAST-MODIFIED:20231014T225101Z
UID:3624-1573291800-1573302600@www.yctaekwondo.com
SUMMARY:28th Black Belt Level Exam
DESCRIPTION:
URL:https://www.yctaekwondo.com/event/28th-black-belt-level-exam/
CATEGORIES:Mapledale Plaza
END:VEVENT
BEGIN:VEVENT
DTSTART;VALUE=DATE:20191031
DTEND;VALUE=DATE:20191101
DTSTAMP:20260425T223150
CREATED:20191023T194625Z
LAST-MODIFIED:20231014T225101Z
UID:3514-1572480000-1572566399@www.yctaekwondo.com
SUMMARY:Modified Classes
DESCRIPTION:(From 4:00pm-6:20pm)\nASP – 4:00 PM\nFamily Class – 4:40 PM\nPeewee Class – 5:20 PM
URL:https://www.yctaekwondo.com/event/modified-classes/
CATEGORIES:Mapledale Plaza
END:VEVENT
BEGIN:VEVENT
DTSTART;VALUE=DATE:20191015
DTEND;VALUE=DATE:20191019
DTSTAMP:20260425T223150
CREATED:20191023T194542Z
LAST-MODIFIED:20231014T225109Z
UID:3512-1571097600-1571443199@www.yctaekwondo.com
SUMMARY:Buddy Week
DESCRIPTION:
URL:https://www.yctaekwondo.com/event/buddy-week/
CATEGORIES:Mapledale Plaza
END:VEVENT
BEGIN:VEVENT
DTSTART;VALUE=DATE:20191014
DTEND;VALUE=DATE:20191015
DTSTAMP:20260425T223150
CREATED:20191023T194447Z
LAST-MODIFIED:20231014T225110Z
UID:3510-1571011200-1571097599@www.yctaekwondo.com
SUMMARY:Early Classes (Columbus Day)
DESCRIPTION:9:30am-12:30pm/ Business will be closed at 5:00pm
URL:https://www.yctaekwondo.com/event/early-classes-columbus-day/
CATEGORIES:Mapledale Plaza
END:VEVENT
BEGIN:VEVENT
DTSTART;VALUE=DATE:20191012
DTEND;VALUE=DATE:20191013
DTSTAMP:20260425T223150
CREATED:20191023T194402Z
LAST-MODIFIED:20231014T225110Z
UID:3508-1570838400-1570924799@www.yctaekwondo.com
SUMMARY:Color Belt Exam II
DESCRIPTION:(Graduation will be on the same day after each exam)\nTeen & Adult Groups @ 9:30am\nChildren Blue Belt – Red Belt @ 11:30am-1:30pm\nChildren White Belt- Purple Belt @ 2:00pm-4:00pm
URL:https://www.yctaekwondo.com/event/color-belt-exam-ii/
CATEGORIES:Mapledale Plaza
END:VEVENT
BEGIN:VEVENT
DTSTART;VALUE=DATE:20191011
DTEND;VALUE=DATE:20191012
DTSTAMP:20260425T223150
CREATED:20191023T194134Z
LAST-MODIFIED:20231014T225110Z
UID:3506-1570752000-1570838399@www.yctaekwondo.com
SUMMARY:Color Belt Exam I
DESCRIPTION:(Graduation will be on the same day after each exam)\nMake up Exam @ 4:15pm\nPeewee-all Levels –Only @ 5:30pm / Champions Team Training @7:40pm
URL:https://www.yctaekwondo.com/event/color-belt-exam-i/
CATEGORIES:Mapledale Plaza
END:VEVENT
END:VCALENDAR