BEGIN:VCALENDAR
VERSION:2.0
PRODID:-//Yi Champions Taekwondo Academy - ECPv6.15.13//NONSGML v1.0//EN
CALSCALE:GREGORIAN
METHOD:PUBLISH
X-WR-CALNAME:Yi Champions Taekwondo Academy
X-ORIGINAL-URL:https://www.yctaekwondo.com
X-WR-CALDESC:Events for Yi Champions Taekwondo Academy
REFRESH-INTERVAL;VALUE=DURATION:PT1H
X-Robots-Tag:noindex
X-PUBLISHED-TTL:PT1H
BEGIN:VTIMEZONE
TZID:America/New_York
BEGIN:DAYLIGHT
TZOFFSETFROM:-0500
TZOFFSETTO:-0400
TZNAME:EDT
DTSTART:20190310T070000
END:DAYLIGHT
BEGIN:STANDARD
TZOFFSETFROM:-0400
TZOFFSETTO:-0500
TZNAME:EST
DTSTART:20191103T060000
END:STANDARD
BEGIN:DAYLIGHT
TZOFFSETFROM:-0500
TZOFFSETTO:-0400
TZNAME:EDT
DTSTART:20200308T070000
END:DAYLIGHT
BEGIN:STANDARD
TZOFFSETFROM:-0400
TZOFFSETTO:-0500
TZNAME:EST
DTSTART:20201101T060000
END:STANDARD
BEGIN:DAYLIGHT
TZOFFSETFROM:-0500
TZOFFSETTO:-0400
TZNAME:EDT
DTSTART:20210314T070000
END:DAYLIGHT
BEGIN:STANDARD
TZOFFSETFROM:-0400
TZOFFSETTO:-0500
TZNAME:EST
DTSTART:20211107T060000
END:STANDARD
END:VTIMEZONE
BEGIN:VEVENT
DTSTART;VALUE=DATE:20201126
DTEND;VALUE=DATE:20201129
DTSTAMP:20260425T093450
CREATED:20200120T154103Z
LAST-MODIFIED:20231014T225041Z
UID:3802-1606348800-1606607999@www.yctaekwondo.com
SUMMARY:DoJang will be closed due to Thanksgiving
DESCRIPTION:Happy Thanksgiving!
URL:https://www.yctaekwondo.com/event/dojang-will-be-closed-due-to-thanksgiving/
CATEGORIES:Mapledale Plaza
END:VEVENT
BEGIN:VEVENT
DTSTART;TZID=America/New_York:20201114T093000
DTEND;TZID=America/New_York:20201114T123000
DTSTAMP:20260425T093450
CREATED:20200120T154008Z
LAST-MODIFIED:20231014T225041Z
UID:3800-1605346200-1605357000@www.yctaekwondo.com
SUMMARY:31st Black Belt Final Exam
DESCRIPTION:
URL:https://www.yctaekwondo.com/event/31st-black-belt-final-exam/
CATEGORIES:Mapledale Plaza
END:VEVENT
BEGIN:VEVENT
DTSTART;TZID=America/New_York:20201107T093000
DTEND;TZID=America/New_York:20201107T123000
DTSTAMP:20260425T093450
CREATED:20200120T153730Z
LAST-MODIFIED:20231014T225041Z
UID:3796-1604741400-1604752200@www.yctaekwondo.com
SUMMARY:31st Black Belt Level Exam
DESCRIPTION:
URL:https://www.yctaekwondo.com/event/31st-black-belt-level-exam/
CATEGORIES:Mapledale Plaza
END:VEVENT
BEGIN:VEVENT
DTSTART;VALUE=DATE:20201019
DTEND;VALUE=DATE:20201024
DTSTAMP:20260425T093450
CREATED:20200120T153608Z
LAST-MODIFIED:20231014T225041Z
UID:3792-1603065600-1603497599@www.yctaekwondo.com
SUMMARY:Bring a Friend Day
DESCRIPTION:Free TKD lesson (1 week) and special offer on tuition
URL:https://www.yctaekwondo.com/event/bring-a-friend-day/
CATEGORIES:Mapledale Plaza
END:VEVENT
BEGIN:VEVENT
DTSTART;TZID=America/New_York:20201012T093000
DTEND;TZID=America/New_York:20201012T123000
DTSTAMP:20260425T093450
CREATED:20200120T153409Z
LAST-MODIFIED:20231014T225041Z
UID:3788-1602495000-1602505800@www.yctaekwondo.com
SUMMARY:Early Classes due to Columbus Day
DESCRIPTION:BoDan and higher – 9:30 am\nChildren’s Blue – Red belt – 10:30 am\nChildren’s White – Purple belt – 11:30 am
URL:https://www.yctaekwondo.com/event/early-classes-due-to-columbus-day/
CATEGORIES:Mapledale Plaza
END:VEVENT
BEGIN:VEVENT
DTSTART;TZID=America/New_York:20201010T080000
DTEND;TZID=America/New_York:20201010T170000
DTSTAMP:20260425T093450
CREATED:20200120T153133Z
LAST-MODIFIED:20231014T225041Z
UID:3786-1602316800-1602349200@www.yctaekwondo.com
SUMMARY:Color Belt Exam II
DESCRIPTION:Graduation will be on the same day right after each exam \n\nTeen + Adult group – 9:30 am\nChildren’s Blue – Red belt – 11:30 am\nChildren’s White – Purple belt – 2:00 pm\n\n 
URL:https://www.yctaekwondo.com/event/color-belt-exam-ii-6/
CATEGORIES:Mapledale Plaza
END:VEVENT
BEGIN:VEVENT
DTSTART;TZID=America/New_York:20201009T160000
DTEND;TZID=America/New_York:20201009T190000
DTSTAMP:20260425T093450
CREATED:20200120T153018Z
LAST-MODIFIED:20231014T225041Z
UID:3784-1602259200-1602270000@www.yctaekwondo.com
SUMMARY:Color Belt Exam I
DESCRIPTION:Graduation will be on the same day right after each exam \n\nASP Open Practice – 4:00 pm\nPeewee group – 4:40 pm\nYCTA Champions Team Training – 7:00 pm – 8:30 pm
URL:https://www.yctaekwondo.com/event/color-belt-exam-i-6/
CATEGORIES:Mapledale Plaza
END:VEVENT
BEGIN:VEVENT
DTSTART;TZID=America/New_York:20201003T140000
DTEND;TZID=America/New_York:20201003T160000
DTSTAMP:20260425T093450
CREATED:20200120T152833Z
LAST-MODIFIED:20231014T225041Z
UID:3782-1601733600-1601740800@www.yctaekwondo.com
SUMMARY:BoDan Preliminary Exam
DESCRIPTION:
URL:https://www.yctaekwondo.com/event/bodan-preliminary-exam-3/
CATEGORIES:Mapledale Plaza
END:VEVENT
BEGIN:VEVENT
DTSTART;VALUE=DATE:20200921
DTEND;VALUE=DATE:20200922
DTSTAMP:20260425T093450
CREATED:20200120T152542Z
LAST-MODIFIED:20231014T225041Z
UID:3774-1600646400-1600646400@www.yctaekwondo.com
SUMMARY:2020-2021 School Year -YCTA Virtual Learning Support Program
DESCRIPTION:Options are \nDaily camp program \nHalf day camp program \nFull day camp program
URL:https://www.yctaekwondo.com/event/2020-ycta-short-open-house-with-back-to-school-special-iii/
CATEGORIES:Mapledale Plaza
END:VEVENT
BEGIN:VEVENT
DTSTART;VALUE=DATE:20200919
DTEND;VALUE=DATE:20200920
DTSTAMP:20260425T093450
CREATED:20200120T152709Z
LAST-MODIFIED:20231014T225041Z
UID:3778-1600473600-1600559999@www.yctaekwondo.com
SUMMARY:2020 YCTA Short Open House with Back to School Special IV
DESCRIPTION:
URL:https://www.yctaekwondo.com/event/2020-ycta-short-open-house-with-back-to-school-special-iv/
CATEGORIES:Mapledale Plaza
END:VEVENT
BEGIN:VEVENT
DTSTART;TZID=America/New_York:20200912T130000
DTEND;TZID=America/New_York:20200912T150000
DTSTAMP:20260425T093450
CREATED:20200120T152640Z
LAST-MODIFIED:20231014T225041Z
UID:3776-1599915600-1599922800@www.yctaekwondo.com
SUMMARY:YCTA Clean up Day
DESCRIPTION:Repair or clean up inside of the DoJang
URL:https://www.yctaekwondo.com/event/ycta-clean-up-day/
CATEGORIES:Mapledale Plaza
END:VEVENT
BEGIN:VEVENT
DTSTART;VALUE=DATE:20200905
DTEND;VALUE=DATE:20200908
DTSTAMP:20260425T093450
CREATED:20200120T152356Z
LAST-MODIFIED:20231014T225041Z
UID:3772-1599264000-1599523199@www.yctaekwondo.com
SUMMARY:DoJang will be Closed due to Labor Day weekend
DESCRIPTION:
URL:https://www.yctaekwondo.com/event/dojang-will-be-closed-due-to-labor-day-weekend/
CATEGORIES:Mapledale Plaza
END:VEVENT
BEGIN:VEVENT
DTSTART;VALUE=DATE:20200829
DTEND;VALUE=DATE:20200830
DTSTAMP:20260425T093450
CREATED:20200120T152322Z
LAST-MODIFIED:20231014T225041Z
UID:3770-1598659200-1598745599@www.yctaekwondo.com
SUMMARY:2020 YCTA Short Open House with Back to School Special II
DESCRIPTION:
URL:https://www.yctaekwondo.com/event/2020-ycta-short-open-house-with-back-to-school-special-ii/
CATEGORIES:Mapledale Plaza
END:VEVENT
BEGIN:VEVENT
DTSTART;VALUE=DATE:20200822
DTEND;VALUE=DATE:20200823
DTSTAMP:20260425T093450
CREATED:20200120T151946Z
LAST-MODIFIED:20231014T225041Z
UID:3764-1598054400-1598140799@www.yctaekwondo.com
SUMMARY:2020 YCTA Short Open House with Back to School Special I
DESCRIPTION:
URL:https://www.yctaekwondo.com/event/2020-ycta-short-open-house-with-back-to-school-special-i/
CATEGORIES:Mapledale Plaza
END:VEVENT
BEGIN:VEVENT
DTSTART;TZID=America/New_York:20200815T093000
DTEND;TZID=America/New_York:20200815T130000
DTSTAMP:20260425T093450
CREATED:20200120T151848Z
LAST-MODIFIED:20231014T225041Z
UID:3762-1597483800-1597496400@www.yctaekwondo.com
SUMMARY:All Belts Ceremony & Potluck Lunch
DESCRIPTION:
URL:https://www.yctaekwondo.com/event/all-belts-ceremony-potluck-lunch/
CATEGORIES:Mapledale Plaza
END:VEVENT
BEGIN:VEVENT
DTSTART;TZID=America/New_York:20200814T163000
DTEND;TZID=America/New_York:20200814T190000
DTSTAMP:20260425T093450
CREATED:20200120T151725Z
LAST-MODIFIED:20231014T225041Z
UID:3760-1597422600-1597431600@www.yctaekwondo.com
SUMMARY:Color Belt Exam III
DESCRIPTION:Children’s White – Purple belt – 4:40 pm\nYCTA Champions Team Training – 7:30 pm
URL:https://www.yctaekwondo.com/event/color-belt-exam-iii-2/
CATEGORIES:Mapledale Plaza
END:VEVENT
BEGIN:VEVENT
DTSTART;TZID=America/New_York:20200813T163000
DTEND;TZID=America/New_York:20200813T210000
DTSTAMP:20260425T093450
CREATED:20200120T151607Z
LAST-MODIFIED:20231014T225041Z
UID:3758-1597336200-1597352400@www.yctaekwondo.com
SUMMARY:Color Belt Exam II
DESCRIPTION:Children’s Blue – Red belt – 4:40 pm\nTeen + Adult group – 7:00 pm
URL:https://www.yctaekwondo.com/event/color-belt-exam-ii-5/
CATEGORIES:Mapledale Plaza
END:VEVENT
BEGIN:VEVENT
DTSTART;TZID=America/New_York:20200812T163000
DTEND;TZID=America/New_York:20200812T190000
DTSTAMP:20260425T093450
CREATED:20200120T151457Z
LAST-MODIFIED:20231014T225050Z
UID:3756-1597249800-1597258800@www.yctaekwondo.com
SUMMARY:Color Belt Exam I
DESCRIPTION:Peewee group – 4:40 pm \n 
URL:https://www.yctaekwondo.com/event/color-belt-exam-i-5/
CATEGORIES:Mapledale Plaza
END:VEVENT
BEGIN:VEVENT
DTSTART;VALUE=DATE:20200803
DTEND;VALUE=DATE:20200808
DTSTAMP:20260425T093450
CREATED:20200120T150908Z
LAST-MODIFIED:20231014T225050Z
UID:3744-1596412800-1596844799@www.yctaekwondo.com
SUMMARY:2020 Children's Summer Program week 8
DESCRIPTION:The hours will be from 7:30 am – 6:30 pm.
URL:https://www.yctaekwondo.com/event/2020-childrens-summer-camp-week-8/
CATEGORIES:Mapledale Plaza
END:VEVENT
BEGIN:VEVENT
DTSTART;TZID=America/New_York:20200718T093000
DTEND;TZID=America/New_York:20200718T123000
DTSTAMP:20260425T093450
CREATED:20200120T151334Z
LAST-MODIFIED:20231014T225050Z
UID:3754-1595064600-1595075400@www.yctaekwondo.com
SUMMARY:30th Black Belt Final Exam
DESCRIPTION:
URL:https://www.yctaekwondo.com/event/30th-black-belt-final-exam/
CATEGORIES:Mapledale Plaza
END:VEVENT
BEGIN:VEVENT
DTSTART;TZID=America/New_York:20200711T093000
DTEND;TZID=America/New_York:20200711T123000
DTSTAMP:20260425T093450
CREATED:20200120T151220Z
LAST-MODIFIED:20231014T225050Z
UID:3750-1594459800-1594470600@www.yctaekwondo.com
SUMMARY:30th Black Belt Level Exam
DESCRIPTION:
URL:https://www.yctaekwondo.com/event/30th-black-belt-level-exam/
CATEGORIES:Mapledale Plaza
END:VEVENT
BEGIN:VEVENT
DTSTART;VALUE=DATE:20200706
DTEND;VALUE=DATE:20200711
DTSTAMP:20260425T093450
CREATED:20200120T150643Z
LAST-MODIFIED:20231014T225050Z
UID:3736-1593993600-1594425599@www.yctaekwondo.com
SUMMARY:2020 Children's Summer Program week 4
DESCRIPTION:The hours will be from 7:30 am – 6:30 pm.
URL:https://www.yctaekwondo.com/event/2020-childrens-summer-camp-week-4/
CATEGORIES:Mapledale Plaza
END:VEVENT
BEGIN:VEVENT
DTSTART;TZID=America/New_York:20200613T093000
DTEND;TZID=America/New_York:20200613T160000
DTSTAMP:20260425T093450
CREATED:20200116T220938Z
LAST-MODIFIED:20231014T225050Z
UID:3718-1592040600-1592064000@www.yctaekwondo.com
SUMMARY:Color Belt Exam II
DESCRIPTION:Graduation will be on the same day right after each exam \n\nTeen + Adult group – 9:30 am \nChildren’s Blue – Red belt – 11:30 am\nChildren’s White – Purple belt – 2:00 pm
URL:https://www.yctaekwondo.com/event/color-belt-exam-ii-4/
CATEGORIES:Mapledale Plaza
END:VEVENT
BEGIN:VEVENT
DTSTART;VALUE=DATE:20200523
DTEND;VALUE=DATE:20200526
DTSTAMP:20260425T093450
CREATED:20200116T215115Z
LAST-MODIFIED:20231014T225050Z
UID:3712-1590192000-1590451199@www.yctaekwondo.com
SUMMARY:DoJang will be Closed due to Memorial Day weekend
DESCRIPTION:
URL:https://www.yctaekwondo.com/event/dojang-will-be-closed-due-to-memorial-day-weekend/
CATEGORIES:Mapledale Plaza
END:VEVENT
BEGIN:VEVENT
DTSTART;VALUE=DATE:20200516
DTEND;VALUE=DATE:20200517
DTSTAMP:20260425T093450
CREATED:20200116T215033Z
LAST-MODIFIED:20231014T225050Z
UID:3710-1589587200-1589673599@www.yctaekwondo.com
SUMMARY:YCTA Champions Team members (only)Taekwondo Championship in MD
DESCRIPTION:
URL:https://www.yctaekwondo.com/event/ycta-champions-team-members-onlytaekwondo-championship-in-md/
CATEGORIES:Mapledale Plaza
END:VEVENT
BEGIN:VEVENT
DTSTART;VALUE=DATE:20200509
DTEND;VALUE=DATE:20200510
DTSTAMP:20260425T093450
CREATED:20200116T214934Z
LAST-MODIFIED:20231014T225050Z
UID:3706-1588982400-1589068799@www.yctaekwondo.com
SUMMARY:Taekwondo Championship in Winchester\, VA
DESCRIPTION:
URL:https://www.yctaekwondo.com/event/taekwondo-championship-in-winchester-va/
CATEGORIES:Mapledale Plaza
END:VEVENT
BEGIN:VEVENT
DTSTART;TZID=America/New_York:20200502T140000
DTEND;TZID=America/New_York:20200502T170000
DTSTAMP:20260425T093450
CREATED:20200116T214902Z
LAST-MODIFIED:20231014T225050Z
UID:3704-1588428000-1588438800@www.yctaekwondo.com
SUMMARY:CPR Training @ YCTA
DESCRIPTION:
URL:https://www.yctaekwondo.com/event/cpr-training-ycta/
CATEGORIES:Mapledale Plaza
END:VEVENT
BEGIN:VEVENT
DTSTART;TZID=America/New_York:20200418T093000
DTEND;TZID=America/New_York:20200418T130000
DTSTAMP:20260425T093450
CREATED:20200116T214758Z
LAST-MODIFIED:20231014T225050Z
UID:3701-1587202200-1587214800@www.yctaekwondo.com
SUMMARY:All Belts Ceremony & Potluck Lunch
DESCRIPTION:
URL:https://www.yctaekwondo.com/event/all-belts-ceremony/
CATEGORIES:Mapledale Plaza
END:VEVENT
BEGIN:VEVENT
DTSTART;TZID=America/New_York:20200417T163000
DTEND;TZID=America/New_York:20200417T190000
DTSTAMP:20260425T093450
CREATED:20200116T214720Z
LAST-MODIFIED:20231014T225050Z
UID:3699-1587141000-1587150000@www.yctaekwondo.com
SUMMARY:Color Belt Exam III
DESCRIPTION:Children’s White – Purple – 4:40 pm\nYCTA Champions Team Training – 7:30 pm
URL:https://www.yctaekwondo.com/event/color-belt-exam-iii/
CATEGORIES:Mapledale Plaza
END:VEVENT
BEGIN:VEVENT
DTSTART;TZID=America/New_York:20200416T163000
DTEND;TZID=America/New_York:20200416T210000
DTSTAMP:20260425T093450
CREATED:20200116T214442Z
LAST-MODIFIED:20231014T225051Z
UID:3696-1587054600-1587070800@www.yctaekwondo.com
SUMMARY:Color Belt Exam II
DESCRIPTION:Children’s Blue – Red belt – 4:40 pm\nTeen + Adult group – 7:00 pm
URL:https://www.yctaekwondo.com/event/color-belt-exam-ii-3/
CATEGORIES:Mapledale Plaza
END:VEVENT
END:VCALENDAR