BEGIN:VCALENDAR
VERSION:2.0
PRODID:-//Yi Champions Taekwondo Academy - ECPv6.15.13//NONSGML v1.0//EN
CALSCALE:GREGORIAN
METHOD:PUBLISH
X-ORIGINAL-URL:https://www.yctaekwondo.com
X-WR-CALDESC:Events for Yi Champions Taekwondo Academy
REFRESH-INTERVAL;VALUE=DURATION:PT1H
X-Robots-Tag:noindex
X-PUBLISHED-TTL:PT1H
BEGIN:VTIMEZONE
TZID:America/New_York
BEGIN:DAYLIGHT
TZOFFSETFROM:-0500
TZOFFSETTO:-0400
TZNAME:EDT
DTSTART:20200308T070000
END:DAYLIGHT
BEGIN:STANDARD
TZOFFSETFROM:-0400
TZOFFSETTO:-0500
TZNAME:EST
DTSTART:20201101T060000
END:STANDARD
BEGIN:DAYLIGHT
TZOFFSETFROM:-0500
TZOFFSETTO:-0400
TZNAME:EDT
DTSTART:20210314T070000
END:DAYLIGHT
BEGIN:STANDARD
TZOFFSETFROM:-0400
TZOFFSETTO:-0500
TZNAME:EST
DTSTART:20211107T060000
END:STANDARD
BEGIN:DAYLIGHT
TZOFFSETFROM:-0500
TZOFFSETTO:-0400
TZNAME:EDT
DTSTART:20220313T070000
END:DAYLIGHT
BEGIN:STANDARD
TZOFFSETFROM:-0400
TZOFFSETTO:-0500
TZNAME:EST
DTSTART:20221106T060000
END:STANDARD
END:VTIMEZONE
BEGIN:VEVENT
DTSTART;TZID=America/New_York:20210213T080000
DTEND;TZID=America/New_York:20210213T170000
DTSTAMP:20260425T233435
CREATED:20210116T205513Z
LAST-MODIFIED:20231014T225041Z
UID:3886-1613203200-1613235600@www.yctaekwondo.com
SUMMARY:Color Belt Exam (February)
DESCRIPTION:To star qualification  from Mon.Jan25 to  Thu.Feb.11 \nGraduation will be on the same day right after each exam
URL:https://www.yctaekwondo.com/event/color-belt-exam-february/
CATEGORIES:Mapledale Plaza
END:VEVENT
BEGIN:VEVENT
DTSTART;TZID=America/New_York:20210227T100000
DTEND;TZID=America/New_York:20210227T130000
DTSTAMP:20260425T233435
CREATED:20210116T210204Z
LAST-MODIFIED:20231014T225031Z
UID:3894-1614420000-1614430800@www.yctaekwondo.com
SUMMARY:Buddy Days 3
DESCRIPTION:Bring YCTA member’s friends\, co-worker\, and families (@10am\,11:10am or 12:10pm) \nSpecial Discount Registration Fee and free virtual class to join the  first 2 month.
URL:https://www.yctaekwondo.com/event/buddy-days-3/
CATEGORIES:Mapledale Plaza
END:VEVENT
END:VCALENDAR