BEGIN:VCALENDAR
VERSION:2.0
PRODID:-//Yi Champions Taekwondo Academy - ECPv6.15.13//NONSGML v1.0//EN
CALSCALE:GREGORIAN
METHOD:PUBLISH
X-ORIGINAL-URL:https://www.yctaekwondo.com
X-WR-CALDESC:Events for Yi Champions Taekwondo Academy
REFRESH-INTERVAL;VALUE=DURATION:PT1H
X-Robots-Tag:noindex
X-PUBLISHED-TTL:PT1H
BEGIN:VTIMEZONE
TZID:America/New_York
BEGIN:DAYLIGHT
TZOFFSETFROM:-0500
TZOFFSETTO:-0400
TZNAME:EDT
DTSTART:20200308T070000
END:DAYLIGHT
BEGIN:STANDARD
TZOFFSETFROM:-0400
TZOFFSETTO:-0500
TZNAME:EST
DTSTART:20201101T060000
END:STANDARD
BEGIN:DAYLIGHT
TZOFFSETFROM:-0500
TZOFFSETTO:-0400
TZNAME:EDT
DTSTART:20210314T070000
END:DAYLIGHT
BEGIN:STANDARD
TZOFFSETFROM:-0400
TZOFFSETTO:-0500
TZNAME:EST
DTSTART:20211107T060000
END:STANDARD
BEGIN:DAYLIGHT
TZOFFSETFROM:-0500
TZOFFSETTO:-0400
TZNAME:EDT
DTSTART:20220313T070000
END:DAYLIGHT
BEGIN:STANDARD
TZOFFSETFROM:-0400
TZOFFSETTO:-0500
TZNAME:EST
DTSTART:20221106T060000
END:STANDARD
END:VTIMEZONE
BEGIN:VEVENT
DTSTART;TZID=America/New_York:20210503T080000
DTEND;TZID=America/New_York:20210503T170000
DTSTAMP:20260425T192526
CREATED:20210116T215809Z
LAST-MODIFIED:20231014T225031Z
UID:3921-1620028800-1620061200@www.yctaekwondo.com
SUMMARY:Mother's Day Special offer
DESCRIPTION:Mother’s Day Special $19.99 for 3 weeks W/free TKD T-shirt. \nFrom 5/03 to 5/28 \nYou can join the regular class 2 times a week \nWe will provide schedule! \nCome join us!
URL:https://www.yctaekwondo.com/event/mothers-day-special-offer/
CATEGORIES:Mapledale Plaza
END:VEVENT
BEGIN:VEVENT
DTSTART;TZID=America/New_York:20210503T130000
DTEND;TZID=America/New_York:20210503T200000
DTSTAMP:20260425T192526
CREATED:20210116T220853Z
LAST-MODIFIED:20231014T225031Z
UID:3925-1620046800-1620072000@www.yctaekwondo.com
SUMMARY:Open Registration for  2021 Summer Camp Program
DESCRIPTION:Early Bird Special$179/ per week (by May31\,2021)
URL:https://www.yctaekwondo.com/event/open-registration-for-2021-summer-camp-program/
CATEGORIES:Mapledale Plaza
END:VEVENT
BEGIN:VEVENT
DTSTART;TZID=America/New_York:20210509T080000
DTEND;TZID=America/New_York:20210509T170000
DTSTAMP:20260425T192526
CREATED:20210116T215451Z
LAST-MODIFIED:20231014T225031Z
UID:3919-1620547200-1620579600@www.yctaekwondo.com
SUMMARY:Happy Mother's Day
DESCRIPTION:
URL:https://www.yctaekwondo.com/event/happy-mothers-day-2/
CATEGORIES:Mapledale Plaza
END:VEVENT
END:VCALENDAR