BEGIN:VCALENDAR
VERSION:2.0
PRODID:-//Yi Champions Taekwondo Academy - ECPv6.15.13//NONSGML v1.0//EN
CALSCALE:GREGORIAN
METHOD:PUBLISH
X-WR-CALNAME:Yi Champions Taekwondo Academy
X-ORIGINAL-URL:https://www.yctaekwondo.com
X-WR-CALDESC:Events for Yi Champions Taekwondo Academy
REFRESH-INTERVAL;VALUE=DURATION:PT1H
X-Robots-Tag:noindex
X-PUBLISHED-TTL:PT1H
BEGIN:VTIMEZONE
TZID:America/New_York
BEGIN:DAYLIGHT
TZOFFSETFROM:-0500
TZOFFSETTO:-0400
TZNAME:EDT
DTSTART:20210314T070000
END:DAYLIGHT
BEGIN:STANDARD
TZOFFSETFROM:-0400
TZOFFSETTO:-0500
TZNAME:EST
DTSTART:20211107T060000
END:STANDARD
BEGIN:DAYLIGHT
TZOFFSETFROM:-0500
TZOFFSETTO:-0400
TZNAME:EDT
DTSTART:20220313T070000
END:DAYLIGHT
BEGIN:STANDARD
TZOFFSETFROM:-0400
TZOFFSETTO:-0500
TZNAME:EST
DTSTART:20221106T060000
END:STANDARD
BEGIN:DAYLIGHT
TZOFFSETFROM:-0500
TZOFFSETTO:-0400
TZNAME:EDT
DTSTART:20230312T070000
END:DAYLIGHT
BEGIN:STANDARD
TZOFFSETFROM:-0400
TZOFFSETTO:-0500
TZNAME:EST
DTSTART:20231105T060000
END:STANDARD
BEGIN:DAYLIGHT
TZOFFSETFROM:-0500
TZOFFSETTO:-0400
TZNAME:EDT
DTSTART:20240310T070000
END:DAYLIGHT
BEGIN:STANDARD
TZOFFSETFROM:-0400
TZOFFSETTO:-0500
TZNAME:EST
DTSTART:20241103T060000
END:STANDARD
END:VTIMEZONE
BEGIN:VEVENT
DTSTART;VALUE=DATE:20221230
DTEND;VALUE=DATE:20230103
DTSTAMP:20260424T120515
CREATED:20200120T155846Z
LAST-MODIFIED:20231014T225020Z
UID:3814-1672358400-1672703999@www.yctaekwondo.com
SUMMARY:DoJang will be Closed for the Holiday Season-Happy New Year!
DESCRIPTION:Happy New Year! \nYCTA will resume a regular class on January 03\,2022 \n-After School Program will began to the 2023 spring semester \n-Regular class from 4:50pm.
URL:https://www.yctaekwondo.com/event/dojang-will-be-closed-for-the-holiday-season/
CATEGORIES:Mapledale Plaza
END:VEVENT
BEGIN:VEVENT
DTSTART;VALUE=DATE:20230107
DTEND;VALUE=DATE:20230108
DTSTAMP:20260424T120515
CREATED:20191028T225816Z
LAST-MODIFIED:20231014T225011Z
UID:3613-1673049600-1673135999@www.yctaekwondo.com
SUMMARY:Preliminary Exam (4th Dan)
DESCRIPTION:Preliminary Level Exam for 4th Dan (the firs half of the year) \nThis Exam for the 4th Dan. \nMostly\, YCTA masters and instructors are taking their  exam @11:20am
URL:https://www.yctaekwondo.com/event/dojang-will-be-closed-3/
CATEGORIES:Mapledale Plaza
END:VEVENT
BEGIN:VEVENT
DTSTART;TZID=America/New_York:20230113T180000
DTEND;TZID=America/New_York:20230113T193000
DTSTAMP:20260424T120515
CREATED:20210116T205142Z
LAST-MODIFIED:20231014T225011Z
UID:3884-1673632800-1673638200@www.yctaekwondo.com
SUMMARY:2023 YCTA Champions Team Training Begin and Free Trial lesson
DESCRIPTION:YCTA Champions Team Member  start training for first half of the year @6:00pm \nIf your child is interested in the 2023 Demonstration Team member\, please join us \nWho: YCTA Members \nAges: 7 years old and up/Female and male \nRanks: Blue and higher Belts 
URL:https://www.yctaekwondo.com/event/2021-ycta-champions-team-training-begin/
CATEGORIES:Mapledale Plaza
END:VEVENT
BEGIN:VEVENT
DTSTART;TZID=America/New_York:20230116T100000
DTEND;TZID=America/New_York:20230116T160000
DTSTAMP:20260424T120515
CREATED:20200102T215808Z
LAST-MODIFIED:20231014T225011Z
UID:3664-1673863200-1673884800@www.yctaekwondo.com
SUMMARY:Early Class MLK Holiday
DESCRIPTION:@10:00am- 3rd Dan & 4th Dan (Ken do) \n@11:10am-12:00pm White Belt to Red Belts \n@12:10pm-1:10pm – BoDan & Family class \n    No Evening class \nBusiness Hour: 10am to 4pm
URL:https://www.yctaekwondo.com/event/early-class-mlk-holiday/
CATEGORIES:Mapledale Plaza
END:VEVENT
BEGIN:VEVENT
DTSTART;TZID=America/New_York:20230123T163000
DTEND;TZID=America/New_York:20230127T193000
DTSTAMP:20260424T120515
CREATED:20210116T205816Z
LAST-MODIFIED:20231014T225011Z
UID:3888-1674491400-1674847800@www.yctaekwondo.com
SUMMARY:Buddy Week 1.
DESCRIPTION:Bring YCTA member’s friends\, co-worker\, and families (Monday to Saturday) \nA special discount will be offered for new members who sign up with us.
URL:https://www.yctaekwondo.com/event/buddy-days-1/
CATEGORIES:Mapledale Plaza
END:VEVENT
BEGIN:VEVENT
DTSTART;VALUE=DATE:20230127
DTEND;VALUE=DATE:20230128
DTSTAMP:20260424T120515
CREATED:20200120T153648Z
LAST-MODIFIED:20231014T225011Z
UID:3794-1674777600-1674863999@www.yctaekwondo.com
SUMMARY:YCTA After School Program -1/2 day -Parents/Teacher Conferences
DESCRIPTION:YCTA will pick up the After School Program students when school 1/2 Day. on Friday Jan.27\,2023 \nASP students will take a class as normal schedule  \n Also  they can bring  snack\, water and drinks.
URL:https://www.yctaekwondo.com/event/fun-day-camp-2/
CATEGORIES:Mapledale Plaza
END:VEVENT
BEGIN:VEVENT
DTSTART;TZID=America/New_York:20230128T110000
DTEND;TZID=America/New_York:20230128T123000
DTSTAMP:20260424T120515
CREATED:20210123T212321Z
LAST-MODIFIED:20231014T225011Z
UID:3964-1674903600-1674909000@www.yctaekwondo.com
SUMMARY:Preliminary Exam for Bo Dan for the 38th Main Black Belt Exam
DESCRIPTION:@11:15pm- 12:30pm  \nThis exam for the 38th  Main Black Belt Exam in March.
URL:https://www.yctaekwondo.com/event/preliminary-exam-for-bo-dan-2/
CATEGORIES:Mapledale Plaza
END:VEVENT
BEGIN:VEVENT
DTSTART;TZID=America/New_York:20230128T110000
DTEND;TZID=America/New_York:20230128T123000
DTSTAMP:20260424T120515
CREATED:20230109T020837Z
LAST-MODIFIED:20231014T225011Z
UID:4304-1674903600-1674909000@www.yctaekwondo.com
SUMMARY:Teen & Adult Group Color Belt Exam
DESCRIPTION:We may have the next rank color belt group exam for Teen & Adult Group  \n@ 11:15am  \nThe belt ceremony is right after exam
URL:https://www.yctaekwondo.com/event/teen-adult-group-color-belt-exam/
CATEGORIES:Mapledale Plaza
END:VEVENT
BEGIN:VEVENT
DTSTART;TZID=America/New_York:20230130T080000
DTEND;TZID=America/New_York:20230130T183000
DTSTAMP:20260424T120515
CREATED:20230102T211713Z
LAST-MODIFIED:20231014T225011Z
UID:4272-1675065600-1675103400@www.yctaekwondo.com
SUMMARY:Fun Day Daily Camp -No School Day
DESCRIPTION:Due to Teacher professional Development/workday – No School \nYCTA offer a fun day daily camp  \nIncluding TKD morning training\, Team work activates or field trip out side    \nDrop off hours :  7:45am-10am \nPick up hours :4 pm – 6:30pm \nRegistration via email \,calling or stop by the office
URL:https://www.yctaekwondo.com/event/fun-day-daily-camp-no-school-day/
CATEGORIES:Mapledale Plaza
END:VEVENT
END:VCALENDAR