BEGIN:VCALENDAR
VERSION:2.0
PRODID:-//Yi Champions Taekwondo Academy - ECPv6.15.13//NONSGML v1.0//EN
CALSCALE:GREGORIAN
METHOD:PUBLISH
X-ORIGINAL-URL:https://www.yctaekwondo.com
X-WR-CALDESC:Events for Yi Champions Taekwondo Academy
REFRESH-INTERVAL;VALUE=DURATION:PT1H
X-Robots-Tag:noindex
X-PUBLISHED-TTL:PT1H
BEGIN:VTIMEZONE
TZID:America/New_York
BEGIN:DAYLIGHT
TZOFFSETFROM:-0500
TZOFFSETTO:-0400
TZNAME:EDT
DTSTART:20220313T070000
END:DAYLIGHT
BEGIN:STANDARD
TZOFFSETFROM:-0400
TZOFFSETTO:-0500
TZNAME:EST
DTSTART:20221106T060000
END:STANDARD
BEGIN:DAYLIGHT
TZOFFSETFROM:-0500
TZOFFSETTO:-0400
TZNAME:EDT
DTSTART:20230312T070000
END:DAYLIGHT
BEGIN:STANDARD
TZOFFSETFROM:-0400
TZOFFSETTO:-0500
TZNAME:EST
DTSTART:20231105T060000
END:STANDARD
BEGIN:DAYLIGHT
TZOFFSETFROM:-0500
TZOFFSETTO:-0400
TZNAME:EDT
DTSTART:20240310T070000
END:DAYLIGHT
BEGIN:STANDARD
TZOFFSETFROM:-0400
TZOFFSETTO:-0500
TZNAME:EST
DTSTART:20241103T060000
END:STANDARD
END:VTIMEZONE
BEGIN:VEVENT
DTSTART;TZID=America/New_York:20230901T080000
DTEND;TZID=America/New_York:20230904T170000
DTSTAMP:20260424T000431
CREATED:20210123T210134Z
LAST-MODIFIED:20231014T224933Z
UID:3960-1693555200-1693846800@www.yctaekwondo.com
SUMMARY:Do Jang will be closed (Labor Day)
DESCRIPTION:Happy Labor weekend \nYCTA will be closed due to Labor weekend. \nWe will resume the class on Tuesday September 5\,2023 
URL:https://www.yctaekwondo.com/event/do-jang-will-be-closed-labor-day/
CATEGORIES:Mapledale Plaza
END:VEVENT
BEGIN:VEVENT
DTSTART;TZID=America/New_York:20230916T100000
DTEND;TZID=America/New_York:20230916T160000
DTSTAMP:20260424T000431
CREATED:20230121T233219Z
LAST-MODIFIED:20231015T175226Z
UID:4354-1694858400-1694880000@www.yctaekwondo.com
SUMMARY:2023 YCTA Open House
DESCRIPTION:YCTA annual open house  \nFree Taekwondo lesson (wood breaking boards) / Fun activities / TKD demonstration by YCTA Demo Team \nEvent Hours: 10 am -12:30pm \nspecial discount hours: 10am – 4pm  \nBring your family\, friends and neighbors.
URL:https://www.yctaekwondo.com/event/2023-ycta-open-house/
CATEGORIES:Mapledale Plaza
END:VEVENT
BEGIN:VEVENT
DTSTART;TZID=America/New_York:20230923T160000
DTEND;TZID=America/New_York:20230923T200000
DTSTAMP:20260424T000431
CREATED:20200120T152747Z
LAST-MODIFIED:20231015T175142Z
UID:3780-1695484800-1695499200@www.yctaekwondo.com
SUMMARY:Fall Season Nerf War & Parents Night Out
DESCRIPTION:Event Hours: from 4:00-7:30pm        \nWhat to Bring: \nYour own nerf gun\, protective glasses\, pillow and positive attitude! \nTo wear any YCTA T-shirt with pajama pants \nAdmission Price:(Spots are LIMITED!) \n$35 YCTA Member\, Sibling or friend! \n$30 YCTA After School Program Student \nDinner Included: \nPizza\, snacks and juice \n-Schedule may be subject to change-
URL:https://www.yctaekwondo.com/event/fall-season-nerf-gun-movie-night/
CATEGORIES:Mapledale Plaza
END:VEVENT
END:VCALENDAR