BEGIN:VCALENDAR
VERSION:2.0
PRODID:-//Yi Champions Taekwondo Academy - ECPv6.15.13//NONSGML v1.0//EN
CALSCALE:GREGORIAN
METHOD:PUBLISH
X-WR-CALNAME:Yi Champions Taekwondo Academy
X-ORIGINAL-URL:https://www.yctaekwondo.com
X-WR-CALDESC:Events for Yi Champions Taekwondo Academy
REFRESH-INTERVAL;VALUE=DURATION:PT1H
X-Robots-Tag:noindex
X-PUBLISHED-TTL:PT1H
BEGIN:VTIMEZONE
TZID:America/New_York
BEGIN:DAYLIGHT
TZOFFSETFROM:-0500
TZOFFSETTO:-0400
TZNAME:EDT
DTSTART:20230312T070000
END:DAYLIGHT
BEGIN:STANDARD
TZOFFSETFROM:-0400
TZOFFSETTO:-0500
TZNAME:EST
DTSTART:20231105T060000
END:STANDARD
BEGIN:DAYLIGHT
TZOFFSETFROM:-0500
TZOFFSETTO:-0400
TZNAME:EDT
DTSTART:20240310T070000
END:DAYLIGHT
BEGIN:STANDARD
TZOFFSETFROM:-0400
TZOFFSETTO:-0500
TZNAME:EST
DTSTART:20241103T060000
END:STANDARD
BEGIN:DAYLIGHT
TZOFFSETFROM:-0500
TZOFFSETTO:-0400
TZNAME:EDT
DTSTART:20250309T070000
END:DAYLIGHT
BEGIN:STANDARD
TZOFFSETFROM:-0400
TZOFFSETTO:-0500
TZNAME:EST
DTSTART:20251102T060000
END:STANDARD
END:VTIMEZONE
BEGIN:VEVENT
DTSTART;VALUE=DATE:20240831
DTEND;VALUE=DATE:20240903
DTSTAMP:20260423T054646
CREATED:20240320T014731Z
LAST-MODIFIED:20240320T014731Z
UID:5136-1725062400-1725321599@www.yctaekwondo.com
SUMMARY:DoJang will be closed (Labor Day)
DESCRIPTION:
URL:https://www.yctaekwondo.com/event/dojang-will-be-closed-labor-day/
CATEGORIES:Manassas Park,Mapledale Plaza
END:VEVENT
BEGIN:VEVENT
DTSTART;TZID=America/New_York:20240914T163000
DTEND;TZID=America/New_York:20240914T190000
DTSTAMP:20260423T054646
CREATED:20240320T015309Z
LAST-MODIFIED:20240320T015309Z
UID:5142-1726331400-1726340400@www.yctaekwondo.com
SUMMARY:2024 Fall Season Fall Nerf War and Parents Night Out
DESCRIPTION:
URL:https://www.yctaekwondo.com/event/2024-fall-season-fall-nerf-war-and-parents-night-out-2/
CATEGORIES:Manassas Park
END:VEVENT
BEGIN:VEVENT
DTSTART;TZID=America/New_York:20240921T100000
DTEND;TZID=America/New_York:20240921T170000
DTSTAMP:20260423T054646
CREATED:20240320T014949Z
LAST-MODIFIED:20240320T014949Z
UID:5138-1726912800-1726938000@www.yctaekwondo.com
SUMMARY:2024 YCTA Open House
DESCRIPTION:Register hours – 10am-5:00pm \nEvent Hours – 11:30pm to 4:30 pm
URL:https://www.yctaekwondo.com/event/2024-ycta-open-house/
CATEGORIES:Mapledale Plaza
END:VEVENT
BEGIN:VEVENT
DTSTART;TZID=America/New_York:20240928T163000
DTEND;TZID=America/New_York:20240928T210000
DTSTAMP:20260423T054646
CREATED:20240320T015141Z
LAST-MODIFIED:20240320T015141Z
UID:5140-1727541000-1727557200@www.yctaekwondo.com
SUMMARY:2024 Fall Season Fall Nerf War and Parents Night Out
DESCRIPTION:
URL:https://www.yctaekwondo.com/event/2024-fall-season-fall-nerf-war-and-parents-night-out/
CATEGORIES:Mapledale Plaza
END:VEVENT
END:VCALENDAR