BEGIN:VCALENDAR
VERSION:2.0
PRODID:-//Yi Champions Taekwondo Academy - ECPv6.15.13//NONSGML v1.0//EN
CALSCALE:GREGORIAN
METHOD:PUBLISH
X-WR-CALNAME:Yi Champions Taekwondo Academy
X-ORIGINAL-URL:https://www.yctaekwondo.com
X-WR-CALDESC:Events for Yi Champions Taekwondo Academy
REFRESH-INTERVAL;VALUE=DURATION:PT1H
X-Robots-Tag:noindex
X-PUBLISHED-TTL:PT1H
BEGIN:VTIMEZONE
TZID:America/New_York
BEGIN:DAYLIGHT
TZOFFSETFROM:-0500
TZOFFSETTO:-0400
TZNAME:EDT
DTSTART:20230312T070000
END:DAYLIGHT
BEGIN:STANDARD
TZOFFSETFROM:-0400
TZOFFSETTO:-0500
TZNAME:EST
DTSTART:20231105T060000
END:STANDARD
BEGIN:DAYLIGHT
TZOFFSETFROM:-0500
TZOFFSETTO:-0400
TZNAME:EDT
DTSTART:20240310T070000
END:DAYLIGHT
BEGIN:STANDARD
TZOFFSETFROM:-0400
TZOFFSETTO:-0500
TZNAME:EST
DTSTART:20241103T060000
END:STANDARD
BEGIN:DAYLIGHT
TZOFFSETFROM:-0500
TZOFFSETTO:-0400
TZNAME:EDT
DTSTART:20250309T070000
END:DAYLIGHT
BEGIN:STANDARD
TZOFFSETFROM:-0400
TZOFFSETTO:-0500
TZNAME:EST
DTSTART:20251102T060000
END:STANDARD
BEGIN:DAYLIGHT
TZOFFSETFROM:-0500
TZOFFSETTO:-0400
TZNAME:EDT
DTSTART:20260308T070000
END:DAYLIGHT
BEGIN:STANDARD
TZOFFSETFROM:-0400
TZOFFSETTO:-0500
TZNAME:EST
DTSTART:20261101T060000
END:STANDARD
END:VTIMEZONE
BEGIN:VEVENT
DTSTART;VALUE=DATE:20241223
DTEND;VALUE=DATE:20250105
DTSTAMP:20260422T235052
CREATED:20240515T014751Z
LAST-MODIFIED:20240515T014751Z
UID:5203-1734912000-1736035199@www.yctaekwondo.com
SUMMARY:Modified Class Schedule
DESCRIPTION:
URL:https://www.yctaekwondo.com/event/modified-class-schedule/
CATEGORIES:Manassas Park,Mapledale Plaza
END:VEVENT
BEGIN:VEVENT
DTSTART;VALUE=DATE:20241231
DTEND;VALUE=DATE:20250102
DTSTAMP:20260422T235052
CREATED:20240515T015043Z
LAST-MODIFIED:20241024T175147Z
UID:5207-1735603200-1735775999@www.yctaekwondo.com
SUMMARY:Dojang will be closed (New Year's Eve and New Year's Day)
DESCRIPTION:
URL:https://www.yctaekwondo.com/event/dojang-will-be-closed-new-years-eve-and-new-years-day/
CATEGORIES:Manassas Park,Mapledale Plaza
END:VEVENT
BEGIN:VEVENT
DTSTART;VALUE=DATE:20250102
DTEND;VALUE=DATE:20250104
DTSTAMP:20260422T235052
CREATED:20241028T142714Z
LAST-MODIFIED:20241028T142714Z
UID:5314-1735776000-1735948799@www.yctaekwondo.com
SUMMARY:2024 Winter Camp Week 2 ( 12/30 & 01/02-03)
DESCRIPTION:
URL:https://www.yctaekwondo.com/event/2024-winter-camp-week-2-12-30-01-02-03/
CATEGORIES:Manassas Park,Mapledale Plaza
END:VEVENT
BEGIN:VEVENT
DTSTART;VALUE=DATE:20250120
DTEND;VALUE=DATE:20250121
DTSTAMP:20260422T235052
CREATED:20250115T134522Z
LAST-MODIFIED:20250115T134522Z
UID:5351-1737331200-1737417599@www.yctaekwondo.com
SUMMARY:No Classes (MLK Day)
DESCRIPTION:Only Fitness Class @ 10am \n**No Evening Classes**
URL:https://www.yctaekwondo.com/event/no-classes-mlk-day/
CATEGORIES:Manassas Park
END:VEVENT
BEGIN:VEVENT
DTSTART;TZID=America/New_York:20250120T100000
DTEND;TZID=America/New_York:20250120T140000
DTSTAMP:20260422T235052
CREATED:20250115T034253Z
LAST-MODIFIED:20250115T034253Z
UID:5323-1737367200-1737381600@www.yctaekwondo.com
SUMMARY:Early Classes (MLK Day)
DESCRIPTION:Early Class Schedule \n** No evening classes** \n10:00 am – All Black Belts and Bodan \n11:00 am – Blue Belt to Red Belt \n12:00 pm – White Belt and Purple Belt \n** Business Hours – 10am to 2pm **
URL:https://www.yctaekwondo.com/event/early-classes-mlk-day/
CATEGORIES:Mapledale Plaza
END:VEVENT
BEGIN:VEVENT
DTSTART;VALUE=DATE:20250121
DTEND;VALUE=DATE:20250122
DTSTAMP:20260422T235052
CREATED:20250115T134603Z
LAST-MODIFIED:20250115T134603Z
UID:5353-1737417600-1737503999@www.yctaekwondo.com
SUMMARY:Fun Day Daily Camp - No School Day
DESCRIPTION:
URL:https://www.yctaekwondo.com/event/fun-day-daily-camp-no-school-day-5/
CATEGORIES:Manassas Park
END:VEVENT
BEGIN:VEVENT
DTSTART;VALUE=DATE:20250121
DTEND;VALUE=DATE:20250123
DTSTAMP:20260422T235052
CREATED:20250115T034406Z
LAST-MODIFIED:20250115T034406Z
UID:5325-1737417600-1737590399@www.yctaekwondo.com
SUMMARY:Fun Day Daily Camp - No School Day
DESCRIPTION:
URL:https://www.yctaekwondo.com/event/fun-day-daily-camp-no-school-day-4/
CATEGORIES:Mapledale Plaza
END:VEVENT
BEGIN:VEVENT
DTSTART;VALUE=DATE:20250131
DTEND;VALUE=DATE:20250201
DTSTAMP:20260422T235052
CREATED:20250115T134802Z
LAST-MODIFIED:20250115T134802Z
UID:5355-1738281600-1738367999@www.yctaekwondo.com
SUMMARY:4th Next 1st Dan Black Belt Group - Preliminary Exam (Bo Dan Group)
DESCRIPTION:
URL:https://www.yctaekwondo.com/event/4th-next-1st-dan-black-belt-group-preliminary-exam-bo-dan-group/
CATEGORIES:Manassas Park
END:VEVENT
END:VCALENDAR