BEGIN:VCALENDAR
VERSION:2.0
PRODID:-//Yi Champions Taekwondo Academy - ECPv6.15.13//NONSGML v1.0//EN
CALSCALE:GREGORIAN
METHOD:PUBLISH
X-WR-CALNAME:Yi Champions Taekwondo Academy
X-ORIGINAL-URL:https://www.yctaekwondo.com
X-WR-CALDESC:Events for Yi Champions Taekwondo Academy
REFRESH-INTERVAL;VALUE=DURATION:PT1H
X-Robots-Tag:noindex
X-PUBLISHED-TTL:PT1H
BEGIN:VTIMEZONE
TZID:America/New_York
BEGIN:DAYLIGHT
TZOFFSETFROM:-0500
TZOFFSETTO:-0400
TZNAME:EDT
DTSTART:20250309T070000
END:DAYLIGHT
BEGIN:STANDARD
TZOFFSETFROM:-0400
TZOFFSETTO:-0500
TZNAME:EST
DTSTART:20251102T060000
END:STANDARD
BEGIN:DAYLIGHT
TZOFFSETFROM:-0500
TZOFFSETTO:-0400
TZNAME:EDT
DTSTART:20260308T070000
END:DAYLIGHT
BEGIN:STANDARD
TZOFFSETFROM:-0400
TZOFFSETTO:-0500
TZNAME:EST
DTSTART:20261101T060000
END:STANDARD
BEGIN:DAYLIGHT
TZOFFSETFROM:-0500
TZOFFSETTO:-0400
TZNAME:EDT
DTSTART:20270314T070000
END:DAYLIGHT
BEGIN:STANDARD
TZOFFSETFROM:-0400
TZOFFSETTO:-0500
TZNAME:EST
DTSTART:20271107T060000
END:STANDARD
END:VTIMEZONE
BEGIN:VEVENT
DTSTART;VALUE=DATE:20260601
DTEND;VALUE=DATE:20260602
DTSTAMP:20260420T041701
CREATED:20260131T162945Z
LAST-MODIFIED:20260131T162945Z
UID:6076-1780272000-1780358399@www.yctaekwondo.com
SUMMARY:2026-27 After School Registration OPEN
DESCRIPTION:
URL:https://www.yctaekwondo.com/event/2026-27-after-school-registration-open/
CATEGORIES:Manassas Park,Mapledale Plaza
END:VEVENT
BEGIN:VEVENT
DTSTART;TZID=America/New_York:20260605T180000
DTEND;TZID=America/New_York:20260605T203000
DTSTAMP:20260420T041701
CREATED:20260131T155643Z
LAST-MODIFIED:20260131T155643Z
UID:6036-1780682400-1780691400@www.yctaekwondo.com
SUMMARY:8th Preliminary Exam for next Black Belt Exam
DESCRIPTION:
URL:https://www.yctaekwondo.com/event/8th-preliminary-exam-for-next-black-belt-exam/
CATEGORIES:Manassas Park
END:VEVENT
BEGIN:VEVENT
DTSTART;TZID=America/New_York:20260606T110000
DTEND;TZID=America/New_York:20260606T130000
DTSTAMP:20260420T041701
CREATED:20260131T155735Z
LAST-MODIFIED:20260131T155735Z
UID:6038-1780743600-1780750800@www.yctaekwondo.com
SUMMARY:48th Preliminary Exam for next Black Belt Exam
DESCRIPTION:
URL:https://www.yctaekwondo.com/event/48th-preliminary-exam-for-next-black-belt-exam/
CATEGORIES:Mapledale Plaza
END:VEVENT
BEGIN:VEVENT
DTSTART;VALUE=DATE:20260610
DTEND;VALUE=DATE:20260612
DTSTAMP:20260420T041701
CREATED:20260131T160014Z
LAST-MODIFIED:20260131T160014Z
UID:6040-1781049600-1781222399@www.yctaekwondo.com
SUMMARY:All Color Belts Exam
DESCRIPTION:** Belt Ceremony will be held right after each exam** 
URL:https://www.yctaekwondo.com/event/all-color-belts-exam-21/
CATEGORIES:Manassas Park
END:VEVENT
BEGIN:VEVENT
DTSTART;VALUE=DATE:20260612
DTEND;VALUE=DATE:20260614
DTSTAMP:20260420T041701
CREATED:20260131T160220Z
LAST-MODIFIED:20260131T160220Z
UID:6042-1781222400-1781395199@www.yctaekwondo.com
SUMMARY:All Color Belts Exam
DESCRIPTION:** Belt Ceremony will be held right after each exam** 
URL:https://www.yctaekwondo.com/event/all-color-belts-exam-22/
CATEGORIES:Mapledale Plaza
END:VEVENT
BEGIN:VEVENT
DTSTART;VALUE=DATE:20260615
DTEND;VALUE=DATE:20260616
DTSTAMP:20260420T041701
CREATED:20260131T160538Z
LAST-MODIFIED:20260131T160538Z
UID:6044-1781481600-1781567999@www.yctaekwondo.com
SUMMARY:Wk 1 - Summer Camp
DESCRIPTION:
URL:https://www.yctaekwondo.com/event/wk-1-summer-camp/
CATEGORIES:Manassas Park,Mapledale Plaza
END:VEVENT
BEGIN:VEVENT
DTSTART;VALUE=DATE:20260615
DTEND;VALUE=DATE:20260616
DTSTAMP:20260420T041701
CREATED:20260131T163029Z
LAST-MODIFIED:20260131T163029Z
UID:6078-1781481600-1781567999@www.yctaekwondo.com
SUMMARY:2026-27 After School Registration OPEN
DESCRIPTION:
URL:https://www.yctaekwondo.com/event/2026-27-after-school-registration-open-2/
CATEGORIES:Manassas Park,Mapledale Plaza
END:VEVENT
BEGIN:VEVENT
DTSTART;VALUE=DATE:20260622
DTEND;VALUE=DATE:20260623
DTSTAMP:20260420T041701
CREATED:20260131T160619Z
LAST-MODIFIED:20260131T160619Z
UID:6047-1782086400-1782172799@www.yctaekwondo.com
SUMMARY:Wk 2 - Summer Camp
DESCRIPTION:
URL:https://www.yctaekwondo.com/event/wk-2-summer-camp/
CATEGORIES:Manassas Park,Mapledale Plaza
END:VEVENT
BEGIN:VEVENT
DTSTART;TZID=America/New_York:20260627T090000
DTEND;TZID=America/New_York:20260627T100000
DTSTAMP:20260420T041701
CREATED:20260131T165353Z
LAST-MODIFIED:20260131T165353Z
UID:6090-1782550800-1782554400@www.yctaekwondo.com
SUMMARY:Next Black Belt Exam -Running Test @ Woodbridge
DESCRIPTION:Both Woodbridge and Manassas Location will run together at the Woodbridge Dojang.
URL:https://www.yctaekwondo.com/event/next-black-belt-exam-running-test-woodbridge/
CATEGORIES:Manassas Park,Mapledale Plaza
END:VEVENT
BEGIN:VEVENT
DTSTART;VALUE=DATE:20260629
DTEND;VALUE=DATE:20260630
DTSTAMP:20260420T041701
CREATED:20260131T160702Z
LAST-MODIFIED:20260131T160702Z
UID:6049-1782691200-1782777599@www.yctaekwondo.com
SUMMARY:Wk 3 - Summer Camp
DESCRIPTION:
URL:https://www.yctaekwondo.com/event/wk-3-summer-camp/
CATEGORIES:Manassas Park,Mapledale Plaza
END:VEVENT
BEGIN:VEVENT
DTSTART;VALUE=DATE:20260629
DTEND;VALUE=DATE:20260630
DTSTAMP:20260420T041701
CREATED:20260131T163119Z
LAST-MODIFIED:20260131T163119Z
UID:6080-1782691200-1782777599@www.yctaekwondo.com
SUMMARY:2026-27 After School Registration OPEN
DESCRIPTION:
URL:https://www.yctaekwondo.com/event/2026-27-after-school-registration-open-3/
CATEGORIES:Manassas Park,Mapledale Plaza
END:VEVENT
END:VCALENDAR